PDS_VERSION_ID = PDS3
/* FILE DATA ELEMENTS */
RECORD_TYPE = UNDEFINED
/* POINTERS TO DATA OBJECTS */
^IMAGE = ("HP311_0000_RE4.TIF")
/* IDENTIFICATION DATA ELEMENTS */
DATA_SET_ID = "MEX-M-HRSC-4-REFDR-MAPPROJECT-EXT9-V4.0"
DATA_SET_NAME = "MARS EXPRESS HRSC MAP PROJECTED REFDR EXTENSION9 V4.0"
DETECTOR_ID = MEX_HRSC_RED
EVENT_TYPE = "MARS-LOCAL-MAPPING-Im-Eo-At"
INSTRUMENT_HOST_ID = MEX
INSTRUMENT_HOST_NAME = "MARS EXPRESS"
INSTRUMENT_ID = HRSC
INSTRUMENT_NAME = "HIGH RESOLUTION STEREO CAMERA"
MISSION_NAME = "MARS EXPRESS"
MISSION_PHASE_NAME = ME_Phase_50
PROCESSING_LEVEL_ID = 4
PRODUCT_CREATION_TIME = 2024-08-19T08:57:25.000Z
PRODUCT_ID = "HP311_0000_RE4.TIF"
RELEASE_ID = 0011
REVISION_ID = 0000
/* QUALITY DATA ELEMENTS */
DATA_QUALITY_ID = 1
DATA_QUALITY_DESC = "Data calculated based on original SPICE kernels"
/* TIME DATA ELEMENTS */
SPACECRAFT_CLOCK_START_COUNT = "1/0653655407.64153"
SPACECRAFT_CLOCK_STOP_COUNT = "1/0653655679.15183"
START_TIME = 2024-01-18T10:57:40.091Z
STOP_TIME = 2024-01-18T11:01:02.616Z
/* ORBITAL DATA ELEMENTS */
ASCENDING_NODE_LONGITUDE = 104.46
MAXIMUM_RESOLUTION = 0.059
FOOTPRINT_POINT_LATITUDE = (-60.4722,-60.4437,-60.4084,-60.3513, -60.3498,-60.278,-59.6387,-59.1272, -58.8711,-58.6148,-58.2301,-57.9729, -57.5875,-57.2004,-56.9427,-56.5526, -56.1633,-55.9037,-55.5096,-55.246, -54.9858,-54.5957,-54.2039,-53.9445, -53.6871,-53.3001,-52.9079,-52.6461, -52.3844,-52.122,-51.8604,-51.5979, -51.3353,-50.9424,-50.6801,-50.4194, -50.1571,-49.8932,-49.6301,-49.235, -48.9706,-48.7069,-48.4425,-48.0466, -47.6506,-47.3866,-47.2545,-47.2459, -47.287,-47.3168,-47.3174,-47.3184, -47.5828,-47.847,-48.1118,-48.3769, -48.6406,-48.8987,-49.1618,-49.4261, -49.6946,-49.9617,-50.3566,-50.6201, -50.8838,-51.1471,-51.4107,-51.8059, -52.0688,-52.3318,-52.5945,-52.8578, -53.1202,-53.5137,-53.7745,-54.0362, -54.2986,-54.6928,-54.9544,-55.2154, -55.4754,-55.7366,-55.9984,-56.2587, -56.5192,-56.7793,-57.0389,-57.2996, -57.5599,-57.8192,-58.2078,-58.4666, -58.7246,-58.9835,-59.4974,-59.7556, -60.0134,-60.2707,-60.3992,-60.4722)
FOOTPRINT_POINT_LONGITUDE = (13.9044,13.2101,12.4665,11.4388, 11.4153,11.355,11.4883,11.5908,11.6406, 11.6892,11.7605,11.8065,11.8742,11.939, 11.9816,12.0414,12.1003,12.1386,12.1915 ,12.2253,12.2609,12.3134,12.3633, 12.3971,12.4317,12.4819,12.5272,12.5564 ,12.5852,12.6129,12.6408,12.6674, 12.6936,12.7324,12.7575,12.7832,12.8073 ,12.8299,12.8525,12.8853,12.906,12.9267 ,12.9464,12.9757,13.0041,13.0224, 13.0314,13.032,13.9701,14.8658,14.8829, 14.8886,14.8768,14.8649,14.8525,14.8397 ,14.8272,14.8164,14.8036,14.7901, 14.7749,14.7599,14.7388,14.7244,14.7096 ,14.6946,14.6792,14.6556,14.6397, 14.6234,14.6069,14.5898,14.5727,14.5464 ,14.529,14.5109,14.4921,14.4628,14.4433 ,14.4236,14.4039,14.3833,14.3619, 14.3408,14.319,14.297,14.2746,14.2513, 14.2276,14.2039,14.1673,14.1424,14.1173 ,14.0912,14.039,14.0113,13.9832,13.9547 ,13.9402,13.9044)
ORBIT_NUMBER = 25311
ORBITAL_ECCENTRICITY = 0.574
ORBITAL_INCLINATION = 87.06
ORBITAL_SEMIMAJOR_AXIS = 8784.71
PERIAPSIS_ALTITUDE = 355.83
PERIAPSIS_ARGUMENT_ANGLE = 304.6
PERIAPSIS_TIME = 2024-01-18T10:59:27.000Z
SPACECRAFT_ORIENTATION = (0.0,1.0,0.0)
^MEX_ORIENTATION_DESC = "MEX_ORIENTATION_DESC.TXT"
SPACECRAFT_POINTING_MODE = ACROSSTRACK
^MEX_POINTING_DESC = "MEX_POINTING_DESC.TXT"
RIGHT_ASCENSION = -1e+32
DECLINATION = -1e+32
OFFSET_ANGLE = 0.269
SPACECRAFT_SOLAR_DISTANCE = 2.18252e+08
TARGET_NAME = MARS
/* CAMERA DATA ELEMENTS */
DETECTOR_TEMPERATURE = 18.5744
FOCAL_PLANE_TEMPERATURE = 7.7677
INST_CMPRS_NAME = "DISCRETE COSINE TRANSFORMATION (DCT)"
INST_CMPRS_RATIO = 7.54984
INST_CMPRS_QUALITY = 0
INST_CMPRS_QUANTZ_TBL_ID = 0
INSTRUMENT_TEMPERATURE = 10.6223
LENS_TEMPERATURE = 8.7872
MACROPIXEL_SIZE = 4
MISSING_FRAMES = 0
PIXEL_SUBSAMPLING_FLAG = N
SIGNAL_CHAIN_ID = 2
/* RADIOMETRIC DATA ELEMENTS */
BANDWIDTH = 48.0
CENTER_FILTER_WAVELENGTH = 748.0
RADIANCE_OFFSET = 0.595773
RADIANCE_SCALING_FACTOR = 0.00459398
REFLECTANCE_SCALING_FACTOR = 0.00049938
MEX:REFLECTANCE_OFFSET = 0.0647625
/* IMAGE OBJECT DEFINITIONS */
OBJECT = IMAGE
  INTERCHANGE_FORMAT = BINARY
  LINES = 15570
  LINE_SAMPLES = 2445
  SAMPLE_TYPE = UNSIGNED_INTEGER
  SAMPLE_BITS = 8
  BANDS = 1
  BAND_STORAGE_TYPE = BAND_SEQUENTIAL
  MAXIMUM = 255
  MEAN = 118.825
  MINIMUM = 1
  STANDARD_DEVIATION = 61.4676
END_OBJECT = IMAGE
/* MAP OBJECT DEFINITIONS */
OBJECT = IMAGE_MAP_PROJECTION
  ^DATA_SET_MAP_PROJECTION_CATALOG= "DSMAP.CAT"
  A_AXIS_RADIUS = 3396.0
  B_AXIS_RADIUS = 3396.0
  C_AXIS_RADIUS = 3396.0
  CENTER_LATITUDE = 0.0
  CENTER_LONGITUDE = 13.0
  COORDINATE_SYSTEM_NAME = PLANETOGRAPHIC
  COORDINATE_SYSTEM_TYPE = "BODY-FIXED ROTATING"
  EASTERNMOST_LONGITUDE = 14.8886
  FIRST_STANDARD_PARALLEL = "N/A"
  LINE_FIRST_PIXEL = 1
  LINE_LAST_PIXEL = 15570
  LINE_PROJECTION_OFFSET = -56016.875
  MAP_PROJECTION_ROTATION = 0.0
  MAP_PROJECTION_TYPE = SINUSOIDAL
  MAP_RESOLUTION = 1185.42760773333
  MAP_SCALE = 0.05
  MAXIMUM_LATITUDE = -47.2459
  MINIMUM_LATITUDE = -60.4722
  POSITIVE_LONGITUDE_DIRECTION = EAST
  REFERENCE_LATITUDE = "N/A"
  REFERENCE_LONGITUDE = "N/A"
  SAMPLE_FIRST_PIXEL = 1
  SAMPLE_LAST_PIXEL = 2445
  SAMPLE_PROJECTION_OFFSET = 923.125
  SECOND_STANDARD_PARALLEL = "N/A"
  WESTERNMOST_LONGITUDE = 11.355
END_OBJECT = IMAGE_MAP_PROJECTION
END
