PDS_VERSION_ID = PDS3
/* FILE DATA ELEMENTS */
RECORD_TYPE = UNDEFINED
/* POINTERS TO DATA OBJECTS */
^IMAGE = ("HP300_0000_GR4.TIF")
/* IDENTIFICATION DATA ELEMENTS */
DATA_SET_ID = "MEX-M-HRSC-4-REFDR-MAPPROJECT-EXT9-V4.0"
DATA_SET_NAME = "MARS EXPRESS HRSC MAP PROJECTED REFDR EXTENSION9 V4.0"
DETECTOR_ID = MEX_HRSC_GREEN
EVENT_TYPE = "MARS-REGIONAL-MAPPING-Vo-Im"
INSTRUMENT_HOST_ID = MEX
INSTRUMENT_HOST_NAME = "MARS EXPRESS"
INSTRUMENT_ID = HRSC
INSTRUMENT_NAME = "HIGH RESOLUTION STEREO CAMERA"
MISSION_NAME = "MARS EXPRESS"
MISSION_PHASE_NAME = ME_Phase_50
PROCESSING_LEVEL_ID = 4
PRODUCT_CREATION_TIME = 2024-08-19T05:24:16.000Z
PRODUCT_ID = "HP300_0000_GR4.TIF"
RELEASE_ID = 0010
REVISION_ID = 0000
/* QUALITY DATA ELEMENTS */
DATA_QUALITY_ID = 1
DATA_QUALITY_DESC = "Data calculated based on original SPICE kernels"
/* TIME DATA ELEMENTS */
SPACECRAFT_CLOCK_START_COUNT = "1/0653378702.65110"
SPACECRAFT_CLOCK_STOP_COUNT = "1/0653379012.55550"
START_TIME = 2024-01-15T06:06:34.341Z
STOP_TIME = 2024-01-15T06:10:30.250Z
/* ORBITAL DATA ELEMENTS */
ASCENDING_NODE_LONGITUDE = 104.64
MAXIMUM_RESOLUTION = 0.0571
FOOTPRINT_POINT_LATITUDE = (-67.4765,-67.4223,-67.3745,-67.3348, -67.3331,-67.3413,-66.5984,-66.0026, -65.7042,-65.4055,-65.1065,-64.6573, -64.3577,-64.0576,-63.5989,-63.2982, -62.8465,-62.5451,-62.2435,-61.7907, -61.4886,-61.1862,-60.7325,-60.2702, -59.9672,-59.6641,-59.3609,-58.9058, -58.6022,-58.2987,-57.9949,-57.5393, -57.2354,-56.9314,-56.6274,-56.3233, -56.0192,-55.5629,-55.2587,-54.9545, -54.4983,-54.0417,-53.7374,-53.4332, -53.1289,-52.8246,-52.3681,-52.216, -52.1894,-52.21,-52.2283,-52.2459, -52.2463,-52.2475,-52.5527,-53.0107, -53.316,-53.6215,-53.9268,-54.2321, -54.69,-55.1481,-55.4532,-55.7585, -56.0639,-56.3692,-56.6746,-57.1325, -57.4378,-57.8955,-58.2007,-58.5059, -58.8109,-59.116,-59.5736,-59.8784, -60.3358,-60.6408,-61.1058,-61.41, -61.8663,-62.1703,-62.4742,-62.7779, -63.0813,-63.3844,-63.6875,-63.9986, -64.3013,-64.6037,-64.906,-65.208, -65.51,-65.8115,-66.113,-66.4142, -66.7153,-67.3163,-67.4664,-67.4765)
FOOTPRINT_POINT_LONGITUDE = (57.0,55.488,54.4001,53.6016,53.5697, 53.4884,53.7638,53.9691,54.0676,54.1631 ,54.2557,54.3907,54.4767,54.561,54.6855 ,54.7643,54.8794,54.9533,55.0254, 55.1291,55.1964,55.2618,55.3561,55.4483 ,55.5071,55.5635,55.6188,55.6985, 55.7503,55.7999,55.8487,55.9188,55.9638 ,56.0079,56.0507,56.0921,56.1321, 56.1909,56.2287,56.2649,56.3172,56.3687 ,56.4014,56.433,56.4641,56.4943,56.5385 ,56.5528,56.5551,57.1619,57.7896, 58.5712,58.5904,58.5967,58.5802,58.5547 ,58.5372,58.5196,58.5011,58.4821, 58.4524,58.4224,58.4008,58.3796,58.3582 ,58.3361,58.3137,58.2792,58.2559, 58.2191,58.1942,58.1692,58.1432,58.1172 ,58.0773,58.0496,58.0078,57.9799, 57.9345,57.9029,57.8553,57.8225,57.789, 57.7545,57.7184,57.6811,57.6433,57.6039 ,57.5643,57.5228,57.4809,57.4375, 57.3937,57.3479,57.3013,57.2535,57.2047 ,57.1013,57.0743,57.0)
ORBIT_NUMBER = 25300
ORBITAL_ECCENTRICITY = 0.575
ORBITAL_INCLINATION = 87.07
ORBITAL_SEMIMAJOR_AXIS = 8788.45
PERIAPSIS_ALTITUDE = 355.49
PERIAPSIS_ARGUMENT_ANGLE = 306.48
PERIAPSIS_TIME = 2024-01-15T06:10:07.000Z
SPACECRAFT_ORIENTATION = (0.0,1.0,0.0)
^MEX_ORIENTATION_DESC = "MEX_ORIENTATION_DESC.TXT"
SPACECRAFT_POINTING_MODE = NADIR
^MEX_POINTING_DESC = "MEX_POINTING_DESC.TXT"
RIGHT_ASCENSION = -1e+32
DECLINATION = -1e+32
OFFSET_ANGLE = -1e+32
SPACECRAFT_SOLAR_DISTANCE = 2.18834e+08
TARGET_NAME = MARS
/* CAMERA DATA ELEMENTS */
DETECTOR_TEMPERATURE = 17.9627
FOCAL_PLANE_TEMPERATURE = 7.3599
INST_CMPRS_NAME = "DISCRETE COSINE TRANSFORMATION (DCT)"
INST_CMPRS_RATIO = 6.91774
INST_CMPRS_QUALITY = 0
INST_CMPRS_QUANTZ_TBL_ID = 0
INSTRUMENT_TEMPERATURE = 11.0301
LENS_TEMPERATURE = 7.9716
MACROPIXEL_SIZE = 4
PIXEL_SUBSAMPLING_FLAG = N
SIGNAL_CHAIN_ID = 2
/* RADIOMETRIC DATA ELEMENTS */
BANDWIDTH = 88.0
CENTER_FILTER_WAVELENGTH = 538.0
RADIANCE_OFFSET = 0.987611
RADIANCE_SCALING_FACTOR = 0.00474861
REFLECTANCE_SCALING_FACTOR = 0.000195789
MEX:REFLECTANCE_OFFSET = 0.04072
/* IMAGE OBJECT DEFINITIONS */
OBJECT = IMAGE
  INTERCHANGE_FORMAT = BINARY
  LINES = 18165
  LINE_SAMPLES = 2711
  SAMPLE_TYPE = UNSIGNED_INTEGER
  SAMPLE_BITS = 8
  BANDS = 1
  BAND_STORAGE_TYPE = BAND_SEQUENTIAL
  MAXIMUM = 255
  MEAN = 165.835
  MINIMUM = 1
  STANDARD_DEVIATION = 74.3996
END_OBJECT = IMAGE
/* MAP OBJECT DEFINITIONS */
OBJECT = IMAGE_MAP_PROJECTION
  ^DATA_SET_MAP_PROJECTION_CATALOG= "DSMAP.CAT"
  A_AXIS_RADIUS = 3396.0
  B_AXIS_RADIUS = 3396.0
  C_AXIS_RADIUS = 3396.0
  CENTER_LATITUDE = 0.0
  CENTER_LONGITUDE = 57.0
  COORDINATE_SYSTEM_NAME = PLANETOGRAPHIC
  COORDINATE_SYSTEM_TYPE = "BODY-FIXED ROTATING"
  EASTERNMOST_LONGITUDE = 58.5967
  FIRST_STANDARD_PARALLEL = "N/A"
  LINE_FIRST_PIXEL = 1
  LINE_LAST_PIXEL = 18165
  LINE_PROJECTION_OFFSET = -61846.625
  MAP_PROJECTION_ROTATION = 0.0
  MAP_PROJECTION_TYPE = SINUSOIDAL
  MAP_RESOLUTION = 1185.42760773333
  MAP_SCALE = 0.05
  MAXIMUM_LATITUDE = -52.1894
  MINIMUM_LATITUDE = -67.4765
  POSITIVE_LONGITUDE_DIRECTION = EAST
  REFERENCE_LATITUDE = "N/A"
  REFERENCE_LONGITUDE = "N/A"
  SAMPLE_FIRST_PIXEL = 1
  SAMPLE_LAST_PIXEL = 2711
  SAMPLE_PROJECTION_OFFSET = 1584.375
  SECOND_STANDARD_PARALLEL = "N/A"
  WESTERNMOST_LONGITUDE = 53.4884
END_OBJECT = IMAGE_MAP_PROJECTION
END
