PDS_VERSION_ID = PDS3
/* FILE DATA ELEMENTS */
RECORD_TYPE = UNDEFINED
/* POINTERS TO DATA OBJECTS */
^IMAGE = ("HP300_0000_BL4.TIF")
/* IDENTIFICATION DATA ELEMENTS */
DATA_SET_ID = "MEX-M-HRSC-4-REFDR-MAPPROJECT-EXT9-V4.0"
DATA_SET_NAME = "MARS EXPRESS HRSC MAP PROJECTED REFDR EXTENSION9 V4.0"
DETECTOR_ID = MEX_HRSC_BLUE
EVENT_TYPE = "MARS-REGIONAL-MAPPING-Vo-Im"
INSTRUMENT_HOST_ID = MEX
INSTRUMENT_HOST_NAME = "MARS EXPRESS"
INSTRUMENT_ID = HRSC
INSTRUMENT_NAME = "HIGH RESOLUTION STEREO CAMERA"
MISSION_NAME = "MARS EXPRESS"
MISSION_PHASE_NAME = ME_Phase_50
PROCESSING_LEVEL_ID = 4
PRODUCT_CREATION_TIME = 2024-08-19T05:24:16.000Z
PRODUCT_ID = "HP300_0000_BL4.TIF"
RELEASE_ID = 0010
REVISION_ID = 0000
/* QUALITY DATA ELEMENTS */
DATA_QUALITY_ID = 1
DATA_QUALITY_DESC = "Data calculated based on original SPICE kernels"
/* TIME DATA ELEMENTS */
SPACECRAFT_CLOCK_START_COUNT = "1/0653378702.65110"
SPACECRAFT_CLOCK_STOP_COUNT = "1/0653379012.55550"
START_TIME = 2024-01-15T06:06:21.837Z
STOP_TIME = 2024-01-15T06:10:19.767Z
/* ORBITAL DATA ELEMENTS */
ASCENDING_NODE_LONGITUDE = 104.64
MAXIMUM_RESOLUTION = 0.0572
FOOTPRINT_POINT_LATITUDE = (-67.5118,-67.476,-67.4276,-67.3671, -67.3654,-67.3433,-66.7536,-66.1622, -65.5693,-65.2722,-64.9744,-64.6766, -64.3782,-64.0795,-63.7807,-63.4814, -63.1819,-62.8821,-62.5821,-62.2817, -61.8304,-61.5291,-61.2278,-60.775, -60.4727,-60.1703,-59.716,-59.4128, -58.9575,-58.6539,-58.3497,-58.0455, -57.741,-57.4362,-57.1312,-56.8262, -56.5209,-56.2153,-55.9094,-55.6038, -55.2978,-54.9916,-54.6849,-54.3786, -53.9192,-53.6125,-53.1523,-52.8455, -52.3854,-52.2319,-52.1603,-52.1989, -52.2162,-52.2165,-52.2176,-52.8335, -53.1414,-53.6029,-53.9108,-54.2185, -54.5262,-54.9875,-55.2952,-55.7563, -56.0633,-56.5238,-56.8305,-57.1372, -57.4436,-57.9031,-58.2091,-58.5149, -58.8206,-59.1259,-59.4309,-59.7359, -60.0406,-60.4968,-60.8008,-61.2567, -61.5604,-61.8637,-62.1667,-62.4696, -62.7722,-63.0747,-63.528,-63.8297, -64.1312,-64.4323,-64.7333,-65.034, -65.3342,-65.6342,-66.0836,-66.3827, -66.6813,-67.278,-67.427,-67.5118)
FOOTPRINT_POINT_LONGITUDE = (57.016,55.972,54.8021,53.5723,53.54, 53.4694,53.6908,53.8996,54.0976,54.1921 ,54.2832,54.3729,54.4593,54.5439, 54.6265,54.7066,54.7849,54.8614,54.9359 ,55.0084,55.113,55.1804,55.2466,55.3419 ,55.4031,55.463,55.5495,55.6053,55.6861 ,55.7384,55.7887,55.8381,55.8859, 55.9324,55.9775,56.0217,56.0644,56.1059 ,56.1457,56.1856,56.224,56.2609,56.2962 ,56.3316,56.3836,56.4162,56.4638, 56.4945,56.5395,56.554,56.5607,57.8118, 58.5728,58.592,58.5983,58.565,58.5479, 58.5218,58.5034,58.4846,58.4653,58.4357 ,58.4146,58.3829,58.3618,58.3288, 58.3065,58.2835,58.2604,58.2241,58.1994 ,58.1747,58.1489,58.1234,58.0974, 58.0705,58.0431,58.0023,57.974,57.9289, 57.8979,57.8666,57.8346,57.8016,57.7678 ,57.7323,57.6773,57.64,57.6018,57.5625, 57.5216,57.4797,57.4373,57.3936,57.3254 ,57.2788,57.2316,57.1309,57.1047, 57.016)
ORBIT_NUMBER = 25300
ORBITAL_ECCENTRICITY = 0.575
ORBITAL_INCLINATION = 87.07
ORBITAL_SEMIMAJOR_AXIS = 8788.45
PERIAPSIS_ALTITUDE = 355.49
PERIAPSIS_ARGUMENT_ANGLE = 306.48
PERIAPSIS_TIME = 2024-01-15T06:10:07.000Z
SPACECRAFT_ORIENTATION = (0.0,1.0,0.0)
^MEX_ORIENTATION_DESC = "MEX_ORIENTATION_DESC.TXT"
SPACECRAFT_POINTING_MODE = NADIR
^MEX_POINTING_DESC = "MEX_POINTING_DESC.TXT"
RIGHT_ASCENSION = -1e+32
DECLINATION = -1e+32
OFFSET_ANGLE = -1e+32
SPACECRAFT_SOLAR_DISTANCE = 2.18834e+08
TARGET_NAME = MARS
/* CAMERA DATA ELEMENTS */
DETECTOR_TEMPERATURE = 17.9627
FOCAL_PLANE_TEMPERATURE = 7.3599
INST_CMPRS_NAME = "DISCRETE COSINE TRANSFORMATION (DCT)"
INST_CMPRS_RATIO = 7.80891
INST_CMPRS_QUALITY = 0
INST_CMPRS_QUANTZ_TBL_ID = 0
INSTRUMENT_TEMPERATURE = 11.0301
LENS_TEMPERATURE = 7.9716
MACROPIXEL_SIZE = 4
MISSING_FRAMES = 0
PIXEL_SUBSAMPLING_FLAG = N
SIGNAL_CHAIN_ID = 2
/* RADIOMETRIC DATA ELEMENTS */
BANDWIDTH = 76.0
CENTER_FILTER_WAVELENGTH = 444.0
RADIANCE_OFFSET = 0.42416
RADIANCE_SCALING_FACTOR = 0.00184819
REFLECTANCE_SCALING_FACTOR = 9.0936e-05
MEX:REFLECTANCE_OFFSET = 0.0208698
/* IMAGE OBJECT DEFINITIONS */
OBJECT = IMAGE
  INTERCHANGE_FORMAT = BINARY
  LINES = 18165
  LINE_SAMPLES = 2711
  SAMPLE_TYPE = UNSIGNED_INTEGER
  SAMPLE_BITS = 8
  BANDS = 1
  BAND_STORAGE_TYPE = BAND_SEQUENTIAL
  MAXIMUM = 255
  MEAN = 202.409
  MINIMUM = 1
  STANDARD_DEVIATION = 74.6274
END_OBJECT = IMAGE
/* MAP OBJECT DEFINITIONS */
OBJECT = IMAGE_MAP_PROJECTION
  ^DATA_SET_MAP_PROJECTION_CATALOG= "DSMAP.CAT"
  A_AXIS_RADIUS = 3396.0
  B_AXIS_RADIUS = 3396.0
  C_AXIS_RADIUS = 3396.0
  CENTER_LATITUDE = 0.0
  CENTER_LONGITUDE = 57.0
  COORDINATE_SYSTEM_NAME = PLANETOGRAPHIC
  COORDINATE_SYSTEM_TYPE = "BODY-FIXED ROTATING"
  EASTERNMOST_LONGITUDE = 58.5983
  FIRST_STANDARD_PARALLEL = "N/A"
  LINE_FIRST_PIXEL = 1
  LINE_LAST_PIXEL = 18165
  LINE_PROJECTION_OFFSET = -61846.625
  MAP_PROJECTION_ROTATION = 0.0
  MAP_PROJECTION_TYPE = SINUSOIDAL
  MAP_RESOLUTION = 1185.42760773333
  MAP_SCALE = 0.05
  MAXIMUM_LATITUDE = -52.1603
  MINIMUM_LATITUDE = -67.51179999999999
  POSITIVE_LONGITUDE_DIRECTION = EAST
  REFERENCE_LATITUDE = "N/A"
  REFERENCE_LONGITUDE = "N/A"
  SAMPLE_FIRST_PIXEL = 1
  SAMPLE_LAST_PIXEL = 2711
  SAMPLE_PROJECTION_OFFSET = 1584.375
  SECOND_STANDARD_PARALLEL = "N/A"
  WESTERNMOST_LONGITUDE = 53.4694
END_OBJECT = IMAGE_MAP_PROJECTION
END
