PDS_VERSION_ID = PDS3
/* FILE DATA ELEMENTS */
RECORD_TYPE = UNDEFINED
/* POINTERS TO DATA OBJECTS */
^IMAGE = ("HP295_0000_S24.TIF")
/* IDENTIFICATION DATA ELEMENTS */
DATA_SET_ID = "MEX-M-HRSC-4-REFDR-MAPPROJECT-EXT9-V4.0"
DATA_SET_NAME = "MARS EXPRESS HRSC MAP PROJECTED REFDR EXTENSION9 V4.0"
DETECTOR_ID = MEX_HRSC_S2
EVENT_TYPE = "MARS-REGIONAL-STEREO-Im-Fl-Gl"
INSTRUMENT_HOST_ID = MEX
INSTRUMENT_HOST_NAME = "MARS EXPRESS"
INSTRUMENT_ID = HRSC
INSTRUMENT_NAME = "HIGH RESOLUTION STEREO CAMERA"
MISSION_NAME = "MARS EXPRESS"
MISSION_PHASE_NAME = ME_Phase_50
PROCESSING_LEVEL_ID = 4
PRODUCT_CREATION_TIME = 2024-08-19T05:24:16.000Z
PRODUCT_ID = "HP295_0000_S24.TIF"
RELEASE_ID = 0010
REVISION_ID = 0000
/* QUALITY DATA ELEMENTS */
DATA_QUALITY_ID = 1
DATA_QUALITY_DESC = "Data calculated based on original SPICE kernels"
/* TIME DATA ELEMENTS */
SPACECRAFT_CLOCK_START_COUNT = "1/0653253239.64154"
SPACECRAFT_CLOCK_STOP_COUNT = "1/0653253541.15328"
START_TIME = 2024-01-13T19:14:46.192Z
STOP_TIME = 2024-01-13T19:18:30.166Z
/* ORBITAL DATA ELEMENTS */
ASCENDING_NODE_LONGITUDE = 104.73
MAXIMUM_RESOLUTION = 0.03
FOOTPRINT_POINT_LATITUDE = (-50.8995,-50.8839,-50.8649,-50.8355, -50.8347,-50.7706,-50.358,-50.0813, -49.8101,-49.5356,-49.2566,-48.7103, -48.4362,-48.1592,-47.7446,-47.4582, -47.1809,-46.7657,-46.218,-45.7949, -45.3812,-44.9642,-44.6859,-44.2694, -43.9929,-43.714,-43.4336,-43.0139, -42.7339,-42.4532,-42.1731,-41.753, -41.4736,-41.1941,-40.9154,-40.6363, -40.3379,-40.0045,-39.6703,-39.3358, -39.0026,-38.5037,-38.1663,-37.6631, -37.1629,-36.8289,-36.3282,-36.1615, -36.1335,-36.1446,-36.1537,-36.1595, -36.1634,-36.1636,-36.1641,-36.6655, -36.9997,-37.3342,-37.6685,-38.0033, -38.3377,-38.6734,-39.1731,-39.6785, -40.181,-40.5111,-40.7921,-41.0724, -41.4927,-41.7725,-42.0531,-42.3338, -42.6111,-42.8929,-43.1726,-43.4526, -43.7334,-44.015,-44.4317,-44.7104, -44.9896,-45.27,-45.5482,-45.8221, -46.1016,-46.5252,-46.8036,-47.0829, -47.3626,-47.9065,-48.1847,-48.4694, -48.883,-49.2976,-49.5739,-49.9884, -50.2647,-50.6793,-50.8175,-50.8995)
FOOTPRINT_POINT_LONGITUDE = (209.168,208.577,208.004,207.28,207.262 ,207.228,207.265,207.288,207.313, 207.336,207.357,207.402,207.424,207.444 ,207.473,207.488,207.506,207.533,207.57 ,207.591,207.616,207.638,207.653, 207.674,207.688,207.701,207.713,207.73, 207.741,207.752,207.762,207.777,207.787 ,207.797,207.806,207.815,207.824, 207.834,207.843,207.852,207.861,207.873 ,207.879,207.888,207.898,207.903, 207.911,207.913,207.914,208.344,208.79, 209.203,209.599,209.615,209.621,209.613 ,209.607,209.601,209.595,209.588, 209.582,209.575,209.566,209.554,209.543 ,209.535,209.529,209.522,209.512, 209.505,209.498,209.49,209.484,209.476, 209.468,209.461,209.452,209.444,209.432 ,209.424,209.415,209.406,209.398, 209.391,209.381,209.365,209.355,209.345 ,209.334,209.318,209.308,209.294, 209.278,209.262,209.25,209.233,209.221, 209.202,209.195,209.168)
ORBIT_NUMBER = 25295
ORBITAL_ECCENTRICITY = 0.574
ORBITAL_INCLINATION = 87.07
ORBITAL_SEMIMAJOR_AXIS = 8786.46
PERIAPSIS_ALTITUDE = 355.54
PERIAPSIS_ARGUMENT_ANGLE = 307.31
PERIAPSIS_TIME = 2024-01-13T19:14:51.000Z
SPACECRAFT_ORIENTATION = (0.0,1.0,0.0)
^MEX_ORIENTATION_DESC = "MEX_ORIENTATION_DESC.TXT"
SPACECRAFT_POINTING_MODE = ACROSSTRACK
^MEX_POINTING_DESC = "MEX_POINTING_DESC.TXT"
RIGHT_ASCENSION = -1e+32
DECLINATION = -1e+32
OFFSET_ANGLE = 0.1
SPACECRAFT_SOLAR_DISTANCE = 2.19101e+08
TARGET_NAME = MARS
/* CAMERA DATA ELEMENTS */
DETECTOR_TEMPERATURE = 18.1666
FOCAL_PLANE_TEMPERATURE = 7.7677
INST_CMPRS_NAME = "DISCRETE COSINE TRANSFORMATION (DCT)"
INST_CMPRS_RATIO = 11.5327
INST_CMPRS_QUALITY = 0
INST_CMPRS_QUANTZ_TBL_ID = 0
INSTRUMENT_TEMPERATURE = 11.0301
LENS_TEMPERATURE = 8.7872
MACROPIXEL_SIZE = 2
MISSING_FRAMES = 0
PIXEL_SUBSAMPLING_FLAG = N
SIGNAL_CHAIN_ID = 1
/* RADIOMETRIC DATA ELEMENTS */
BANDWIDTH = 178.0
CENTER_FILTER_WAVELENGTH = 679.0
RADIANCE_OFFSET = 3.00508
RADIANCE_SCALING_FACTOR = 0.009091
REFLECTANCE_SCALING_FACTOR = 0.000231116
MEX:REFLECTANCE_OFFSET = 0.0763967
/* IMAGE OBJECT DEFINITIONS */
OBJECT = IMAGE
  INTERCHANGE_FORMAT = BINARY
  LINES = 34788
  LINE_SAMPLES = 3874
  SAMPLE_TYPE = UNSIGNED_INTEGER
  SAMPLE_BITS = 8
  BANDS = 1
  BAND_STORAGE_TYPE = BAND_SEQUENTIAL
  MAXIMUM = 255
  MEAN = 98.0432
  MINIMUM = 1
  STANDARD_DEVIATION = 32.6429
END_OBJECT = IMAGE
/* MAP OBJECT DEFINITIONS */
OBJECT = IMAGE_MAP_PROJECTION
  ^DATA_SET_MAP_PROJECTION_CATALOG= "DSMAP.CAT"
  A_AXIS_RADIUS = 3396.0
  B_AXIS_RADIUS = 3396.0
  C_AXIS_RADIUS = 3396.0
  CENTER_LATITUDE = 0.0
  CENTER_LONGITUDE = 209.0
  COORDINATE_SYSTEM_NAME = PLANETOGRAPHIC
  COORDINATE_SYSTEM_TYPE = "BODY-FIXED ROTATING"
  EASTERNMOST_LONGITUDE = 209.621
  FIRST_STANDARD_PARALLEL = "N/A"
  LINE_FIRST_PIXEL = 1
  LINE_LAST_PIXEL = 34788
  LINE_PROJECTION_OFFSET = -85700.75
  MAP_PROJECTION_ROTATION = 0.0
  MAP_PROJECTION_TYPE = SINUSOIDAL
  MAP_RESOLUTION = 2370.85521546667
  MAP_SCALE = 0.025
  MAXIMUM_LATITUDE = -36.1335
  MINIMUM_LATITUDE = -50.8995
  POSITIVE_LONGITUDE_DIRECTION = EAST
  REFERENCE_LATITUDE = "N/A"
  REFERENCE_LONGITUDE = "N/A"
  SAMPLE_FIRST_PIXEL = 1
  SAMPLE_LAST_PIXEL = 3874
  SAMPLE_PROJECTION_OFFSET = 2632.75
  SECOND_STANDARD_PARALLEL = "N/A"
  WESTERNMOST_LONGITUDE = 207.228
END_OBJECT = IMAGE_MAP_PROJECTION
END
