PDS_VERSION_ID = PDS3
/* FILE DATA ELEMENTS */
RECORD_TYPE = UNDEFINED
/* POINTERS TO DATA OBJECTS */
^IMAGE = ("HP294_0000_S14.TIF")
/* IDENTIFICATION DATA ELEMENTS */
DATA_SET_ID = "MEX-M-HRSC-4-REFDR-MAPPROJECT-EXT9-V4.0"
DATA_SET_NAME = "MARS EXPRESS HRSC MAP PROJECTED REFDR EXTENSION9 V4.0"
DETECTOR_ID = MEX_HRSC_S1
EVENT_TYPE = "MARS-LOCAL-MAPPING-Im-Eo-At"
INSTRUMENT_HOST_ID = MEX
INSTRUMENT_HOST_NAME = "MARS EXPRESS"
INSTRUMENT_ID = HRSC
INSTRUMENT_NAME = "HIGH RESOLUTION STEREO CAMERA"
MISSION_NAME = "MARS EXPRESS"
MISSION_PHASE_NAME = ME_Phase_50
PROCESSING_LEVEL_ID = 4
PRODUCT_CREATION_TIME = 2024-08-19T05:24:16.000Z
PRODUCT_ID = "HP294_0000_S14.TIF"
RELEASE_ID = 0010
REVISION_ID = 0000
/* QUALITY DATA ELEMENTS */
DATA_QUALITY_ID = 1
DATA_QUALITY_DESC = "Data calculated based on original SPICE kernels"
/* TIME DATA ELEMENTS */
SPACECRAFT_CLOCK_START_COUNT = "1/0653228013.00352"
SPACECRAFT_CLOCK_STOP_COUNT = "1/0653228365.41216"
START_TIME = 2024-01-13T12:15:24.729Z
STOP_TIME = 2024-01-13T12:20:09.839Z
/* ORBITAL DATA ELEMENTS */
ASCENDING_NODE_LONGITUDE = 104.75
MAXIMUM_RESOLUTION = 0.0301
FOOTPRINT_POINT_LATITUDE = (-56.1948,-56.1841,-56.1703,-56.15, -56.1494,-56.2178,-55.8642,-55.3543, -55.0116,-54.6599,-54.3289,-53.9853, -53.6471,-53.3018,-52.7883,-52.2721, -51.9265,-51.5839,-51.2403,-50.8974, -50.5542,-50.2125,-49.8697,-49.5268, -49.1863,-48.6768,-48.1553,-47.8006, -47.1355,-46.7966,-46.2924,-45.9552, -45.4513,-45.1191,-44.757,-44.362, -43.961,-43.3596,-42.7565,-42.3528, -41.9616,-41.3838,-40.9962,-40.6049, -40.0183,-39.4251,-39.0274,-38.4511, -38.2584,-38.2288,-38.2272,-38.2192, -38.2147,-38.2145,-38.2149,-38.7898, -39.3964,-39.7881,-40.1664,-40.5684, -40.9527,-41.3542,-41.9495,-42.346, -42.7424,-43.1395,-43.5313,-43.9309, -44.3281,-44.7393,-45.1089,-45.4446, -45.9468,-46.6252,-46.9692,-47.3091, -47.8156,-48.3323,-48.6721,-49.0129, -49.3571,-49.8682,-50.2088,-50.5513, -50.8952,-51.2397,-51.7566,-52.2753, -52.6215,-53.1409,-53.4888,-53.8358, -54.18,-54.5253,-54.8719,-55.209, -55.564,-56.0849,-56.2567,-56.1948)
FOOTPRINT_POINT_LONGITUDE = (310.376,309.709,309.035,308.224, 308.203,308.118,308.18,308.246,308.293, 308.347,308.378,308.422,308.459,308.503 ,308.561,308.621,308.661,308.697, 308.733,308.768,308.803,308.835,308.868 ,308.9,308.929,308.971,309.022,309.062, 309.101,309.125,309.157,309.179,309.21, 309.227,309.251,309.27,309.293,309.327, 309.361,309.384,309.398,309.412,309.424 ,309.437,309.457,309.482,309.499, 309.512,309.516,309.517,310.089,310.849 ,311.321,311.338,311.344,311.326, 311.311,311.299,311.284,311.272,311.258 ,311.245,311.224,311.21,311.195,311.179 ,311.163,311.147,311.13,311.114,311.099 ,311.084,311.06,311.029,311.013,310.996 ,310.97,310.943,310.925,310.906,310.887 ,310.857,310.836,310.815,310.794, 310.772,310.738,310.703,310.679,310.642 ,310.616,310.59,310.563,310.535,310.507 ,310.477,310.448,310.402,310.386, 310.376)
ORBIT_NUMBER = 25294
ORBITAL_ECCENTRICITY = 0.574
ORBITAL_INCLINATION = 87.06
ORBITAL_SEMIMAJOR_AXIS = 8786.8
PERIAPSIS_ALTITUDE = 356.06
PERIAPSIS_ARGUMENT_ANGLE = 307.5
PERIAPSIS_TIME = 2024-01-13T12:15:53.000Z
SPACECRAFT_ORIENTATION = (0.0,1.0,0.0)
^MEX_ORIENTATION_DESC = "MEX_ORIENTATION_DESC.TXT"
SPACECRAFT_POINTING_MODE = ACROSSTRACK
^MEX_POINTING_DESC = "MEX_POINTING_DESC.TXT"
RIGHT_ASCENSION = -1e+32
DECLINATION = -1e+32
OFFSET_ANGLE = 0.417
SPACECRAFT_SOLAR_DISTANCE = 2.19155e+08
TARGET_NAME = MARS
/* CAMERA DATA ELEMENTS */
DETECTOR_TEMPERATURE = 16.9432
FOCAL_PLANE_TEMPERATURE = 7.5638
INST_CMPRS_NAME = "DISCRETE COSINE TRANSFORMATION (DCT)"
INST_CMPRS_RATIO = 9.24149
INST_CMPRS_QUALITY = 0
INST_CMPRS_QUANTZ_TBL_ID = 0
INSTRUMENT_TEMPERATURE = 10.8262
LENS_TEMPERATURE = 8.1755
MACROPIXEL_SIZE = 2
MISSING_FRAMES = 0
PIXEL_SUBSAMPLING_FLAG = N
SIGNAL_CHAIN_ID = 1
/* RADIOMETRIC DATA ELEMENTS */
BANDWIDTH = 180.0
CENTER_FILTER_WAVELENGTH = 677.0
RADIANCE_OFFSET = 2.72737
RADIANCE_SCALING_FACTOR = 0.010772
REFLECTANCE_SCALING_FACTOR = 0.000269922
MEX:REFLECTANCE_OFFSET = 0.068342
/* IMAGE OBJECT DEFINITIONS */
OBJECT = IMAGE
  INTERCHANGE_FORMAT = BINARY
  LINES = 42906
  LINE_SAMPLES = 4862
  SAMPLE_TYPE = UNSIGNED_INTEGER
  SAMPLE_BITS = 8
  BANDS = 1
  BAND_STORAGE_TYPE = BAND_SEQUENTIAL
  MAXIMUM = 255
  MEAN = 142.284
  MINIMUM = 1
  STANDARD_DEVIATION = 35.0923
END_OBJECT = IMAGE
/* MAP OBJECT DEFINITIONS */
OBJECT = IMAGE_MAP_PROJECTION
  ^DATA_SET_MAP_PROJECTION_CATALOG= "DSMAP.CAT"
  A_AXIS_RADIUS = 3396.0
  B_AXIS_RADIUS = 3396.0
  C_AXIS_RADIUS = 3396.0
  CENTER_LATITUDE = 0.0
  CENTER_LONGITUDE = 310.0
  COORDINATE_SYSTEM_NAME = PLANETOGRAPHIC
  COORDINATE_SYSTEM_TYPE = "BODY-FIXED ROTATING"
  EASTERNMOST_LONGITUDE = 311.344
  FIRST_STANDARD_PARALLEL = "N/A"
  LINE_FIRST_PIXEL = 1
  LINE_LAST_PIXEL = 42906
  LINE_PROJECTION_OFFSET = -90562.75
  MAP_PROJECTION_ROTATION = 0.0
  MAP_PROJECTION_TYPE = SINUSOIDAL
  MAP_RESOLUTION = 2370.85521546667
  MAP_SCALE = 0.025
  MAXIMUM_LATITUDE = -38.2145
  MINIMUM_LATITUDE = -56.2567
  POSITIVE_LONGITUDE_DIRECTION = EAST
  REFERENCE_LATITUDE = "N/A"
  REFERENCE_LONGITUDE = "N/A"
  SAMPLE_FIRST_PIXEL = 1
  SAMPLE_LAST_PIXEL = 4862
  SAMPLE_PROJECTION_OFFSET = 2427.75
  SECOND_STANDARD_PARALLEL = "N/A"
  WESTERNMOST_LONGITUDE = 308.118
END_OBJECT = IMAGE_MAP_PROJECTION
END
