PDS_VERSION_ID = PDS3
/* FILE DATA ELEMENTS */
RECORD_TYPE = UNDEFINED
/* POINTERS TO DATA OBJECTS */
^IMAGE = ("HP286_0000_S24.TIF")
/* IDENTIFICATION DATA ELEMENTS */
DATA_SET_ID = "MEX-M-HRSC-4-REFDR-MAPPROJECT-EXT9-V4.0"
DATA_SET_NAME = "MARS EXPRESS HRSC MAP PROJECTED REFDR EXTENSION9 V4.0"
DETECTOR_ID = MEX_HRSC_S2
EVENT_TYPE = "MARS-REGIONAL-MAPPING-Vo-Im"
INSTRUMENT_HOST_ID = MEX
INSTRUMENT_HOST_NAME = "MARS EXPRESS"
INSTRUMENT_ID = HRSC
INSTRUMENT_NAME = "HIGH RESOLUTION STEREO CAMERA"
MISSION_NAME = "MARS EXPRESS"
MISSION_PHASE_NAME = ME_Phase_50
PROCESSING_LEVEL_ID = 4
PRODUCT_CREATION_TIME = 2024-08-19T05:24:16.000Z
PRODUCT_ID = "HP286_0000_S24.TIF"
RELEASE_ID = 0010
REVISION_ID = 0000
/* QUALITY DATA ELEMENTS */
DATA_QUALITY_ID = 1
DATA_QUALITY_DESC = "Data calculated based on original SPICE kernels"
/* TIME DATA ELEMENTS */
SPACECRAFT_CLOCK_START_COUNT = "1/0653026665.00339"
SPACECRAFT_CLOCK_STOP_COUNT = "1/0653026966.00720"
START_TIME = 2024-01-11T04:18:31.162Z
STOP_TIME = 2024-01-11T04:22:25.637Z
/* ORBITAL DATA ELEMENTS */
ASCENDING_NODE_LONGITUDE = 104.89
MAXIMUM_RESOLUTION = 0.0307
FOOTPRINT_POINT_LATITUDE = (-67.5661,-67.5412,-67.509,-67.4668, -67.4653,-67.37,-66.9911,-66.7381, -66.4879,-66.2405,-65.9917,-65.7424, -65.4928,-65.1242,-64.7567,-64.3867, -64.1402,-63.6583,-63.1748,-62.5684, -62.3252,-62.0819,-61.8378,-61.4717, -61.2267,-60.9821,-60.7367,-60.3673, -60.1207,-57.9992,-57.6239,-57.248, -56.9975,-56.7457,-56.4932,-56.2413, -55.9888,-55.7368,-55.4837,-55.2301, -54.8499,-54.5962,-54.3422,-54.0877, -53.8331,-53.5784,-53.3231,-53.0679, -52.9399,-52.9349,-52.9452,-52.9466, -52.943,-52.9429,-52.9434,-53.3286, -53.584,-53.8397,-54.0962,-54.3519, -54.6082,-54.8625,-55.1171,-55.3722, -55.6265,-56.0066,-56.3871,-56.6407, -56.8934,-57.1457,-57.3974,-57.775, -58.0268,-60.1582,-60.4063,-60.7773, -61.0233,-61.2688,-61.5149,-61.8832, -62.1287,-62.373,-62.6177,-63.1062, -63.5929,-64.0782,-64.3253,-64.5745, -64.8233,-65.0728,-65.3199,-65.5691, -65.8226,-66.074,-66.326,-66.7029, -67.0872,-67.3438,-67.4716,-67.5661)
FOOTPRINT_POINT_LONGITUDE = (48.3665,46.9173,45.7146,44.5264, 44.4895,44.4816,44.6135,44.6987,44.7804 ,44.8596,44.9369,45.0124,45.0862, 45.1912,45.2924,45.3903,45.4537,45.5731 ,45.6874,45.8235,45.8759,45.9271, 45.9773,46.0505,46.098,46.1446,46.1901, 46.2565,46.2997,46.6328,46.6851,46.7358 ,46.7687,46.8009,46.8323,46.8631, 46.8932,46.9227,46.9516,46.9797,47.0209 ,47.0475,47.0736,47.0991,47.124,47.1484 ,47.1722,47.1955,47.207,47.2074,47.9796 ,48.4738,49.3093,49.3303,49.3378, 49.3255,49.3182,49.3103,49.3012,49.2923 ,49.2826,49.2743,49.2653,49.2554, 49.2458,49.2319,49.2166,49.2059,49.1955 ,49.185,49.1747,49.1582,49.1464,49.0451 ,49.0318,49.0117,48.9992,48.9865, 48.9725,48.9511,48.9359,48.9216,48.9059 ,48.8735,48.8399,48.8049,48.7845, 48.7643,48.7436,48.721,48.7006,48.6774, 48.6543,48.633,48.6099,48.5744,48.5364, 48.5103,48.4975,48.3665)
ORBIT_NUMBER = 25286
ORBITAL_ECCENTRICITY = 0.575
ORBITAL_INCLINATION = 87.06
ORBITAL_SEMIMAJOR_AXIS = 8792.73
PERIAPSIS_ALTITUDE = 356.02
PERIAPSIS_ARGUMENT_ANGLE = 308.85
PERIAPSIS_TIME = 2024-01-11T04:23:28.000Z
SPACECRAFT_ORIENTATION = (0.0,1.0,0.0)
^MEX_ORIENTATION_DESC = "MEX_ORIENTATION_DESC.TXT"
SPACECRAFT_POINTING_MODE = ACROSSTRACK
^MEX_POINTING_DESC = "MEX_POINTING_DESC.TXT"
RIGHT_ASCENSION = -1e+32
DECLINATION = -1e+32
OFFSET_ANGLE = -0.459
SPACECRAFT_SOLAR_DISTANCE = 2.19585e+08
TARGET_NAME = MARS
/* CAMERA DATA ELEMENTS */
DETECTOR_TEMPERATURE = 18.7783
FOCAL_PLANE_TEMPERATURE = 8.3794
INST_CMPRS_NAME = "DISCRETE COSINE TRANSFORMATION (DCT)"
INST_CMPRS_RATIO = 10.7839
INST_CMPRS_QUALITY = 0
INST_CMPRS_QUANTZ_TBL_ID = 0
INSTRUMENT_TEMPERATURE = 11.0301
LENS_TEMPERATURE = 8.5833
MACROPIXEL_SIZE = 2
MISSING_FRAMES = 509
PIXEL_SUBSAMPLING_FLAG = N
SIGNAL_CHAIN_ID = 1
/* RADIOMETRIC DATA ELEMENTS */
BANDWIDTH = 178.0
CENTER_FILTER_WAVELENGTH = 679.0
RADIANCE_OFFSET = 2.77972
RADIANCE_SCALING_FACTOR = 0.0128734
REFLECTANCE_SCALING_FACTOR = 0.000328724
MEX:REFLECTANCE_OFFSET = 0.0709806
/* IMAGE OBJECT DEFINITIONS */
OBJECT = IMAGE
  INTERCHANGE_FORMAT = BINARY
  LINES = 34493
  LINE_SAMPLES = 4880
  SAMPLE_TYPE = UNSIGNED_INTEGER
  SAMPLE_BITS = 8
  BANDS = 1
  BAND_STORAGE_TYPE = BAND_SEQUENTIAL
  MAXIMUM = 255
  MEAN = 107.978
  MINIMUM = 1
  STANDARD_DEVIATION = 38.5265
END_OBJECT = IMAGE
/* MAP OBJECT DEFINITIONS */
OBJECT = IMAGE_MAP_PROJECTION
  ^DATA_SET_MAP_PROJECTION_CATALOG= "DSMAP.CAT"
  A_AXIS_RADIUS = 3396.0
  B_AXIS_RADIUS = 3396.0
  C_AXIS_RADIUS = 3396.0
  CENTER_LATITUDE = 0.0
  CENTER_LONGITUDE = 48.0
  COORDINATE_SYSTEM_NAME = PLANETOGRAPHIC
  COORDINATE_SYSTEM_TYPE = "BODY-FIXED ROTATING"
  EASTERNMOST_LONGITUDE = 49.3378
  FIRST_STANDARD_PARALLEL = "N/A"
  LINE_FIRST_PIXEL = 1
  LINE_LAST_PIXEL = 34493
  LINE_PROJECTION_OFFSET = -125488.25
  MAP_PROJECTION_ROTATION = 0.0
  MAP_PROJECTION_TYPE = SINUSOIDAL
  MAP_RESOLUTION = 2370.85521546667
  MAP_SCALE = 0.025
  MAXIMUM_LATITUDE = -52.9349
  MINIMUM_LATITUDE = -67.56610000000001
  POSITIVE_LONGITUDE_DIRECTION = EAST
  REFERENCE_LATITUDE = "N/A"
  REFERENCE_LONGITUDE = "N/A"
  SAMPLE_FIRST_PIXEL = 1
  SAMPLE_LAST_PIXEL = 4880
  SAMPLE_PROJECTION_OFFSET = 3107.25
  SECOND_STANDARD_PARALLEL = "N/A"
  WESTERNMOST_LONGITUDE = 44.4816
END_OBJECT = IMAGE_MAP_PROJECTION
END
