PDS_VERSION_ID = PDS3
/* FILE DATA ELEMENTS */
RECORD_TYPE = UNDEFINED
/* POINTERS TO DATA OBJECTS */
^IMAGE = ("HP286_0000_P24.TIF")
/* IDENTIFICATION DATA ELEMENTS */
DATA_SET_ID = "MEX-M-HRSC-4-REFDR-MAPPROJECT-EXT9-V4.0"
DATA_SET_NAME = "MARS EXPRESS HRSC MAP PROJECTED REFDR EXTENSION9 V4.0"
DETECTOR_ID = MEX_HRSC_P2
EVENT_TYPE = "MARS-REGIONAL-MAPPING-Vo-Im"
INSTRUMENT_HOST_ID = MEX
INSTRUMENT_HOST_NAME = "MARS EXPRESS"
INSTRUMENT_ID = HRSC
INSTRUMENT_NAME = "HIGH RESOLUTION STEREO CAMERA"
MISSION_NAME = "MARS EXPRESS"
MISSION_PHASE_NAME = ME_Phase_50
PROCESSING_LEVEL_ID = 4
PRODUCT_CREATION_TIME = 2024-08-19T05:24:16.000Z
PRODUCT_ID = "HP286_0000_P24.TIF"
RELEASE_ID = 0010
REVISION_ID = 0000
/* QUALITY DATA ELEMENTS */
DATA_QUALITY_ID = 1
DATA_QUALITY_DESC = "Data calculated based on original SPICE kernels"
/* TIME DATA ELEMENTS */
SPACECRAFT_CLOCK_START_COUNT = "1/0653026665.00339"
SPACECRAFT_CLOCK_STOP_COUNT = "1/0653026966.00720"
START_TIME = 2024-01-11T04:18:45.908Z
STOP_TIME = 2024-01-11T04:22:36.878Z
/* ORBITAL DATA ELEMENTS */
ASCENDING_NODE_LONGITUDE = 104.89
MAXIMUM_RESOLUTION = 0.0296
FOOTPRINT_POINT_LATITUDE = (-67.5266,-67.4979,-67.4635,-67.4201, -67.4186,-67.3553,-66.9826,-66.734, -66.4841,-66.236,-65.9921,-65.7475, -65.3806,-64.7698,-64.2882,-63.806, -63.4431,-63.0795,-62.8368,-62.4727, -62.2287,-61.9854,-61.7408,-61.497, -61.2524,-60.8852,-58.722,-58.4737, -58.1021,-57.7291,-57.356,-56.9814, -56.7313,-56.4808,-56.2306,-55.98, -55.7296,-55.4786,-55.2271,-54.9758, -54.7203,-54.4687,-54.0906,-53.8384, -53.4597,-53.0808,-52.9543,-52.9329, -52.9485,-52.9529,-52.9533,-52.9533, -52.9538,-53.3347,-53.5877,-53.9677, -54.2212,-54.4745,-54.7276,-55.1101, -55.3628,-55.6149,-55.8664,-56.2438, -56.6215,-56.8729,-57.2489,-57.6243, -57.8745,-58.1245,-58.3743,-58.624, -58.8727,-61.0441,-61.2898,-61.5358, -61.7812,-62.027,-62.2718,-62.5169, -62.7616,-63.006,-63.2501,-63.4941, -63.7374,-63.981,-64.2242,-64.5893, -64.9536,-65.3247,-65.5732,-65.821, -66.0675,-66.3144,-66.5657,-66.8179, -67.0701,-67.322,-67.4476,-67.5266)
FOOTPRINT_POINT_LONGITUDE = (48.3154,46.9008,45.7269,44.5677, 44.5317,44.5144,44.6425,44.7253,44.8061 ,44.8846,44.9597,45.033,45.1398,45.3083 ,45.4339,45.554,45.6407,45.7245,45.7789 ,45.8583,45.9097,45.9601,46.0093, 46.0575,46.1047,46.1735,46.5339,46.5708 ,46.6247,46.6768,46.7272,46.7759, 46.8075,46.8384,46.8687,46.8983,46.9273 ,46.9556,46.9832,47.0103,47.0372, 47.0631,47.1008,47.1253,47.1609,47.1954 ,47.2066,47.2085,48.1788,48.8784, 49.2948,49.3158,49.3233,49.3107,49.3031 ,49.2903,49.281,49.2716,49.262,49.2484, 49.2382,49.2284,49.219,49.2039,49.1871, 49.1758,49.1594,49.1428,49.1311,49.1192 ,49.107,49.0943,49.0825,48.9679,48.9544 ,48.9394,48.9248,48.9088,48.8936, 48.8772,48.8606,48.8434,48.8261,48.8081 ,48.7903,48.771,48.7514,48.7198,48.6871 ,48.6532,48.6294,48.606,48.5837,48.5597 ,48.5343,48.5092,48.4827,48.4555, 48.4419,48.3154)
ORBIT_NUMBER = 25286
ORBITAL_ECCENTRICITY = 0.575
ORBITAL_INCLINATION = 87.06
ORBITAL_SEMIMAJOR_AXIS = 8792.73
PERIAPSIS_ALTITUDE = 356.02
PERIAPSIS_ARGUMENT_ANGLE = 308.85
PERIAPSIS_TIME = 2024-01-11T04:23:28.000Z
SPACECRAFT_ORIENTATION = (0.0,1.0,0.0)
^MEX_ORIENTATION_DESC = "MEX_ORIENTATION_DESC.TXT"
SPACECRAFT_POINTING_MODE = ACROSSTRACK
^MEX_POINTING_DESC = "MEX_POINTING_DESC.TXT"
RIGHT_ASCENSION = -1e+32
DECLINATION = -1e+32
OFFSET_ANGLE = -0.459
SPACECRAFT_SOLAR_DISTANCE = 2.19585e+08
TARGET_NAME = MARS
/* CAMERA DATA ELEMENTS */
DETECTOR_TEMPERATURE = 18.7783
FOCAL_PLANE_TEMPERATURE = 8.3794
INST_CMPRS_NAME = "DISCRETE COSINE TRANSFORMATION (DCT)"
INST_CMPRS_RATIO = 6.54424
INST_CMPRS_QUALITY = 0
INST_CMPRS_QUANTZ_TBL_ID = 0
INSTRUMENT_TEMPERATURE = 11.0301
LENS_TEMPERATURE = 8.5833
MACROPIXEL_SIZE = 2
PIXEL_SUBSAMPLING_FLAG = N
SIGNAL_CHAIN_ID = 3
/* RADIOMETRIC DATA ELEMENTS */
BANDWIDTH = 177.0
CENTER_FILTER_WAVELENGTH = 676.5
RADIANCE_OFFSET = 2.52703
RADIANCE_SCALING_FACTOR = 0.0124532
REFLECTANCE_SCALING_FACTOR = 0.000318381
MEX:REFLECTANCE_OFFSET = 0.0646066
/* IMAGE OBJECT DEFINITIONS */
OBJECT = IMAGE
  INTERCHANGE_FORMAT = BINARY
  LINES = 34493
  LINE_SAMPLES = 4880
  SAMPLE_TYPE = UNSIGNED_INTEGER
  SAMPLE_BITS = 8
  BANDS = 1
  BAND_STORAGE_TYPE = BAND_SEQUENTIAL
  MAXIMUM = 255
  MEAN = 107.314
  MINIMUM = 1
  STANDARD_DEVIATION = 39.1142
END_OBJECT = IMAGE
/* MAP OBJECT DEFINITIONS */
OBJECT = IMAGE_MAP_PROJECTION
  ^DATA_SET_MAP_PROJECTION_CATALOG= "DSMAP.CAT"
  A_AXIS_RADIUS = 3396.0
  B_AXIS_RADIUS = 3396.0
  C_AXIS_RADIUS = 3396.0
  CENTER_LATITUDE = 0.0
  CENTER_LONGITUDE = 48.0
  COORDINATE_SYSTEM_NAME = PLANETOGRAPHIC
  COORDINATE_SYSTEM_TYPE = "BODY-FIXED ROTATING"
  EASTERNMOST_LONGITUDE = 49.3233
  FIRST_STANDARD_PARALLEL = "N/A"
  LINE_FIRST_PIXEL = 1
  LINE_LAST_PIXEL = 34493
  LINE_PROJECTION_OFFSET = -125488.25
  MAP_PROJECTION_ROTATION = 0.0
  MAP_PROJECTION_TYPE = SINUSOIDAL
  MAP_RESOLUTION = 2370.85521546667
  MAP_SCALE = 0.025
  MAXIMUM_LATITUDE = -52.9329
  MINIMUM_LATITUDE = -67.5266
  POSITIVE_LONGITUDE_DIRECTION = EAST
  REFERENCE_LATITUDE = "N/A"
  REFERENCE_LONGITUDE = "N/A"
  SAMPLE_FIRST_PIXEL = 1
  SAMPLE_LAST_PIXEL = 4880
  SAMPLE_PROJECTION_OFFSET = 3107.25
  SECOND_STANDARD_PARALLEL = "N/A"
  WESTERNMOST_LONGITUDE = 44.5144
END_OBJECT = IMAGE_MAP_PROJECTION
END
