PDS_VERSION_ID = PDS3
/* FILE DATA ELEMENTS */
RECORD_TYPE = UNDEFINED
/* POINTERS TO DATA OBJECTS */
^IMAGE = ("HP286_0000_ND4.TIF")
/* IDENTIFICATION DATA ELEMENTS */
DATA_SET_ID = "MEX-M-HRSC-4-REFDR-MAPPROJECT-EXT9-V4.0"
DATA_SET_NAME = "MARS EXPRESS HRSC MAP PROJECTED REFDR EXTENSION9 V4.0"
DETECTOR_ID = MEX_HRSC_NADIR
EVENT_TYPE = "MARS-REGIONAL-MAPPING-Vo-Im"
INSTRUMENT_HOST_ID = MEX
INSTRUMENT_HOST_NAME = "MARS EXPRESS"
INSTRUMENT_ID = HRSC
INSTRUMENT_NAME = "HIGH RESOLUTION STEREO CAMERA"
MISSION_NAME = "MARS EXPRESS"
MISSION_PHASE_NAME = ME_Phase_50
PROCESSING_LEVEL_ID = 4
PRODUCT_CREATION_TIME = 2024-08-19T05:24:16.000Z
PRODUCT_ID = "HP286_0000_ND4.TIF"
RELEASE_ID = 0010
REVISION_ID = 0000
/* QUALITY DATA ELEMENTS */
DATA_QUALITY_ID = 1
DATA_QUALITY_DESC = "Data calculated based on original SPICE kernels"
/* TIME DATA ELEMENTS */
SPACECRAFT_CLOCK_START_COUNT = "1/0653026665.00339"
SPACECRAFT_CLOCK_STOP_COUNT = "1/0653026966.00720"
START_TIME = 2024-01-11T04:19:12.175Z
STOP_TIME = 2024-01-11T04:22:58.161Z
/* ORBITAL DATA ELEMENTS */
ASCENDING_NODE_LONGITUDE = 104.89
MAXIMUM_RESOLUTION = 0.0143
FOOTPRINT_POINT_LATITUDE = (-67.4776,-67.4522,-67.4148,-67.3555, -67.3539,-67.3501,-67.1031,-66.8557, -66.4845,-66.0012,-65.5167,-65.0312, -64.5448,-64.0574,-63.5691,-63.08, -62.59,-62.3447,-60.1553,-59.9083, -59.6611,-59.4137,-59.1662,-58.9186, -58.6708,-58.4229,-58.1748,-57.9266, -57.6783,-57.4299,-57.1814,-56.9327, -56.6839,-56.4351,-56.1861,-55.937, -55.6879,-55.4386,-55.1893,-54.9399, -54.6904,-54.4408,-54.1912,-53.9415, -53.6918,-53.442,-53.0671,-52.9422, -52.9273,-52.9482,-52.9634,-52.9716, -52.9718,-52.9722,-53.2229,-53.4736, -53.7242,-53.9748,-54.2254,-54.4759, -54.7263,-54.9767,-55.227,-55.4772, -55.7274,-55.9775,-56.2276,-56.4775, -56.7274,-56.9772,-57.2269,-57.4765, -57.726,-57.9754,-58.2247,-58.4739, -58.723,-58.972,-59.2208,-59.4696, -59.7182,-59.9667,-60.2151,-62.4133, -62.6643,-62.911,-63.1576,-63.404, -63.6502,-64.1421,-64.6332,-65.1235, -65.6131,-66.1019,-66.5898,-66.8392, -67.0892,-67.3389,-67.4637,-67.4776)
FOOTPRINT_POINT_LONGITUDE = (48.2502,47.2623,46.1059,44.6474, 44.6121,44.5722,44.656,44.7378,44.8563, 45.0044,45.1453,45.2793,45.4072,45.5293 ,45.6459,45.7573,45.8638,45.9152, 46.3254,46.3666,46.4068,46.4462,46.4848 ,46.5224,46.5592,46.5952,46.6305,46.665 ,46.6987,46.7317,46.7639,46.7953, 46.8259,46.8559,46.8854,46.9141,46.9423 ,46.9697,46.9965,47.0228,47.0484, 47.0735,47.098,47.122,47.1453,47.1683, 47.2016,47.2124,47.2137,47.9878,48.7328 ,49.2787,49.2999,49.3102,49.3012, 49.2927,49.2846,49.2751,49.2655,49.2556 ,49.2455,49.2362,49.226,49.2155,49.2049 ,49.1948,49.184,49.1725,49.1606,49.1492 ,49.1376,49.126,49.1139,49.1011,49.0885 ,49.0751,49.0623,49.0496,49.0363, 49.0228,49.0089,48.9952,48.9815,48.8422 ,48.8242,48.8061,48.7871,48.768,48.7489 ,48.7076,48.6621,48.6144,48.5661, 48.5175,48.4659,48.4389,48.4104,48.3813 ,48.367,48.2502)
ORBIT_NUMBER = 25286
ORBITAL_ECCENTRICITY = 0.575
ORBITAL_INCLINATION = 87.06
ORBITAL_SEMIMAJOR_AXIS = 8792.73
PERIAPSIS_ALTITUDE = 356.02
PERIAPSIS_ARGUMENT_ANGLE = 308.85
PERIAPSIS_TIME = 2024-01-11T04:23:28.000Z
SPACECRAFT_ORIENTATION = (0.0,1.0,0.0)
^MEX_ORIENTATION_DESC = "MEX_ORIENTATION_DESC.TXT"
SPACECRAFT_POINTING_MODE = ACROSSTRACK
^MEX_POINTING_DESC = "MEX_POINTING_DESC.TXT"
RIGHT_ASCENSION = -1e+32
DECLINATION = -1e+32
OFFSET_ANGLE = -0.459
SPACECRAFT_SOLAR_DISTANCE = 2.19585e+08
TARGET_NAME = MARS
/* CAMERA DATA ELEMENTS */
DETECTOR_TEMPERATURE = 18.1666
FOCAL_PLANE_TEMPERATURE = 8.3794
INST_CMPRS_NAME = "DISCRETE COSINE TRANSFORMATION (DCT)"
INST_CMPRS_RATIO = 5.63965
INST_CMPRS_QUALITY = 0
INST_CMPRS_QUANTZ_TBL_ID = 0
INSTRUMENT_TEMPERATURE = 11.0301
LENS_TEMPERATURE = 8.5833
MACROPIXEL_SIZE = 1
MISSING_FRAMES = 1026
PIXEL_SUBSAMPLING_FLAG = N
SIGNAL_CHAIN_ID = 0
/* RADIOMETRIC DATA ELEMENTS */
BANDWIDTH = 177.0
CENTER_FILTER_WAVELENGTH = 677.5
RADIANCE_OFFSET = 2.30991
RADIANCE_SCALING_FACTOR = 0.0101543
REFLECTANCE_SCALING_FACTOR = 0.000260101
MEX:REFLECTANCE_OFFSET = 0.0591683
/* IMAGE OBJECT DEFINITIONS */
OBJECT = IMAGE
  INTERCHANGE_FORMAT = BINARY
  LINES = 68985
  LINE_SAMPLES = 9760
  SAMPLE_TYPE = UNSIGNED_INTEGER
  SAMPLE_BITS = 8
  BANDS = 1
  BAND_STORAGE_TYPE = BAND_SEQUENTIAL
  MAXIMUM = 255
  MEAN = 121.203
  MINIMUM = 1
  STANDARD_DEVIATION = 44.1787
END_OBJECT = IMAGE
/* MAP OBJECT DEFINITIONS */
OBJECT = IMAGE_MAP_PROJECTION
  ^DATA_SET_MAP_PROJECTION_CATALOG= "DSMAP.CAT"
  A_AXIS_RADIUS = 3396.0
  B_AXIS_RADIUS = 3396.0
  C_AXIS_RADIUS = 3396.0
  CENTER_LATITUDE = 0.0
  CENTER_LONGITUDE = 48.0
  COORDINATE_SYSTEM_NAME = PLANETOGRAPHIC
  COORDINATE_SYSTEM_TYPE = "BODY-FIXED ROTATING"
  EASTERNMOST_LONGITUDE = 49.3102
  FIRST_STANDARD_PARALLEL = "N/A"
  LINE_FIRST_PIXEL = 1
  LINE_LAST_PIXEL = 68985
  LINE_PROJECTION_OFFSET = -250976.0
  MAP_PROJECTION_ROTATION = 0.0
  MAP_PROJECTION_TYPE = SINUSOIDAL
  MAP_RESOLUTION = 4741.71043093333
  MAP_SCALE = 0.0125
  MAXIMUM_LATITUDE = -52.9273
  MINIMUM_LATITUDE = -67.4776
  POSITIVE_LONGITUDE_DIRECTION = EAST
  REFERENCE_LATITUDE = "N/A"
  REFERENCE_LONGITUDE = "N/A"
  SAMPLE_FIRST_PIXEL = 1
  SAMPLE_LAST_PIXEL = 9760
  SAMPLE_PROJECTION_OFFSET = 6215.0
  SECOND_STANDARD_PARALLEL = "N/A"
  WESTERNMOST_LONGITUDE = 44.5722
END_OBJECT = IMAGE_MAP_PROJECTION
END
