PDS_VERSION_ID = PDS3
/* FILE DATA ELEMENTS */
RECORD_TYPE = UNDEFINED
/* POINTERS TO DATA OBJECTS */
^IMAGE = ("HP284_0000_P14.TIF")
/* IDENTIFICATION DATA ELEMENTS */
DATA_SET_ID = "MEX-M-HRSC-4-REFDR-MAPPROJECT-EXT9-V4.0"
DATA_SET_NAME = "MARS EXPRESS HRSC MAP PROJECTED REFDR EXTENSION9 V4.0"
DETECTOR_ID = MEX_HRSC_P1
EVENT_TYPE = "MARS-REGIONAL-MAPPING-Im-Gl-Ts"
INSTRUMENT_HOST_ID = MEX
INSTRUMENT_HOST_NAME = "MARS EXPRESS"
INSTRUMENT_ID = HRSC
INSTRUMENT_NAME = "HIGH RESOLUTION STEREO CAMERA"
MISSION_NAME = "MARS EXPRESS"
MISSION_PHASE_NAME = ME_Phase_50
PROCESSING_LEVEL_ID = 4
PRODUCT_CREATION_TIME = 2024-08-19T05:24:16.000Z
PRODUCT_ID = "HP284_0000_P14.TIF"
RELEASE_ID = 0010
REVISION_ID = 0000
/* QUALITY DATA ELEMENTS */
DATA_QUALITY_ID = 1
DATA_QUALITY_DESC = "Data calculated based on original SPICE kernels"
/* TIME DATA ELEMENTS */
SPACECRAFT_CLOCK_START_COUNT = "1/0652976513.00394"
SPACECRAFT_CLOCK_STOP_COUNT = "1/0652976774.08288"
START_TIME = 2024-01-10T14:23:35.537Z
STOP_TIME = 2024-01-10T14:26:47.116Z
/* ORBITAL DATA ELEMENTS */
ASCENDING_NODE_LONGITUDE = 104.93
MAXIMUM_RESOLUTION = 0.0289
FOOTPRINT_POINT_LATITUDE = (-58.8428,-58.8232,-58.791,-58.7651, -58.7642,-58.81,-58.5613,-58.3125, -58.0643,-57.8153,-57.5671,-57.3184, -57.0704,-56.6984,-56.2082,-55.9597, -55.7064,-55.3296,-55.0814,-54.8343, -54.586,-54.3378,-54.0894,-53.8413, -53.5929,-53.3449,-53.0967,-52.8486, -52.4766,-52.2287,-51.9807,-51.7328, -51.3607,-51.1119,-50.7441,-50.4969, -50.2475,-49.9966,-49.7495,-49.5008, -49.2538,-48.7619,-48.3939,-48.1479, -47.6559,-47.2881,-46.5539,-46.4312, -46.4033,-46.4139,-46.4305,-46.4393, -46.4396,-46.4401,-46.9319,-47.1779, -47.424,-47.6704,-48.0396,-48.5316, -48.7783,-49.0258,-49.2739,-49.5216, -49.769,-50.0186,-50.3887,-50.6372, -50.8862,-51.1347,-51.5078,-51.7564, -52.005,-52.2538,-52.5022,-52.7528, -53.0032,-53.3737,-53.6226,-53.8721, -54.1227,-54.3705,-54.62,-54.869, -55.1176,-55.3665,-55.6158,-55.8654, -56.1144,-56.3655,-56.6149,-56.8633, -57.1213,-57.3719,-57.6213,-57.993, -58.3636,-58.7383,-58.8631,-58.8428)
FOOTPRINT_POINT_LONGITUDE = (252.339,251.624,250.657,249.989, 249.966,249.908,249.951,249.993,250.034 ,250.075,250.114,250.153,250.19,250.244 ,250.308,250.342,250.38,250.433,250.465 ,250.494,250.525,250.554,250.583, 250.612,250.64,250.667,250.693,250.719, 250.757,250.782,250.806,250.83,250.865, 250.888,250.918,250.939,250.961,250.984 ,251.004,251.024,251.043,251.078, 251.103,251.12,251.152,251.175,251.217, 251.224,251.226,251.647,252.455,253.018 ,253.035,253.042,253.025,253.016, 253.008,252.999,252.985,252.965,252.955 ,252.946,252.936,252.926,252.916, 252.907,252.89,252.879,252.869,252.857, 252.841,252.829,252.817,252.805,252.792 ,252.781,252.769,252.747,252.733, 252.719,252.706,252.691,252.677,252.661 ,252.646,252.63,252.614,252.598,252.581 ,252.566,252.548,252.53,252.519,252.502 ,252.483,252.453,252.42,252.391,252.38, 252.339)
ORBIT_NUMBER = 25284
ORBITAL_ECCENTRICITY = 0.575
ORBITAL_INCLINATION = 87.05
ORBITAL_SEMIMAJOR_AXIS = 8792.7
PERIAPSIS_ALTITUDE = 355.46
PERIAPSIS_ARGUMENT_ANGLE = 309.16
PERIAPSIS_TIME = 2024-01-10T14:25:20.000Z
SPACECRAFT_ORIENTATION = (0.0,1.0,0.0)
^MEX_ORIENTATION_DESC = "MEX_ORIENTATION_DESC.TXT"
SPACECRAFT_POINTING_MODE = NADIR
^MEX_POINTING_DESC = "MEX_POINTING_DESC.TXT"
RIGHT_ASCENSION = -1e+32
DECLINATION = -1e+32
OFFSET_ANGLE = -1e+32
SPACECRAFT_SOLAR_DISTANCE = 2.19693e+08
TARGET_NAME = MARS
/* CAMERA DATA ELEMENTS */
DETECTOR_TEMPERATURE = 17.1471
FOCAL_PLANE_TEMPERATURE = 7.9716
INST_CMPRS_NAME = "DISCRETE COSINE TRANSFORMATION (DCT)"
INST_CMPRS_RATIO = 8.33936
INST_CMPRS_QUALITY = 0
INST_CMPRS_QUANTZ_TBL_ID = 0
INSTRUMENT_TEMPERATURE = 11.0301
LENS_TEMPERATURE = 7.9716
MACROPIXEL_SIZE = 2
MISSING_FRAMES = 0
PIXEL_SUBSAMPLING_FLAG = N
SIGNAL_CHAIN_ID = 3
/* RADIOMETRIC DATA ELEMENTS */
BANDWIDTH = 174.0
CENTER_FILTER_WAVELENGTH = 675.0
RADIANCE_OFFSET = 1.83011
RADIANCE_SCALING_FACTOR = 0.0133285
REFLECTANCE_SCALING_FACTOR = 0.000346022
MEX:REFLECTANCE_OFFSET = 0.0475116
/* IMAGE OBJECT DEFINITIONS */
OBJECT = IMAGE
  INTERCHANGE_FORMAT = BINARY
  LINES = 29585
  LINE_SAMPLES = 4187
  SAMPLE_TYPE = UNSIGNED_INTEGER
  SAMPLE_BITS = 8
  BANDS = 1
  BAND_STORAGE_TYPE = BAND_SEQUENTIAL
  MAXIMUM = 255
  MEAN = 100.045
  MINIMUM = 1
  STANDARD_DEVIATION = 57.3368
END_OBJECT = IMAGE
/* MAP OBJECT DEFINITIONS */
OBJECT = IMAGE_MAP_PROJECTION
  ^DATA_SET_MAP_PROJECTION_CATALOG= "DSMAP.CAT"
  A_AXIS_RADIUS = 3396.0
  B_AXIS_RADIUS = 3396.0
  C_AXIS_RADIUS = 3396.0
  CENTER_LATITUDE = 0.0
  CENTER_LONGITUDE = 252.0
  COORDINATE_SYSTEM_NAME = PLANETOGRAPHIC
  COORDINATE_SYSTEM_TYPE = "BODY-FIXED ROTATING"
  EASTERNMOST_LONGITUDE = 253.042
  FIRST_STANDARD_PARALLEL = "N/A"
  LINE_FIRST_PIXEL = 1
  LINE_LAST_PIXEL = 29585
  LINE_PROJECTION_OFFSET = -110047.25
  MAP_PROJECTION_ROTATION = 0.0
  MAP_PROJECTION_TYPE = SINUSOIDAL
  MAP_RESOLUTION = 2370.85521546667
  MAP_SCALE = 0.025
  MAXIMUM_LATITUDE = -46.4033
  MINIMUM_LATITUDE = -58.8631
  POSITIVE_LONGITUDE_DIRECTION = EAST
  REFERENCE_LATITUDE = "N/A"
  REFERENCE_LONGITUDE = "N/A"
  SAMPLE_FIRST_PIXEL = 1
  SAMPLE_LAST_PIXEL = 4187
  SAMPLE_PROJECTION_OFFSET = 2536.25
  SECOND_STANDARD_PARALLEL = "N/A"
  WESTERNMOST_LONGITUDE = 249.908
END_OBJECT = IMAGE_MAP_PROJECTION
END
