PDS_VERSION_ID = PDS3
/* FILE DATA ELEMENTS */
RECORD_TYPE = UNDEFINED
/* POINTERS TO DATA OBJECTS */
^IMAGE = ("HP277_0000_P14.TIF")
/* IDENTIFICATION DATA ELEMENTS */
DATA_SET_ID = "MEX-M-HRSC-4-REFDR-MAPPROJECT-EXT9-V4.0"
DATA_SET_NAME = "MARS EXPRESS HRSC MAP PROJECTED REFDR EXTENSION9 V4.0"
DETECTOR_ID = MEX_HRSC_P1
EVENT_TYPE = "MARS-LOCAL-STEREO-Im-Fl-Gl"
INSTRUMENT_HOST_ID = MEX
INSTRUMENT_HOST_NAME = "MARS EXPRESS"
INSTRUMENT_ID = HRSC
INSTRUMENT_NAME = "HIGH RESOLUTION STEREO CAMERA"
MISSION_NAME = "MARS EXPRESS"
MISSION_PHASE_NAME = ME_Phase_50
PROCESSING_LEVEL_ID = 4
PRODUCT_CREATION_TIME = 2024-08-19T05:24:16.000Z
PRODUCT_ID = "HP277_0000_P14.TIF"
RELEASE_ID = 0010
REVISION_ID = 0000
/* QUALITY DATA ELEMENTS */
DATA_QUALITY_ID = 1
DATA_QUALITY_DESC = "Data calculated based on original SPICE kernels"
/* TIME DATA ELEMENTS */
SPACECRAFT_CLOCK_START_COUNT = "1/0652800535.64162"
SPACECRAFT_CLOCK_STOP_COUNT = "1/0652800761.22099"
START_TIME = 2024-01-08T13:30:37.491Z
STOP_TIME = 2024-01-08T13:33:14.340Z
/* ORBITAL DATA ELEMENTS */
ASCENDING_NODE_LONGITUDE = 105.05
MAXIMUM_RESOLUTION = 0.0289
FOOTPRINT_POINT_LATITUDE = (-55.764,-55.7573,-55.7498,-55.7415, -55.7323,-55.7223,-55.7072,-55.7065, -55.7486,-55.5763,-55.404,-55.2318, -55.0599,-54.8877,-53.254,-52.996, -52.8237,-52.6516,-52.4796,-52.3079, -52.0491,-51.8761,-51.7046,-51.4467, -51.2746,-51.1024,-50.9315,-50.5935, -50.4222,-50.2501,-50.0756,-49.9013, -49.6442,-49.4721,-49.1308,-48.9594, -48.7858,-48.6146,-48.2747,-47.9339, -47.7632,-47.4223,-47.0853,-46.9134, -46.7387,-46.3986,-46.0582,-45.718, -45.633,-45.6083,-45.6138,-45.6174, -45.6219,-45.6256,-45.6281,-45.6301, -45.6302,-45.6305,-46.057,-46.2276, -46.5663,-46.7372,-46.9086,-47.0795, -47.4211,-47.5937,-47.8496,-48.021, -48.1921,-48.532,-48.704,-48.9619, -49.2198,-49.478,-49.6502,-49.8215, -49.9969,-50.1737,-50.3463,-50.5196, -50.8611,-51.1164,-51.3758,-51.5487, -51.7222,-51.9813,-52.1546,-52.4147, -52.5912,-52.7654,-52.9383,-53.1092, -53.3613,-55.0049,-55.1783,-55.3513, -55.5241,-55.6974,-55.7839,-55.764)
FOOTPRINT_POINT_LONGITUDE = (246.864,246.53,246.196,245.86,245.522, 245.183,244.714,244.692,244.616,244.643 ,244.67,244.695,244.72,244.746,244.968, 245.0,245.021,245.042,245.063,245.083, 245.114,245.135,245.153,245.182,245.201 ,245.22,245.236,245.264,245.281,245.299 ,245.319,245.34,245.364,245.381,245.41, 245.425,245.443,245.458,245.484,245.51, 245.523,245.549,245.569,245.584,245.601 ,245.624,245.648,245.67,245.676,245.677 ,245.995,246.241,246.59,246.902,247.178 ,247.453,247.471,247.477,247.459, 247.451,247.436,247.428,247.42,247.413, 247.397,247.389,247.376,247.368,247.36, 247.342,247.333,247.32,247.307,247.293, 247.284,247.274,247.265,247.257,247.247 ,247.238,247.217,247.201,247.186, 247.175,247.165,247.149,247.138,247.121 ,247.111,247.1,247.088,247.076,247.057, 246.937,246.923,246.91,246.896,246.882, 246.875,246.864)
ORBIT_NUMBER = 25277
ORBITAL_ECCENTRICITY = 0.575
ORBITAL_INCLINATION = 87.06
ORBITAL_SEMIMAJOR_AXIS = 8794.66
PERIAPSIS_ALTITUDE = 355.49
PERIAPSIS_ARGUMENT_ANGLE = 310.33
PERIAPSIS_TIME = 2024-01-08T13:31:53.000Z
SPACECRAFT_ORIENTATION = (0.0,1.0,0.0)
^MEX_ORIENTATION_DESC = "MEX_ORIENTATION_DESC.TXT"
SPACECRAFT_POINTING_MODE = ACROSSTRACK
^MEX_POINTING_DESC = "MEX_POINTING_DESC.TXT"
RIGHT_ASCENSION = -1e+32
DECLINATION = -1e+32
OFFSET_ANGLE = 0.4
SPACECRAFT_SOLAR_DISTANCE = 2.20074e+08
TARGET_NAME = MARS
/* CAMERA DATA ELEMENTS */
DETECTOR_TEMPERATURE = 17.1471
FOCAL_PLANE_TEMPERATURE = 7.9716
INST_CMPRS_NAME = "DISCRETE COSINE TRANSFORMATION (DCT)"
INST_CMPRS_RATIO = 8.43763
INST_CMPRS_QUALITY = 0
INST_CMPRS_QUANTZ_TBL_ID = 0
INSTRUMENT_TEMPERATURE = 10.8262
LENS_TEMPERATURE = 8.3794
MACROPIXEL_SIZE = 2
PIXEL_SUBSAMPLING_FLAG = N
SIGNAL_CHAIN_ID = 3
/* RADIOMETRIC DATA ELEMENTS */
BANDWIDTH = 174.0
CENTER_FILTER_WAVELENGTH = 675.0
RADIANCE_OFFSET = 1.94032
RADIANCE_SCALING_FACTOR = 0.00908185
REFLECTANCE_SCALING_FACTOR = 0.00023659
MEX:REFLECTANCE_OFFSET = 0.0505472
/* IMAGE OBJECT DEFINITIONS */
OBJECT = IMAGE
  INTERCHANGE_FORMAT = BINARY
  LINES = 24226
  LINE_SAMPLES = 4192
  SAMPLE_TYPE = UNSIGNED_INTEGER
  SAMPLE_BITS = 8
  BANDS = 1
  BAND_STORAGE_TYPE = BAND_SEQUENTIAL
  MAXIMUM = 255
  MEAN = 105.655
  MINIMUM = 1
  STANDARD_DEVIATION = 35.9204
END_OBJECT = IMAGE
/* MAP OBJECT DEFINITIONS */
OBJECT = IMAGE_MAP_PROJECTION
  ^DATA_SET_MAP_PROJECTION_CATALOG= "DSMAP.CAT"
  A_AXIS_RADIUS = 3396.0
  B_AXIS_RADIUS = 3396.0
  C_AXIS_RADIUS = 3396.0
  CENTER_LATITUDE = 0.0
  CENTER_LONGITUDE = 246.0
  COORDINATE_SYSTEM_NAME = PLANETOGRAPHIC
  COORDINATE_SYSTEM_TYPE = "BODY-FIXED ROTATING"
  EASTERNMOST_LONGITUDE = 247.477
  FIRST_STANDARD_PARALLEL = "N/A"
  LINE_FIRST_PIXEL = 1
  LINE_LAST_PIXEL = 24226
  LINE_PROJECTION_OFFSET = -108112.25
  MAP_PROJECTION_ROTATION = 0.0
  MAP_PROJECTION_TYPE = SINUSOIDAL
  MAP_RESOLUTION = 2370.85521546667
  MAP_SCALE = 0.025
  MAXIMUM_LATITUDE = -45.6083
  MINIMUM_LATITUDE = -55.7839
  POSITIVE_LONGITUDE_DIRECTION = EAST
  REFERENCE_LATITUDE = "N/A"
  REFERENCE_LONGITUDE = "N/A"
  SAMPLE_FIRST_PIXEL = 1
  SAMPLE_LAST_PIXEL = 4192
  SAMPLE_PROJECTION_OFFSET = 1771.25
  SECOND_STANDARD_PARALLEL = "N/A"
  WESTERNMOST_LONGITUDE = 244.616
END_OBJECT = IMAGE_MAP_PROJECTION
END
