PDS_VERSION_ID = PDS3
/* FILE DATA ELEMENTS */
RECORD_TYPE = UNDEFINED
/* POINTERS TO DATA OBJECTS */
^IMAGE = ("HP266_0000_S24.TIF")
/* IDENTIFICATION DATA ELEMENTS */
DATA_SET_ID = "MEX-M-HRSC-4-REFDR-MAPPROJECT-EXT9-V4.0"
DATA_SET_NAME = "MARS EXPRESS HRSC MAP PROJECTED REFDR EXTENSION9 V4.0"
DETECTOR_ID = MEX_HRSC_S2
EVENT_TYPE = "MARS-LOCAL-MAPPING-Im-Eo-At"
INSTRUMENT_HOST_ID = MEX
INSTRUMENT_HOST_NAME = "MARS EXPRESS"
INSTRUMENT_ID = HRSC
INSTRUMENT_NAME = "HIGH RESOLUTION STEREO CAMERA"
MISSION_NAME = "MARS EXPRESS"
MISSION_PHASE_NAME = ME_Phase_50
PROCESSING_LEVEL_ID = 4
PRODUCT_CREATION_TIME = 2024-08-19T05:24:16.000Z
PRODUCT_ID = "HP266_0000_S24.TIF"
RELEASE_ID = 0010
REVISION_ID = 0000
/* QUALITY DATA ELEMENTS */
DATA_QUALITY_ID = 1
DATA_QUALITY_DESC = "Data calculated based on original SPICE kernels"
/* TIME DATA ELEMENTS */
SPACECRAFT_CLOCK_START_COUNT = "1/0652523949.00373"
SPACECRAFT_CLOCK_STOP_COUNT = "1/0652524243.38657"
START_TIME = 2024-01-05T08:39:55.062Z
STOP_TIME = 2024-01-05T08:43:40.804Z
/* ORBITAL DATA ELEMENTS */
ASCENDING_NODE_LONGITUDE = 105.24
MAXIMUM_RESOLUTION = 0.03
FOOTPRINT_POINT_LATITUDE = (-55.3654,-55.384,-55.3933,-55.3973, -55.3973,-55.3352,-55.011,-54.6818, -54.3543,-53.8588,-53.5266,-53.1955, -52.8653,-52.5599,-52.144,-51.5868, -51.1662,-50.8874,-50.6082,-50.0569, -49.3626,-49.0829,-48.7988,-48.5178, -48.2378,-47.8173,-47.3954,-47.1143, -46.8356,-46.5463,-46.1223,-45.8377, -45.5559,-45.2726,-44.9888,-44.705, -44.4194,-44.1339,-43.7077,-43.2807, -42.9961,-42.7112,-42.2856,-41.8586, -41.5735,-41.2873,-41.0017,-40.8586, -40.8578,-40.8343,-40.8186,-40.7924, -40.7916,-40.7917,-41.0777,-41.3637, -41.6487,-41.9362,-42.3639,-42.6488, -42.9329,-43.2168,-43.5019,-43.9294, -44.2152,-44.6438,-44.9269,-45.2099, -45.4941,-45.7775,-46.0614,-46.3471, -46.6316,-47.0556,-47.4788,-47.7609, -48.0414,-48.3226,-48.6023,-48.883, -49.1637,-49.7182,-50.1386,-50.4192, -50.699,-50.978,-51.3965,-51.6755, -51.9549,-52.5117,-52.8195,-53.1525, -53.487,-53.8194,-54.1518,-54.4785, -54.8072,-55.1345,-55.298,-55.3654)
FOOTPRINT_POINT_LONGITUDE = (292.856,291.982,291.264,290.561, 290.539,290.552,290.581,290.612,290.64, 290.683,290.71,290.736,290.761,290.783, 290.813,290.85,290.878,290.895,290.912, 290.941,290.977,290.991,291.006,291.019 ,291.031,291.049,291.067,291.078, 291.088,291.1,291.115,291.125,291.134, 291.143,291.152,291.16,291.168,291.176, 291.187,291.197,291.204,291.21,291.218, 291.226,291.23,291.235,291.24,291.242, 291.242,291.965,292.36,292.916,292.933, 292.939,292.94,292.942,292.944,292.944, 292.946,292.948,292.951,292.953,292.954 ,292.956,292.956,292.955,292.957, 292.959,292.96,292.961,292.961,292.96, 292.959,292.96,292.961,292.962,292.964, 292.965,292.967,292.968,292.969,292.977 ,292.977,292.977,292.976,292.976, 292.976,292.975,292.973,292.971,292.968 ,292.964,292.957,292.953,292.947, 292.948,292.946,292.945,292.944, 292.856)
ORBIT_NUMBER = 25266
ORBITAL_ECCENTRICITY = 0.575
ORBITAL_INCLINATION = 87.05
ORBITAL_SEMIMAJOR_AXIS = 8796.56
PERIAPSIS_ALTITUDE = 356.39
PERIAPSIS_ARGUMENT_ANGLE = 312.22
PERIAPSIS_TIME = 2024-01-05T08:42:27.000Z
SPACECRAFT_ORIENTATION = (0.0,1.0,0.0)
^MEX_ORIENTATION_DESC = "MEX_ORIENTATION_DESC.TXT"
SPACECRAFT_POINTING_MODE = ACROSSTRACK
^MEX_POINTING_DESC = "MEX_POINTING_DESC.TXT"
RIGHT_ASCENSION = -1e+32
DECLINATION = -1e+32
OFFSET_ANGLE = -0.916
SPACECRAFT_SOLAR_DISTANCE = 2.20675e+08
TARGET_NAME = MARS
/* CAMERA DATA ELEMENTS */
DETECTOR_TEMPERATURE = 18.1666
FOCAL_PLANE_TEMPERATURE = 7.9716
INST_CMPRS_NAME = "DISCRETE COSINE TRANSFORMATION (DCT)"
INST_CMPRS_RATIO = 10.6602
INST_CMPRS_QUALITY = 0
INST_CMPRS_QUANTZ_TBL_ID = 0
INSTRUMENT_TEMPERATURE = 11.0301
LENS_TEMPERATURE = 7.156
MACROPIXEL_SIZE = 2
MISSING_FRAMES = 0
PIXEL_SUBSAMPLING_FLAG = N
SIGNAL_CHAIN_ID = 1
/* RADIOMETRIC DATA ELEMENTS */
BANDWIDTH = 178.0
CENTER_FILTER_WAVELENGTH = 679.0
RADIANCE_OFFSET = 1.60581
RADIANCE_SCALING_FACTOR = 0.0103118
REFLECTANCE_SCALING_FACTOR = 0.000265934
MEX:REFLECTANCE_OFFSET = 0.0414126
/* IMAGE OBJECT DEFINITIONS */
OBJECT = IMAGE
  INTERCHANGE_FORMAT = BINARY
  LINES = 34470
  LINE_SAMPLES = 3612
  SAMPLE_TYPE = UNSIGNED_INTEGER
  SAMPLE_BITS = 8
  BANDS = 1
  BAND_STORAGE_TYPE = BAND_SEQUENTIAL
  MAXIMUM = 255
  MEAN = 78.381
  MINIMUM = 1
  STANDARD_DEVIATION = 24.3645
END_OBJECT = IMAGE
/* MAP OBJECT DEFINITIONS */
OBJECT = IMAGE_MAP_PROJECTION
  ^DATA_SET_MAP_PROJECTION_CATALOG= "DSMAP.CAT"
  A_AXIS_RADIUS = 3396.0
  B_AXIS_RADIUS = 3396.0
  C_AXIS_RADIUS = 3396.0
  CENTER_LATITUDE = 0.0
  CENTER_LONGITUDE = 292.0
  COORDINATE_SYSTEM_NAME = PLANETOGRAPHIC
  COORDINATE_SYSTEM_TYPE = "BODY-FIXED ROTATING"
  EASTERNMOST_LONGITUDE = 292.977
  FIRST_STANDARD_PARALLEL = "N/A"
  LINE_FIRST_PIXEL = 1
  LINE_LAST_PIXEL = 34470
  LINE_PROJECTION_OFFSET = -96711.25
  MAP_PROJECTION_ROTATION = 0.0
  MAP_PROJECTION_TYPE = SINUSOIDAL
  MAP_RESOLUTION = 2370.85521546667
  MAP_SCALE = 0.025
  MAXIMUM_LATITUDE = -40.7916
  MINIMUM_LATITUDE = -55.3973
  POSITIVE_LONGITUDE_DIRECTION = EAST
  REFERENCE_LATITUDE = "N/A"
  REFERENCE_LONGITUDE = "N/A"
  SAMPLE_FIRST_PIXEL = 1
  SAMPLE_LAST_PIXEL = 3612
  SAMPLE_PROJECTION_OFFSET = 1943.75
  SECOND_STANDARD_PARALLEL = "N/A"
  WESTERNMOST_LONGITUDE = 290.539
END_OBJECT = IMAGE_MAP_PROJECTION
END
