PDS_VERSION_ID = PDS3
/* FILE DATA ELEMENTS */
RECORD_TYPE = UNDEFINED
/* POINTERS TO DATA OBJECTS */
^IMAGE = ("HP266_0000_BL4.TIF")
/* IDENTIFICATION DATA ELEMENTS */
DATA_SET_ID = "MEX-M-HRSC-4-REFDR-MAPPROJECT-EXT9-V4.0"
DATA_SET_NAME = "MARS EXPRESS HRSC MAP PROJECTED REFDR EXTENSION9 V4.0"
DETECTOR_ID = MEX_HRSC_BLUE
EVENT_TYPE = "MARS-LOCAL-MAPPING-Im-Eo-At"
INSTRUMENT_HOST_ID = MEX
INSTRUMENT_HOST_NAME = "MARS EXPRESS"
INSTRUMENT_ID = HRSC
INSTRUMENT_NAME = "HIGH RESOLUTION STEREO CAMERA"
MISSION_NAME = "MARS EXPRESS"
MISSION_PHASE_NAME = ME_Phase_50
PROCESSING_LEVEL_ID = 4
PRODUCT_CREATION_TIME = 2024-08-19T05:24:16.000Z
PRODUCT_ID = "HP266_0000_BL4.TIF"
RELEASE_ID = 0010
REVISION_ID = 0000
/* QUALITY DATA ELEMENTS */
DATA_QUALITY_ID = 1
DATA_QUALITY_DESC = "Data calculated based on original SPICE kernels"
/* TIME DATA ELEMENTS */
SPACECRAFT_CLOCK_START_COUNT = "1/0652523949.00373"
SPACECRAFT_CLOCK_STOP_COUNT = "1/0652524243.38657"
START_TIME = 2024-01-05T08:40:23.799Z
STOP_TIME = 2024-01-05T08:44:08.155Z
/* ORBITAL DATA ELEMENTS */
ASCENDING_NODE_LONGITUDE = 105.24
MAXIMUM_RESOLUTION = 0.0564
FOOTPRINT_POINT_LATITUDE = (-55.3446,-55.3393,-55.331,-55.3192, -55.3188,-55.3079,-54.9681,-54.6274, -54.3147,-53.7425,-53.313,-52.8835, -52.597,-52.3106,-52.0238,-51.7371, -51.4492,-51.162,-50.8748,-50.5874, -50.3001,-50.0136,-49.7262,-49.2954, -48.8633,-48.575,-48.2871,-47.8554, -47.5674,-47.1353,-46.703,-46.414, -46.1259,-45.8371,-45.5491,-45.2607, -44.9723,-44.5397,-44.251,-43.9626, -43.5303,-43.2421,-42.8097,-42.5217, -42.2339,-41.9459,-41.514,-41.0821, -40.9383,-40.7961,-40.7972,-40.7951, -40.7905,-40.7902,-40.791,-41.0792, -41.3675,-41.6558,-41.9444,-42.2328, -42.5213,-42.954,-43.2424,-43.5312, -43.9644,-44.2534,-44.5426,-44.9757, -45.2644,-45.5533,-45.8421,-46.2758, -46.5649,-46.9982,-47.4312,-47.7199, -48.0084,-48.4411,-48.8737,-49.1623, -49.4496,-49.882,-50.1701,-50.4584, -50.7464,-51.0344,-51.3222,-51.7539, -52.1855,-52.473,-52.7604,-53.0478, -53.3355,-53.7663,-54.0535,-54.3397, -54.6538,-54.9952,-55.1658,-55.3446)
FOOTPRINT_POINT_LONGITUDE = (292.817,291.916,291.247,290.592, 290.572,290.584,290.613,290.643,290.669 ,290.716,290.75,290.781,290.802,290.821 ,290.84,290.858,290.878,290.895,290.912 ,290.929,290.944,290.958,290.972, 290.993,291.014,291.027,291.04,291.057, 291.069,291.085,291.1,291.112,291.121, 291.131,291.139,291.148,291.156,291.168 ,291.176,291.183,291.193,291.199, 291.208,291.213,291.218,291.223,291.23, 291.236,291.238,291.24,291.762,292.378, 292.913,292.93,292.935,292.937,292.938, 292.939,292.939,292.94,292.941,292.944, 292.946,292.946,292.947,292.946,292.945 ,292.946,292.948,292.948,292.949, 292.946,292.945,292.944,292.945,292.945 ,292.946,292.948,292.949,292.948, 292.955,292.955,292.955,292.953,292.952 ,292.951,292.95,292.947,292.943,292.94, 292.938,292.934,292.926,292.918,292.912 ,292.912,292.91,292.907,292.905, 292.817)
ORBIT_NUMBER = 25266
ORBITAL_ECCENTRICITY = 0.575
ORBITAL_INCLINATION = 87.05
ORBITAL_SEMIMAJOR_AXIS = 8796.56
PERIAPSIS_ALTITUDE = 356.39
PERIAPSIS_ARGUMENT_ANGLE = 312.22
PERIAPSIS_TIME = 2024-01-05T08:42:27.000Z
SPACECRAFT_ORIENTATION = (0.0,1.0,0.0)
^MEX_ORIENTATION_DESC = "MEX_ORIENTATION_DESC.TXT"
SPACECRAFT_POINTING_MODE = ACROSSTRACK
^MEX_POINTING_DESC = "MEX_POINTING_DESC.TXT"
RIGHT_ASCENSION = -1e+32
DECLINATION = -1e+32
OFFSET_ANGLE = -0.916
SPACECRAFT_SOLAR_DISTANCE = 2.20675e+08
TARGET_NAME = MARS
/* CAMERA DATA ELEMENTS */
DETECTOR_TEMPERATURE = 18.1666
FOCAL_PLANE_TEMPERATURE = 7.9716
INST_CMPRS_NAME = "DISCRETE COSINE TRANSFORMATION (DCT)"
INST_CMPRS_RATIO = 3.19757
INST_CMPRS_QUALITY = 0
INST_CMPRS_QUANTZ_TBL_ID = 0
INSTRUMENT_TEMPERATURE = 11.0301
LENS_TEMPERATURE = 7.156
MACROPIXEL_SIZE = 4
MISSING_FRAMES = 0
PIXEL_SUBSAMPLING_FLAG = N
SIGNAL_CHAIN_ID = 2
/* RADIOMETRIC DATA ELEMENTS */
BANDWIDTH = 76.0
CENTER_FILTER_WAVELENGTH = 444.0
RADIANCE_OFFSET = 0.275263
RADIANCE_SCALING_FACTOR = 0.00164645
REFLECTANCE_SCALING_FACTOR = 8.23785e-05
MEX:REFLECTANCE_OFFSET = 0.0137725
/* IMAGE OBJECT DEFINITIONS */
OBJECT = IMAGE
  INTERCHANGE_FORMAT = BINARY
  LINES = 17235
  LINE_SAMPLES = 1806
  SAMPLE_TYPE = UNSIGNED_INTEGER
  SAMPLE_BITS = 8
  BANDS = 1
  BAND_STORAGE_TYPE = BAND_SEQUENTIAL
  MAXIMUM = 255
  MEAN = 110.334
  MINIMUM = 1
  STANDARD_DEVIATION = 36.488
END_OBJECT = IMAGE
/* MAP OBJECT DEFINITIONS */
OBJECT = IMAGE_MAP_PROJECTION
  ^DATA_SET_MAP_PROJECTION_CATALOG= "DSMAP.CAT"
  A_AXIS_RADIUS = 3396.0
  B_AXIS_RADIUS = 3396.0
  C_AXIS_RADIUS = 3396.0
  CENTER_LATITUDE = 0.0
  CENTER_LONGITUDE = 292.0
  COORDINATE_SYSTEM_NAME = PLANETOGRAPHIC
  COORDINATE_SYSTEM_TYPE = "BODY-FIXED ROTATING"
  EASTERNMOST_LONGITUDE = 292.955
  FIRST_STANDARD_PARALLEL = "N/A"
  LINE_FIRST_PIXEL = 1
  LINE_LAST_PIXEL = 17235
  LINE_PROJECTION_OFFSET = -48355.875
  MAP_PROJECTION_ROTATION = 0.0
  MAP_PROJECTION_TYPE = SINUSOIDAL
  MAP_RESOLUTION = 1185.42760773333
  MAP_SCALE = 0.05
  MAXIMUM_LATITUDE = -40.7902
  MINIMUM_LATITUDE = -55.3446
  POSITIVE_LONGITUDE_DIRECTION = EAST
  REFERENCE_LATITUDE = "N/A"
  REFERENCE_LONGITUDE = "N/A"
  SAMPLE_FIRST_PIXEL = 1
  SAMPLE_LAST_PIXEL = 1806
  SAMPLE_PROJECTION_OFFSET = 971.625
  SECOND_STANDARD_PARALLEL = "N/A"
  WESTERNMOST_LONGITUDE = 290.572
END_OBJECT = IMAGE_MAP_PROJECTION
END
