PDS_VERSION_ID = PDS3
/* FILE DATA ELEMENTS */
RECORD_TYPE = UNDEFINED
/* POINTERS TO DATA OBJECTS */
^IMAGE = ("HP260_0000_BL4.TIF")
/* IDENTIFICATION DATA ELEMENTS */
DATA_SET_ID = "MEX-M-HRSC-4-REFDR-MAPPROJECT-EXT9-V4.0"
DATA_SET_NAME = "MARS EXPRESS HRSC MAP PROJECTED REFDR EXTENSION9 V4.0"
DETECTOR_ID = MEX_HRSC_BLUE
EVENT_TYPE = "MARS-LOCAL-MAPPING-Fl-Lc-Eb"
INSTRUMENT_HOST_ID = MEX
INSTRUMENT_HOST_NAME = "MARS EXPRESS"
INSTRUMENT_ID = HRSC
INSTRUMENT_NAME = "HIGH RESOLUTION STEREO CAMERA"
MISSION_NAME = "MARS EXPRESS"
MISSION_PHASE_NAME = ME_Phase_50
PROCESSING_LEVEL_ID = 4
PRODUCT_CREATION_TIME = 2024-08-19T05:24:16.000Z
PRODUCT_ID = "HP260_0000_BL4.TIF"
RELEASE_ID = 0010
REVISION_ID = 0000
/* QUALITY DATA ELEMENTS */
DATA_QUALITY_ID = 1
DATA_QUALITY_DESC = "Data calculated based on original SPICE kernels"
/* TIME DATA ELEMENTS */
SPACECRAFT_CLOCK_START_COUNT = "1/0652373231.64147"
SPACECRAFT_CLOCK_STOP_COUNT = "1/0652373561.13365"
START_TIME = 2024-01-03T14:48:27.841Z
STOP_TIME = 2024-01-03T14:52:33.977Z
/* ORBITAL DATA ELEMENTS */
ASCENDING_NODE_LONGITUDE = 105.34
MAXIMUM_RESOLUTION = 0.0302
FOOTPRINT_POINT_LATITUDE = (-45.2245,-45.1817,-45.132,-45.0623, -45.0603,-45.0411,-44.733,-44.4245, -44.1147,-43.6519,-43.1896,-42.8812, -42.5699,-42.2614,-41.8013,-41.4921, -41.183,-40.8744,-40.5655,-40.1023, -39.7937,-39.4852,-39.1768,-38.714, -38.4057,-38.0974,-37.3272,-36.7122, -36.0979,-35.4856,-35.1712,-34.8572, -34.5427,-34.0709,-33.7566,-33.4423, -32.9626,-32.6402,-32.3187,-31.9975, -31.6766,-31.3562,-31.0298,-30.7011, -30.3728,-30.0453,-29.5516,-29.3841, -29.3522,-29.3879,-29.4171,-29.4483, -29.449,-29.4498,-29.7854,-30.1141, -30.4431,-30.7724,-31.1021,-31.4316, -31.7536,-32.0766,-32.3994,-32.8825, -33.2056,-33.5238,-33.839,-34.1543, -34.6279,-34.9437,-35.2601,-35.7318, -36.0405,-36.35,-36.6593,-37.2756, -37.5846,-37.8939,-38.2034,-38.5131, -38.8241,-39.1328,-39.4428,-39.7525, -40.2174,-40.5275,-40.837,-41.1474, -41.6131,-41.9235,-42.2339,-42.5442, -42.8546,-43.3197,-43.6301,-44.097, -44.5625,-45.0282,-45.1835,-45.2245)
FOOTPRINT_POINT_LONGITUDE = (180.633,180.016,179.357,178.509, 178.486,178.356,178.4,178.44,178.471, 178.53,178.591,178.63,178.648,178.684, 178.755,178.785,178.814,178.847,178.876 ,178.918,178.947,178.975,179.003, 179.041,179.067,179.091,179.15,179.198, 179.247,179.304,179.33,179.357,179.379, 179.408,179.426,179.443,179.449,179.462 ,179.479,179.496,179.512,179.53,179.55, 179.563,179.575,179.59,179.608,179.614, 179.616,180.265,180.854,181.551,181.568 ,181.574,181.561,181.547,181.533, 181.519,181.505,181.492,181.477,181.466 ,181.453,181.423,181.407,181.393, 181.375,181.358,181.332,181.314,181.297 ,181.27,181.254,181.241,181.226,181.18, 181.16,181.14,181.12,181.101,181.089, 181.061,181.041,181.018,180.984,180.961 ,180.934,180.911,180.877,180.852, 180.827,180.801,180.775,180.732,180.704 ,180.669,180.626,180.582,180.569, 180.633)
ORBIT_NUMBER = 25260
ORBITAL_ECCENTRICITY = 0.575
ORBITAL_INCLINATION = 87.06
ORBITAL_SEMIMAJOR_AXIS = 8795.71
PERIAPSIS_ALTITUDE = 356.67
PERIAPSIS_ARGUMENT_ANGLE = 313.22
PERIAPSIS_TIME = 2024-01-03T14:48:12.000Z
SPACECRAFT_ORIENTATION = (0.0,1.0,0.0)
^MEX_ORIENTATION_DESC = "MEX_ORIENTATION_DESC.TXT"
SPACECRAFT_POINTING_MODE = ACROSSTRACK
^MEX_POINTING_DESC = "MEX_POINTING_DESC.TXT"
RIGHT_ASCENSION = -1e+32
DECLINATION = -1e+32
OFFSET_ANGLE = 2.747
SPACECRAFT_SOLAR_DISTANCE = 2.21006e+08
TARGET_NAME = MARS
/* CAMERA DATA ELEMENTS */
DETECTOR_TEMPERATURE = 17.7588
FOCAL_PLANE_TEMPERATURE = 7.156
INST_CMPRS_NAME = "DISCRETE COSINE TRANSFORMATION (DCT)"
INST_CMPRS_RATIO = 3.35456
INST_CMPRS_QUALITY = 0
INST_CMPRS_QUANTZ_TBL_ID = 0
INSTRUMENT_TEMPERATURE = 10.6223
LENS_TEMPERATURE = 7.7677
MACROPIXEL_SIZE = 2
MISSING_FRAMES = 0
PIXEL_SUBSAMPLING_FLAG = N
SIGNAL_CHAIN_ID = 2
/* RADIOMETRIC DATA ELEMENTS */
BANDWIDTH = 76.0
CENTER_FILTER_WAVELENGTH = 444.0
RADIANCE_OFFSET = 0.408559
RADIANCE_SCALING_FACTOR = 0.00171365
REFLECTANCE_SCALING_FACTOR = 8.59972e-05
MEX:REFLECTANCE_OFFSET = 0.020503
/* IMAGE OBJECT DEFINITIONS */
OBJECT = IMAGE
  INTERCHANGE_FORMAT = BINARY
  LINES = 37486
  LINE_SAMPLES = 6073
  SAMPLE_TYPE = UNSIGNED_INTEGER
  SAMPLE_BITS = 8
  BANDS = 1
  BAND_STORAGE_TYPE = BAND_SEQUENTIAL
  MAXIMUM = 255
  MEAN = 206.688
  MINIMUM = 1
  STANDARD_DEVIATION = 36.1541
END_OBJECT = IMAGE
/* MAP OBJECT DEFINITIONS */
OBJECT = IMAGE_MAP_PROJECTION
  ^DATA_SET_MAP_PROJECTION_CATALOG= "DSMAP.CAT"
  A_AXIS_RADIUS = 3396.0
  B_AXIS_RADIUS = 3396.0
  C_AXIS_RADIUS = 3396.0
  CENTER_LATITUDE = 0.0
  CENTER_LONGITUDE = 180.0
  COORDINATE_SYSTEM_NAME = PLANETOGRAPHIC
  COORDINATE_SYSTEM_TYPE = "BODY-FIXED ROTATING"
  EASTERNMOST_LONGITUDE = 181.574
  FIRST_STANDARD_PARALLEL = "N/A"
  LINE_FIRST_PIXEL = 1
  LINE_LAST_PIXEL = 37486
  LINE_PROJECTION_OFFSET = -69648.75
  MAP_PROJECTION_ROTATION = 0.0
  MAP_PROJECTION_TYPE = SINUSOIDAL
  MAP_RESOLUTION = 2370.85521546667
  MAP_SCALE = 0.025
  MAXIMUM_LATITUDE = -29.3522
  MINIMUM_LATITUDE = -45.2245
  POSITIVE_LONGITUDE_DIRECTION = EAST
  REFERENCE_LATITUDE = "N/A"
  REFERENCE_LONGITUDE = "N/A"
  SAMPLE_FIRST_PIXEL = 1
  SAMPLE_LAST_PIXEL = 6073
  SAMPLE_PROJECTION_OFFSET = 2758.75
  SECOND_STANDARD_PARALLEL = "N/A"
  WESTERNMOST_LONGITUDE = 178.356
END_OBJECT = IMAGE_MAP_PROJECTION
END
