PDS_VERSION_ID = PDS3
/* FILE DATA ELEMENTS */
RECORD_TYPE = UNDEFINED
/* POINTERS TO DATA OBJECTS */
^IMAGE = ("HP251_0000_S14.TIF")
/* IDENTIFICATION DATA ELEMENTS */
DATA_SET_ID = "MEX-M-HRSC-4-REFDR-MAPPROJECT-EXT9-V4.0"
DATA_SET_NAME = "MARS EXPRESS HRSC MAP PROJECTED REFDR EXTENSION9 V4.0"
DETECTOR_ID = MEX_HRSC_S1
EVENT_TYPE = "MARS-REGIONAL-MAPPING-Vo-Im-Eo"
INSTRUMENT_HOST_ID = MEX
INSTRUMENT_HOST_NAME = "MARS EXPRESS"
INSTRUMENT_ID = HRSC
INSTRUMENT_NAME = "HIGH RESOLUTION STEREO CAMERA"
MISSION_NAME = "MARS EXPRESS"
MISSION_PHASE_NAME = ME_Phase_49
PROCESSING_LEVEL_ID = 4
PRODUCT_CREATION_TIME = 2024-08-19T05:24:16.000Z
PRODUCT_ID = "HP251_0000_S14.TIF"
RELEASE_ID = 0010
REVISION_ID = 0000
/* QUALITY DATA ELEMENTS */
DATA_QUALITY_ID = 1
DATA_QUALITY_DESC = "Data calculated based on original SPICE kernels"
/* TIME DATA ELEMENTS */
SPACECRAFT_CLOCK_START_COUNT = "1/0652146842.65135"
SPACECRAFT_CLOCK_STOP_COUNT = "1/0652147317.63477"
START_TIME = 2024-01-01T00:00:00.080Z
STOP_TIME = 2024-01-01T00:02:41.933Z
/* ORBITAL DATA ELEMENTS */
ASCENDING_NODE_LONGITUDE = 105.51
MAXIMUM_RESOLUTION = 0.0323
FOOTPRINT_POINT_LATITUDE = (-35.7752,-35.7624,-35.7528,-35.743, -35.7331,-35.7229,-35.7126,-35.7119, -35.7354,-35.539,-35.3448,-35.0539, -34.8603,-34.4752,-34.2824,-34.0895, -33.7061,-33.5141,-33.3221,-33.13, -32.9378,-32.6494,-32.4568,-32.0743, -31.5131,-31.1346,-30.9416,-30.7477, -30.5542,-30.2641,-29.975,-29.7823, -29.5855,-29.3882,-29.1911,-28.9945, -28.7983,-28.6023,-28.4017,-28.1082, -27.9092,-27.7092,-27.5094,-27.3074, -27.0973,-26.7908,-26.5877,-26.283, -26.0803,-25.9793,-25.9722,-25.9863, -25.9971,-26.0048,-26.0141,-26.0309, -26.0313,-26.032,-26.2349,-26.4373, -26.732,-26.9346,-27.2404,-27.4441, -27.6445,-27.844,-28.0446,-28.2452, -28.4454,-28.7447,-29.0399,-29.237, -29.4342,-29.6317,-29.829,-30.022, -30.2149,-30.4087,-30.6016,-30.7948, -30.9884,-31.1828,-31.5612,-32.037, -32.3225,-32.8916,-33.2751,-33.4681, -33.6603,-33.8528,-34.0485,-34.3393, -34.5325,-34.726,-35.0152,-35.2083, -35.5009,-35.6973,-35.7948,-35.7752)
FOOTPRINT_POINT_LONGITUDE = (24.8269,24.4647,24.2045,23.9468, 23.6919,23.4393,23.189,23.1734,23.1703, 23.1702,23.1702,23.17,23.1697,23.169, 23.1685,23.1678,23.1664,23.1655,23.1644 ,23.1633,23.1621,23.1601,23.1586, 23.1555,23.1508,23.147,23.1449,23.1428, 23.1405,23.1369,23.1332,23.1307,23.1279 ,23.1251,23.1222,23.1193,23.1162, 23.1131,23.1098,23.1049,23.1015,23.0979 ,23.0943,23.0905,23.0864,23.0804, 23.0763,23.0701,23.0658,23.0636,23.0635 ,23.47,23.8472,24.1417,24.4225,24.8338, 24.8517,24.8581,24.8584,24.858,24.8506, 24.8499,24.8496,24.8495,24.8499,24.8496 ,24.8497,24.8497,24.8492,24.8504, 24.8506,24.8507,24.8507,24.8506,24.8505 ,24.8505,24.8503,24.8506,24.8499, 24.8493,24.8488,24.8489,24.8481,24.8483 ,24.8479,24.8444,24.8443,24.8451,24.845 ,24.845,24.8474,24.8485,24.8485,24.8485 ,24.8473,24.8465,24.8475,24.8492, 24.8493,24.8269)
ORBIT_NUMBER = 25251
ORBITAL_ECCENTRICITY = 0.575
ORBITAL_INCLINATION = 87.05
ORBITAL_SEMIMAJOR_AXIS = 8801.91
PERIAPSIS_ALTITUDE = 356.94
PERIAPSIS_ARGUMENT_ANGLE = 314.74
PERIAPSIS_TIME = 2023-12-31T23:56:59.000Z
SPACECRAFT_ORIENTATION = (0.0,1.0,0.0)
^MEX_ORIENTATION_DESC = "MEX_ORIENTATION_DESC.TXT"
SPACECRAFT_POINTING_MODE = ACROSSTRACK
^MEX_POINTING_DESC = "MEX_POINTING_DESC.TXT"
RIGHT_ASCENSION = -1e+32
DECLINATION = -1e+32
OFFSET_ANGLE = -0.808
SPACECRAFT_SOLAR_DISTANCE = 2.21504e+08
TARGET_NAME = MARS
/* CAMERA DATA ELEMENTS */
DETECTOR_TEMPERATURE = 17.1471
FOCAL_PLANE_TEMPERATURE = 7.5638
INST_CMPRS_NAME = "DISCRETE COSINE TRANSFORMATION (DCT)"
INST_CMPRS_RATIO = 7.02306
INST_CMPRS_QUALITY = 0
INST_CMPRS_QUANTZ_TBL_ID = 0
INSTRUMENT_TEMPERATURE = 11.0301
LENS_TEMPERATURE = 7.9716
MACROPIXEL_SIZE = 2
MISSING_FRAMES = 0
PIXEL_SUBSAMPLING_FLAG = N
SIGNAL_CHAIN_ID = 1
/* RADIOMETRIC DATA ELEMENTS */
BANDWIDTH = 180.0
CENTER_FILTER_WAVELENGTH = 677.0
RADIANCE_OFFSET = 2.00421
RADIANCE_SCALING_FACTOR = 0.00992798
REFLECTANCE_SCALING_FACTOR = 0.000254136
MEX:REFLECTANCE_OFFSET = 0.0513036
/* IMAGE OBJECT DEFINITIONS */
OBJECT = IMAGE
  INTERCHANGE_FORMAT = BINARY
  LINES = 17869
  LINE_SAMPLES = 3627
  SAMPLE_TYPE = UNSIGNED_INTEGER
  SAMPLE_BITS = 8
  BANDS = 1
  BAND_STORAGE_TYPE = BAND_SEQUENTIAL
  MAXIMUM = 255
  MEAN = 115.643
  MINIMUM = 1
  STANDARD_DEVIATION = 32.7304
END_OBJECT = IMAGE
/* MAP OBJECT DEFINITIONS */
OBJECT = IMAGE_MAP_PROJECTION
  ^DATA_SET_MAP_PROJECTION_CATALOG= "DSMAP.CAT"
  A_AXIS_RADIUS = 3396.0
  B_AXIS_RADIUS = 3396.0
  C_AXIS_RADIUS = 3396.0
  CENTER_LATITUDE = 0.0
  CENTER_LONGITUDE = 24.0
  COORDINATE_SYSTEM_NAME = PLANETOGRAPHIC
  COORDINATE_SYSTEM_TYPE = "BODY-FIXED ROTATING"
  EASTERNMOST_LONGITUDE = 24.8584
  FIRST_STANDARD_PARALLEL = "N/A"
  LINE_FIRST_PIXEL = 1
  LINE_LAST_PIXEL = 17869
  LINE_PROJECTION_OFFSET = -61630.25
  MAP_PROJECTION_ROTATION = 0.0
  MAP_PROJECTION_TYPE = SINUSOIDAL
  MAP_RESOLUTION = 2370.85521546667
  MAP_SCALE = 0.025
  MAXIMUM_LATITUDE = -25.9722
  MINIMUM_LATITUDE = -35.7948
  POSITIVE_LONGITUDE_DIRECTION = EAST
  REFERENCE_LATITUDE = "N/A"
  REFERENCE_LONGITUDE = "N/A"
  SAMPLE_FIRST_PIXEL = 1
  SAMPLE_LAST_PIXEL = 3627
  SAMPLE_PROJECTION_OFFSET = 1916.25
  SECOND_STANDARD_PARALLEL = "N/A"
  WESTERNMOST_LONGITUDE = 23.0635
END_OBJECT = IMAGE_MAP_PROJECTION
END
