PDS_VERSION_ID = PDS3
/* FILE DATA ELEMENTS */
RECORD_TYPE = UNDEFINED
/* POINTERS TO DATA OBJECTS */
^IMAGE = ("HP244_0000_IR4.TIF")
/* IDENTIFICATION DATA ELEMENTS */
DATA_SET_ID = "MEX-M-HRSC-4-REFDR-MAPPROJECT-EXT9-V4.0"
DATA_SET_NAME = "MARS EXPRESS HRSC MAP PROJECTED REFDR EXTENSION9 V4.0"
DETECTOR_ID = MEX_HRSC_IR
EVENT_TYPE = "MARS-TERMINATOR-CALIBRATION-Tc"
INSTRUMENT_HOST_ID = MEX
INSTRUMENT_HOST_NAME = "MARS EXPRESS"
INSTRUMENT_ID = HRSC
INSTRUMENT_NAME = "HIGH RESOLUTION STEREO CAMERA"
MISSION_NAME = "MARS EXPRESS"
MISSION_PHASE_NAME = ME_Phase_49
PROCESSING_LEVEL_ID = 4
PRODUCT_CREATION_TIME = 2024-08-19T05:24:16.000Z
PRODUCT_ID = "HP244_0000_IR4.TIF"
RELEASE_ID = 0010
REVISION_ID = 0000
/* QUALITY DATA ELEMENTS */
DATA_QUALITY_ID = 1
DATA_QUALITY_DESC = "Data calculated based on original SPICE kernels"
/* TIME DATA ELEMENTS */
SPACECRAFT_CLOCK_START_COUNT = "1/0651960138.65099"
SPACECRAFT_CLOCK_STOP_COUNT = "1/0651960568.52554"
START_TIME = 2023-12-29T20:03:04.798Z
STOP_TIME = 2023-12-29T20:06:31.690Z
/* ORBITAL DATA ELEMENTS */
ASCENDING_NODE_LONGITUDE = 105.63
MAXIMUM_RESOLUTION = 0.8262
FOOTPRINT_POINT_LATITUDE = (14.3199,14.8439,15.266,15.5831,15.7898 ,15.8783,15.838,15.6527,15.3006,14.749, 13.9478,13.4304,12.8165,12.0852,11.2068 ,9.50288,9.15714,9.07881,12.0456, 14.7592,17.2869,19.6768,21.9536,24.1402 ,26.2466,28.3005,30.3118,32.2739, 34.2017,36.101,37.9771,39.8313,41.6605, 43.4737,45.266,47.0323,48.7654,50.4535, 52.0759,53.5943,54.9462,56.0141,56.3741 ,56.5511,56.4444,55.8229,53.6884, 53.7404,57.107,57.2249,61.1358,59.502, 63.7304,64.3397,63.1137,65.3163,65.7353 ,69.159,70.369,68.5235,72.3974,70.9456, 72.5395,69.3543,65.9256,65.7389,66.4462 ,72.9574,75.1803,76.1734,76.4142, 76.1534,75.5589,74.7505,72.7815,70.6125 ,68.3983,66.2037,64.0543,61.9578,59.915 ,57.9243,55.98,54.0778,52.2139,50.3824, 46.7998,43.2957,39.8498,36.4353,33.0147 ,29.5622,26.049,22.4399,20.5872,18.6931 ,15.7618,14.7568,14.3199)
FOOTPRINT_POINT_LONGITUDE = (247.775,250.558,253.387,256.278, 259.243,262.3,265.465,268.759,272.214, 275.873,279.801,281.898,284.105,286.449 ,288.968,293.213,293.996,294.247, 293.246,292.509,291.975,291.598,291.364 ,291.258,291.286,291.413,291.632, 291.987,292.464,293.067,293.801,294.689 ,295.79,297.071,298.593,300.417,302.605 ,305.217,308.341,312.141,316.815, 322.683,326.221,330.294,335.095,341.053 ,350.034,353.946,350.886,355.001, 355.949,4.15909,0.701598,4.98002, 12.9177,14.9222,20.4033,22.029,28.1013, 38.1193,44.5854,55.8151,70.1158,87.0184 ,102.744,103.693,105.391,123.771, 137.722,150.813,162.757,173.181,182.027 ,189.385,200.575,208.449,214.211, 218.594,222.045,224.844,227.169,229.139 ,230.838,232.325,233.642,234.822, 236.864,238.591,240.087,241.412,242.613 ,243.721,244.761,245.753,246.238, 246.718,247.434,247.673,247.775)
ORBIT_NUMBER = 25244
ORBITAL_ECCENTRICITY = 0.575
ORBITAL_INCLINATION = 87.06
ORBITAL_SEMIMAJOR_AXIS = 8803.5
PERIAPSIS_ALTITUDE = 357.16
PERIAPSIS_ARGUMENT_ANGLE = 315.92
PERIAPSIS_TIME = 2023-12-29T23:03:56.000Z
SPACECRAFT_ORIENTATION = (0.0,1.0,0.0)
^MEX_ORIENTATION_DESC = "MEX_ORIENTATION_DESC.TXT"
SPACECRAFT_POINTING_MODE = FIXED
^MEX_POINTING_DESC = "MEX_POINTING_DESC.TXT"
RIGHT_ASCENSION = -1e+32
DECLINATION = -1e+32
OFFSET_ANGLE = -1e+32
SPACECRAFT_SOLAR_DISTANCE = 2.21893e+08
TARGET_NAME = MARS
/* CAMERA DATA ELEMENTS */
DETECTOR_TEMPERATURE = 17.351
FOCAL_PLANE_TEMPERATURE = 7.7677
INST_CMPRS_NAME = "DISCRETE COSINE TRANSFORMATION (DCT)"
INST_CMPRS_RATIO = 9.52128
INST_CMPRS_QUALITY = 0
INST_CMPRS_QUANTZ_TBL_ID = 0
INSTRUMENT_TEMPERATURE = 10.8262
LENS_TEMPERATURE = 7.9716
MACROPIXEL_SIZE = 2
MISSING_FRAMES = 0
PIXEL_SUBSAMPLING_FLAG = N
SIGNAL_CHAIN_ID = 3
/* RADIOMETRIC DATA ELEMENTS */
BANDWIDTH = 81.0
CENTER_FILTER_WAVELENGTH = 955.5
RADIANCE_OFFSET = 0.0
RADIANCE_SCALING_FACTOR = 0.00240173
REFLECTANCE_SCALING_FACTOR = 0.000255174
MEX:REFLECTANCE_OFFSET = 0.0
/* IMAGE OBJECT DEFINITIONS */
OBJECT = IMAGE
  INTERCHANGE_FORMAT = BINARY
  LINES = 6158
  LINE_SAMPLES = 4009
  SAMPLE_TYPE = UNSIGNED_INTEGER
  SAMPLE_BITS = 8
  BANDS = 1
  BAND_STORAGE_TYPE = BAND_SEQUENTIAL
  MAXIMUM = 255
  MEAN = 158.494
  MINIMUM = 1
  STANDARD_DEVIATION = 111.946
END_OBJECT = IMAGE
/* MAP OBJECT DEFINITIONS */
OBJECT = IMAGE_MAP_PROJECTION
  ^DATA_SET_MAP_PROJECTION_CATALOG= "DSMAP.CAT"
  A_AXIS_RADIUS = 3396.0
  B_AXIS_RADIUS = 3396.0
  C_AXIS_RADIUS = 3396.0
  CENTER_LATITUDE = 49.0157
  CENTER_LONGITUDE = 262.543
  COORDINATE_SYSTEM_NAME = PLANETOGRAPHIC
  COORDINATE_SYSTEM_TYPE = "BODY-FIXED ROTATING"
  EASTERNMOST_LONGITUDE = 360.0
  FIRST_STANDARD_PARALLEL = "N/A"
  LINE_FIRST_PIXEL = 1
  LINE_LAST_PIXEL = 6158
  LINE_PROJECTION_OFFSET = 3797.75
  MAP_PROJECTION_ROTATION = 0.0
  MAP_PROJECTION_TYPE = ORTHOGRAPHIC
  MAP_RESOLUTION = 74.08922548333329
  MAP_SCALE = 0.8
  MAXIMUM_LATITUDE = 90.0
  MINIMUM_LATITUDE = 9.078810000000001
  POSITIVE_LONGITUDE_DIRECTION = EAST
  REFERENCE_LATITUDE = "N/A"
  REFERENCE_LONGITUDE = "N/A"
  SAMPLE_FIRST_PIXEL = 1
  SAMPLE_LAST_PIXEL = 4009
  SAMPLE_PROJECTION_OFFSET = 1358.25
  SECOND_STANDARD_PARALLEL = "N/A"
  WESTERNMOST_LONGITUDE = 0.0
END_OBJECT = IMAGE_MAP_PROJECTION
END
