PDS_VERSION_ID = PDS3
/* FILE DATA ELEMENTS */
RECORD_TYPE = UNDEFINED
/* POINTERS TO DATA OBJECTS */
^IMAGE = ("HP239_0000_RE4.TIF")
/* IDENTIFICATION DATA ELEMENTS */
DATA_SET_ID = "MEX-M-HRSC-4-REFDR-MAPPROJECT-EXT9-V4.0"
DATA_SET_NAME = "MARS EXPRESS HRSC MAP PROJECTED REFDR EXTENSION9 V4.0"
DETECTOR_ID = MEX_HRSC_RED
EVENT_TYPE = "MARS-LOCAL-MAPPING-Fl-Lc-Eb"
INSTRUMENT_HOST_ID = MEX
INSTRUMENT_HOST_NAME = "MARS EXPRESS"
INSTRUMENT_ID = HRSC
INSTRUMENT_NAME = "HIGH RESOLUTION STEREO CAMERA"
MISSION_NAME = "MARS EXPRESS"
MISSION_PHASE_NAME = ME_Phase_49
PROCESSING_LEVEL_ID = 4
PRODUCT_CREATION_TIME = 2024-08-19T05:24:16.000Z
PRODUCT_ID = "HP239_0000_RE4.TIF"
RELEASE_ID = 0010
REVISION_ID = 0000
/* QUALITY DATA ELEMENTS */
DATA_QUALITY_ID = 1
DATA_QUALITY_DESC = "Data calculated based on original SPICE kernels"
/* TIME DATA ELEMENTS */
SPACECRAFT_CLOCK_START_COUNT = "1/0651845293.00347"
SPACECRAFT_CLOCK_STOP_COUNT = "1/0651845519.48298"
START_TIME = 2023-12-28T12:09:05.041Z
STOP_TIME = 2023-12-28T12:11:35.193Z
/* ORBITAL DATA ELEMENTS */
ASCENDING_NODE_LONGITUDE = 105.71
MAXIMUM_RESOLUTION = 0.0613
FOOTPRINT_POINT_LATITUDE = (-40.8518,-40.9006,-40.9283,-40.9543, -40.9787,-41.0016,-41.0232,-41.0245, -40.9917,-40.7964,-40.6005,-40.405, -40.2092,-39.9157,-39.5253,-39.1352, -38.9397,-38.7445,-38.5489,-38.3533, -38.0604,-37.767,-37.3779,-37.0861, -36.8908,-36.6921,-36.4945,-36.298, -36.1019,-35.8079,-35.6118,-35.4166, -35.035,-34.7393,-34.4416,-34.2431, -33.9491,-33.7515,-33.5557,-33.2603, -32.9667,-32.7708,-32.5747,-32.2813, -32.0855,-31.8897,-31.5964,-31.3033, -31.2005,-31.1902,-31.1428,-31.1073, -31.0722,-31.0394,-31.011,-31.009, -31.0093,-31.2058,-31.4016,-31.6952, -31.8908,-32.0861,-32.2824,-32.5762, -32.8702,-33.0661,-33.3609,-33.6538, -33.8493,-34.0443,-34.2409,-34.4364, -34.6321,-34.8281,-35.025,-35.3191, -35.6137,-35.8103,-36.0069,-36.2038, -36.3997,-36.5952,-36.8892,-37.1841, -37.3817,-37.6752,-37.8709,-38.0665, -38.3598,-38.5553,-38.8485,-39.0444, -39.2401,-39.5301,-39.7257,-40.118, -40.41,-40.7038,-40.801,-40.8518)
FOOTPRINT_POINT_LONGITUDE = (172.248,171.764,171.476,171.196, 170.923,170.657,170.397,170.381,170.413 ,170.413,170.413,170.412,170.412,170.41 ,170.407,170.404,170.402,170.4,170.398, 170.396,170.393,170.389,170.382,170.377 ,170.374,170.374,170.373,170.371, 170.368,170.364,170.361,170.357,170.341 ,170.338,170.336,170.335,170.33,170.328 ,170.324,170.32,170.313,170.309,170.306 ,170.299,170.295,170.29,170.283,170.276 ,170.278,170.278,170.81,171.105,171.45, 171.754,172.0,172.018,172.024,172.028, 172.034,172.044,172.05,172.057,172.062, 172.071,172.08,172.086,172.094,172.105, 172.112,172.12,172.125,172.132,172.138, 172.144,172.149,172.158,172.166,172.171 ,172.176,172.18,172.187,172.193,172.202 ,172.21,172.213,172.222,172.228,172.235 ,172.245,172.251,172.261,172.267, 172.272,172.288,172.294,172.303,172.314 ,172.322,172.326,172.248)
ORBIT_NUMBER = 25239
ORBITAL_ECCENTRICITY = 0.575
ORBITAL_INCLINATION = 87.06
ORBITAL_SEMIMAJOR_AXIS = 8802.01
PERIAPSIS_ALTITUDE = 357.6
PERIAPSIS_ARGUMENT_ANGLE = 316.8
PERIAPSIS_TIME = 2023-12-28T12:08:59.000Z
SPACECRAFT_ORIENTATION = (0.0,1.0,0.0)
^MEX_ORIENTATION_DESC = "MEX_ORIENTATION_DESC.TXT"
SPACECRAFT_POINTING_MODE = ACROSSTRACK
^MEX_POINTING_DESC = "MEX_POINTING_DESC.TXT"
RIGHT_ASCENSION = -1e+32
DECLINATION = -1e+32
OFFSET_ANGLE = -2.142
SPACECRAFT_SOLAR_DISTANCE = 2.22172e+08
TARGET_NAME = MARS
/* CAMERA DATA ELEMENTS */
DETECTOR_TEMPERATURE = 18.1666
FOCAL_PLANE_TEMPERATURE = 7.3599
INST_CMPRS_NAME = "DISCRETE COSINE TRANSFORMATION (DCT)"
INST_CMPRS_RATIO = 6.09215
INST_CMPRS_QUALITY = 0
INST_CMPRS_QUANTZ_TBL_ID = 0
INSTRUMENT_TEMPERATURE = 11.234
LENS_TEMPERATURE = 6.9521
MACROPIXEL_SIZE = 4
MISSING_FRAMES = 0
PIXEL_SUBSAMPLING_FLAG = N
SIGNAL_CHAIN_ID = 2
/* RADIOMETRIC DATA ELEMENTS */
BANDWIDTH = 48.0
CENTER_FILTER_WAVELENGTH = 748.0
RADIANCE_OFFSET = 0.43775
RADIANCE_SCALING_FACTOR = 0.00190225
REFLECTANCE_SCALING_FACTOR = 0.000214276
MEX:REFLECTANCE_OFFSET = 0.0493096
/* IMAGE OBJECT DEFINITIONS */
OBJECT = IMAGE
  INTERCHANGE_FORMAT = BINARY
  LINES = 11662
  LINE_SAMPLES = 1956
  SAMPLE_TYPE = UNSIGNED_INTEGER
  SAMPLE_BITS = 8
  BANDS = 1
  BAND_STORAGE_TYPE = BAND_SEQUENTIAL
  MAXIMUM = 255
  MEAN = 84.2848
  MINIMUM = 1
  STANDARD_DEVIATION = 26.4631
END_OBJECT = IMAGE
/* MAP OBJECT DEFINITIONS */
OBJECT = IMAGE_MAP_PROJECTION
  ^DATA_SET_MAP_PROJECTION_CATALOG= "DSMAP.CAT"
  A_AXIS_RADIUS = 3396.0
  B_AXIS_RADIUS = 3396.0
  C_AXIS_RADIUS = 3396.0
  CENTER_LATITUDE = 0.0
  CENTER_LONGITUDE = 171.0
  COORDINATE_SYSTEM_NAME = PLANETOGRAPHIC
  COORDINATE_SYSTEM_TYPE = "BODY-FIXED ROTATING"
  EASTERNMOST_LONGITUDE = 172.326
  FIRST_STANDARD_PARALLEL = "N/A"
  LINE_FIRST_PIXEL = 1
  LINE_LAST_PIXEL = 11662
  LINE_PROJECTION_OFFSET = -36841.875
  MAP_PROJECTION_ROTATION = 0.0
  MAP_PROJECTION_TYPE = SINUSOIDAL
  MAP_RESOLUTION = 1185.42760773333
  MAP_SCALE = 0.05
  MAXIMUM_LATITUDE = -31.009
  MINIMUM_LATITUDE = -41.0245
  POSITIVE_LONGITUDE_DIRECTION = EAST
  REFERENCE_LATITUDE = "N/A"
  REFERENCE_LONGITUDE = "N/A"
  SAMPLE_FIRST_PIXEL = 1
  SAMPLE_LAST_PIXEL = 1956
  SAMPLE_PROJECTION_OFFSET = 776.875
  SECOND_STANDARD_PARALLEL = "N/A"
  WESTERNMOST_LONGITUDE = 170.276
END_OBJECT = IMAGE_MAP_PROJECTION
END
