PDS_VERSION_ID = PDS3
/* FILE DATA ELEMENTS */
RECORD_TYPE = UNDEFINED
/* POINTERS TO DATA OBJECTS */
^IMAGE = ("HP227_0000_S24.TIF")
/* IDENTIFICATION DATA ELEMENTS */
DATA_SET_ID = "MEX-M-HRSC-4-REFDR-MAPPROJECT-EXT9-V4.0"
DATA_SET_NAME = "MARS EXPRESS HRSC MAP PROJECTED REFDR EXTENSION9 V4.0"
DETECTOR_ID = MEX_HRSC_S2
EVENT_TYPE = "MARS-LOCAL-MAPPING-Im-Eo-At"
INSTRUMENT_HOST_ID = MEX
INSTRUMENT_HOST_NAME = "MARS EXPRESS"
INSTRUMENT_ID = HRSC
INSTRUMENT_NAME = "HIGH RESOLUTION STEREO CAMERA"
MISSION_NAME = "MARS EXPRESS"
MISSION_PHASE_NAME = ME_Phase_49
PROCESSING_LEVEL_ID = 4
PRODUCT_CREATION_TIME = 2024-08-19T05:24:16.000Z
PRODUCT_ID = "HP227_0000_S24.TIF"
RELEASE_ID = 0010
REVISION_ID = 0000
/* QUALITY DATA ELEMENTS */
DATA_QUALITY_ID = 1
DATA_QUALITY_DESC = "Data calculated based on original SPICE kernels"
/* TIME DATA ELEMENTS */
SPACECRAFT_CLOCK_START_COUNT = "1/0651543437.00348"
SPACECRAFT_CLOCK_STOP_COUNT = "1/0651543762.23777"
START_TIME = 2023-12-25T00:18:02.799Z
STOP_TIME = 2023-12-25T00:22:19.459Z
/* ORBITAL DATA ELEMENTS */
ASCENDING_NODE_LONGITUDE = 105.93
MAXIMUM_RESOLUTION = 0.0303
FOOTPRINT_POINT_LATITUDE = (-49.8225,-49.8346,-49.8392,-49.8393, -49.8392,-49.7493,-49.3857,-48.8382, -48.4729,-48.1054,-47.5541,-47.1848, -46.8147,-46.4454,-45.8905,-45.5764, -45.2695,-44.9588,-44.6511,-44.3371, -44.0254,-43.5603,-43.0873,-42.7742, -42.3028,-41.9891,-41.6778,-41.3659, -40.8948,-40.4119,-40.101,-39.7805, -39.4553,-39.1373,-38.8203,-38.3472, -38.0331,-37.7083,-37.3989,-37.0801, -36.6037,-36.1201,-35.8007,-35.3218, -34.9947,-34.509,-34.0348,-33.5524, -33.3908,-33.3536,-33.3394,-33.3259, -33.3062,-33.3055,-33.3057,-33.6271, -33.9492,-34.4319,-34.7546,-35.2358, -35.551,-35.8728,-36.1948,-36.5127, -36.8281,-37.1488,-37.6254,-38.1022, -38.4213,-38.742,-39.2181,-39.5363, -40.0168,-40.332,-40.6502,-40.9709, -41.2821,-41.5965,-41.9134,-42.2297, -42.5434,-42.8602,-43.1712,-43.4856, -44.1043,-44.5668,-44.8761,-45.3496, -45.6606,-46.1923,-46.561,-46.9334, -47.4879,-47.8583,-48.2249,-48.5922, -49.1426,-49.5081,-49.6905,-49.8225)
FOOTPRINT_POINT_LONGITUDE = (315.678,314.904,314.263,313.632, 313.612,313.612,313.637,313.675,313.698 ,313.722,313.755,313.776,313.796, 313.816,313.844,313.86,313.874,313.888, 313.902,313.915,313.928,313.946,313.964 ,313.975,313.991,314.001,314.011,314.02 ,314.033,314.046,314.054,314.062, 314.069,314.076,314.083,314.092,314.098 ,314.103,314.108,314.113,314.119, 314.126,314.129,314.134,314.137,314.141 ,314.145,314.147,314.148,314.148, 314.721,315.139,315.67,315.685,315.69, 315.692,315.694,315.696,315.696,315.699 ,315.705,315.706,315.706,315.71,315.715 ,315.716,315.72,315.724,315.726,315.726 ,315.729,315.73,315.729,315.732,315.733 ,315.731,315.737,315.739,315.74,315.74, 315.743,315.742,315.747,315.747,315.757 ,315.764,315.768,315.765,315.766,315.76 ,315.763,315.761,315.762,315.76,315.762 ,315.762,315.762,315.762,315.762, 315.678)
ORBIT_NUMBER = 25227
ORBITAL_ECCENTRICITY = 0.575
ORBITAL_INCLINATION = 87.06
ORBITAL_SEMIMAJOR_AXIS = 8804.9
PERIAPSIS_ALTITUDE = 357.67
PERIAPSIS_ARGUMENT_ANGLE = 318.84
PERIAPSIS_TIME = 2023-12-25T00:20:53.000Z
SPACECRAFT_ORIENTATION = (0.0,1.0,0.0)
^MEX_ORIENTATION_DESC = "MEX_ORIENTATION_DESC.TXT"
SPACECRAFT_POINTING_MODE = ACROSSTRACK
^MEX_POINTING_DESC = "MEX_POINTING_DESC.TXT"
RIGHT_ASCENSION = -1e+32
DECLINATION = -1e+32
OFFSET_ANGLE = -0.647
SPACECRAFT_SOLAR_DISTANCE = 2.22845e+08
TARGET_NAME = MARS
/* CAMERA DATA ELEMENTS */
DETECTOR_TEMPERATURE = 18.5744
FOCAL_PLANE_TEMPERATURE = 7.3599
INST_CMPRS_NAME = "DISCRETE COSINE TRANSFORMATION (DCT)"
INST_CMPRS_RATIO = 9.7442
INST_CMPRS_QUALITY = 0
INST_CMPRS_QUANTZ_TBL_ID = 0
INSTRUMENT_TEMPERATURE = 10.6223
LENS_TEMPERATURE = 8.1755
MACROPIXEL_SIZE = 2
MISSING_FRAMES = 0
PIXEL_SUBSAMPLING_FLAG = N
SIGNAL_CHAIN_ID = 1
/* RADIOMETRIC DATA ELEMENTS */
BANDWIDTH = 178.0
CENTER_FILTER_WAVELENGTH = 679.0
RADIANCE_OFFSET = 1.83531
RADIANCE_SCALING_FACTOR = 0.00494471
REFLECTANCE_SCALING_FACTOR = 0.00013004
MEX:REFLECTANCE_OFFSET = 0.0482667
/* IMAGE OBJECT DEFINITIONS */
OBJECT = IMAGE
  INTERCHANGE_FORMAT = BINARY
  LINES = 38975
  LINE_SAMPLES = 3488
  SAMPLE_TYPE = UNSIGNED_INTEGER
  SAMPLE_BITS = 8
  BANDS = 1
  BAND_STORAGE_TYPE = BAND_SEQUENTIAL
  MAXIMUM = 255
  MEAN = 98.0001
  MINIMUM = 1
  STANDARD_DEVIATION = 32.4917
END_OBJECT = IMAGE
/* MAP OBJECT DEFINITIONS */
OBJECT = IMAGE_MAP_PROJECTION
  ^DATA_SET_MAP_PROJECTION_CATALOG= "DSMAP.CAT"
  A_AXIS_RADIUS = 3396.0
  B_AXIS_RADIUS = 3396.0
  C_AXIS_RADIUS = 3396.0
  CENTER_LATITUDE = 0.0
  CENTER_LONGITUDE = 315.0
  COORDINATE_SYSTEM_NAME = PLANETOGRAPHIC
  COORDINATE_SYSTEM_TYPE = "BODY-FIXED ROTATING"
  EASTERNMOST_LONGITUDE = 315.768
  FIRST_STANDARD_PARALLEL = "N/A"
  LINE_FIRST_PIXEL = 1
  LINE_LAST_PIXEL = 38975
  LINE_PROJECTION_OFFSET = -79022.25
  MAP_PROJECTION_ROTATION = 0.0
  MAP_PROJECTION_TYPE = SINUSOIDAL
  MAP_RESOLUTION = 2370.85521546667
  MAP_SCALE = 0.025
  MAXIMUM_LATITUDE = -33.3055
  MINIMUM_LATITUDE = -49.8393
  POSITIVE_LONGITUDE_DIRECTION = EAST
  REFERENCE_LATITUDE = "N/A"
  REFERENCE_LONGITUDE = "N/A"
  SAMPLE_FIRST_PIXEL = 1
  SAMPLE_LAST_PIXEL = 3488
  SAMPLE_PROJECTION_OFFSET = 2092.75
  SECOND_STANDARD_PARALLEL = "N/A"
  WESTERNMOST_LONGITUDE = 313.612
END_OBJECT = IMAGE_MAP_PROJECTION
END
