PDS_VERSION_ID = PDS3
/* FILE DATA ELEMENTS */
RECORD_TYPE = UNDEFINED
/* POINTERS TO DATA OBJECTS */
^IMAGE = ("HP227_0000_S14.TIF")
/* IDENTIFICATION DATA ELEMENTS */
DATA_SET_ID = "MEX-M-HRSC-4-REFDR-MAPPROJECT-EXT9-V4.0"
DATA_SET_NAME = "MARS EXPRESS HRSC MAP PROJECTED REFDR EXTENSION9 V4.0"
DETECTOR_ID = MEX_HRSC_S1
EVENT_TYPE = "MARS-LOCAL-MAPPING-Im-Eo-At"
INSTRUMENT_HOST_ID = MEX
INSTRUMENT_HOST_NAME = "MARS EXPRESS"
INSTRUMENT_ID = HRSC
INSTRUMENT_NAME = "HIGH RESOLUTION STEREO CAMERA"
MISSION_NAME = "MARS EXPRESS"
MISSION_PHASE_NAME = ME_Phase_49
PROCESSING_LEVEL_ID = 4
PRODUCT_CREATION_TIME = 2024-08-19T05:24:16.000Z
PRODUCT_ID = "HP227_0000_S14.TIF"
RELEASE_ID = 0010
REVISION_ID = 0000
/* QUALITY DATA ELEMENTS */
DATA_QUALITY_ID = 1
DATA_QUALITY_DESC = "Data calculated based on original SPICE kernels"
/* TIME DATA ELEMENTS */
SPACECRAFT_CLOCK_START_COUNT = "1/0651543437.00348"
SPACECRAFT_CLOCK_STOP_COUNT = "1/0651543762.23777"
START_TIME = 2023-12-25T00:19:11.847Z
STOP_TIME = 2023-12-25T00:23:26.198Z
/* ORBITAL DATA ELEMENTS */
ASCENDING_NODE_LONGITUDE = 105.93
MAXIMUM_RESOLUTION = 0.0304
FOOTPRINT_POINT_LATITUDE = (-49.735,-49.7082,-49.6835,-49.6569, -49.6561,-49.7407,-49.4121,-48.9195, -48.5911,-48.2622,-47.7716,-47.444, -47.1177,-46.7909,-46.4636,-45.9726, -45.6454,-45.3131,-44.8217,-44.1684, -43.8415,-43.5113,-43.1878,-42.8621, -42.5345,-42.2114,-41.8844,-41.5573, -41.0674,-40.5824,-40.2565,-39.7725, -39.1372,-38.8146,-38.4856,-38.1684, -37.6886,-37.1974,-36.8805,-36.5572, -36.242,-35.9242,-35.4482,-34.8206, -34.3013,-33.9202,-33.5446,-33.3576, -33.3249,-33.3426,-33.3572,-33.3733, -33.3738,-33.3744,-33.9386,-34.3157, -34.6796,-34.9955,-35.3147,-35.6374, -35.9546,-36.2726,-36.5953,-37.0777, -37.723,-38.0438,-38.365,-38.6856, -39.0055,-39.3304,-39.8096,-40.134, -40.4596,-40.7798,-41.108,-41.434, -41.7629,-42.0869,-42.4128,-42.7357, -43.0658,-43.3928,-43.7173,-44.0518, -44.3873,-44.717,-45.0385,-45.3675, -45.8584,-46.3444,-46.8357,-47.1643, -47.6542,-47.9839,-48.3136,-48.8063, -49.2998,-49.6289,-49.7937,-49.735)
FOOTPRINT_POINT_LONGITUDE = (315.632,314.896,314.288,313.69,313.672 ,313.663,313.684,313.715,313.734, 313.753,313.78,313.797,313.814,313.83, 313.846,313.868,313.883,313.897,313.916 ,313.941,313.952,313.964,313.974, 313.984,313.994,314.004,314.013,314.021 ,314.033,314.044,314.051,314.061, 314.073,314.079,314.084,314.088,314.095 ,314.101,314.104,314.107,314.11,314.113 ,314.116,314.12,314.122,314.123,314.123 ,314.124,314.124,314.67,315.133,315.697 ,315.713,315.719,315.72,315.72,315.72, 315.719,315.721,315.725,315.724,315.724 ,315.727,315.73,315.734,315.734,315.734 ,315.734,315.732,315.734,315.731, 315.732,315.733,315.73,315.734,315.735, 315.735,315.734,315.734,315.732,315.735 ,315.735,315.733,315.74,315.747,315.749 ,315.743,315.744,315.742,315.735, 315.732,315.731,315.727,315.726,315.725 ,315.722,315.718,315.716,315.715, 315.632)
ORBIT_NUMBER = 25227
ORBITAL_ECCENTRICITY = 0.575
ORBITAL_INCLINATION = 87.06
ORBITAL_SEMIMAJOR_AXIS = 8804.9
PERIAPSIS_ALTITUDE = 357.67
PERIAPSIS_ARGUMENT_ANGLE = 318.84
PERIAPSIS_TIME = 2023-12-25T00:20:53.000Z
SPACECRAFT_ORIENTATION = (0.0,1.0,0.0)
^MEX_ORIENTATION_DESC = "MEX_ORIENTATION_DESC.TXT"
SPACECRAFT_POINTING_MODE = ACROSSTRACK
^MEX_POINTING_DESC = "MEX_POINTING_DESC.TXT"
RIGHT_ASCENSION = -1e+32
DECLINATION = -1e+32
OFFSET_ANGLE = -0.647
SPACECRAFT_SOLAR_DISTANCE = 2.22845e+08
TARGET_NAME = MARS
/* CAMERA DATA ELEMENTS */
DETECTOR_TEMPERATURE = 17.351
FOCAL_PLANE_TEMPERATURE = 7.3599
INST_CMPRS_NAME = "DISCRETE COSINE TRANSFORMATION (DCT)"
INST_CMPRS_RATIO = 10.0742
INST_CMPRS_QUALITY = 0
INST_CMPRS_QUANTZ_TBL_ID = 0
INSTRUMENT_TEMPERATURE = 10.6223
LENS_TEMPERATURE = 8.1755
MACROPIXEL_SIZE = 2
MISSING_FRAMES = 1
PIXEL_SUBSAMPLING_FLAG = N
SIGNAL_CHAIN_ID = 1
/* RADIOMETRIC DATA ELEMENTS */
BANDWIDTH = 180.0
CENTER_FILTER_WAVELENGTH = 677.0
RADIANCE_OFFSET = 1.76764
RADIANCE_SCALING_FACTOR = 0.00586546
REFLECTANCE_SCALING_FACTOR = 0.000151968
MEX:REFLECTANCE_OFFSET = 0.0457977
/* IMAGE OBJECT DEFINITIONS */
OBJECT = IMAGE
  INTERCHANGE_FORMAT = BINARY
  LINES = 38975
  LINE_SAMPLES = 3488
  SAMPLE_TYPE = UNSIGNED_INTEGER
  SAMPLE_BITS = 8
  BANDS = 1
  BAND_STORAGE_TYPE = BAND_SEQUENTIAL
  MAXIMUM = 255
  MEAN = 81.4176
  MINIMUM = 1
  STANDARD_DEVIATION = 26.2334
END_OBJECT = IMAGE
/* MAP OBJECT DEFINITIONS */
OBJECT = IMAGE_MAP_PROJECTION
  ^DATA_SET_MAP_PROJECTION_CATALOG= "DSMAP.CAT"
  A_AXIS_RADIUS = 3396.0
  B_AXIS_RADIUS = 3396.0
  C_AXIS_RADIUS = 3396.0
  CENTER_LATITUDE = 0.0
  CENTER_LONGITUDE = 315.0
  COORDINATE_SYSTEM_NAME = PLANETOGRAPHIC
  COORDINATE_SYSTEM_TYPE = "BODY-FIXED ROTATING"
  EASTERNMOST_LONGITUDE = 315.749
  FIRST_STANDARD_PARALLEL = "N/A"
  LINE_FIRST_PIXEL = 1
  LINE_LAST_PIXEL = 38975
  LINE_PROJECTION_OFFSET = -79022.25
  MAP_PROJECTION_ROTATION = 0.0
  MAP_PROJECTION_TYPE = SINUSOIDAL
  MAP_RESOLUTION = 2370.85521546667
  MAP_SCALE = 0.025
  MAXIMUM_LATITUDE = -33.3249
  MINIMUM_LATITUDE = -49.7937
  POSITIVE_LONGITUDE_DIRECTION = EAST
  REFERENCE_LATITUDE = "N/A"
  REFERENCE_LONGITUDE = "N/A"
  SAMPLE_FIRST_PIXEL = 1
  SAMPLE_LAST_PIXEL = 3488
  SAMPLE_PROJECTION_OFFSET = 2092.75
  SECOND_STANDARD_PARALLEL = "N/A"
  WESTERNMOST_LONGITUDE = 313.663
END_OBJECT = IMAGE_MAP_PROJECTION
END
