PDS_VERSION_ID = PDS3
/* FILE DATA ELEMENTS */
RECORD_TYPE = UNDEFINED
/* POINTERS TO DATA OBJECTS */
^IMAGE = ("HP189_0000_IR4.TIF")
/* IDENTIFICATION DATA ELEMENTS */
DATA_SET_ID = "MEX-M-HRSC-4-REFDR-MAPPROJECT-EXT9-V4.0"
DATA_SET_NAME = "MARS EXPRESS HRSC MAP PROJECTED REFDR EXTENSION9 V4.0"
DETECTOR_ID = MEX_HRSC_IR
EVENT_TYPE = "MARS-REGIONAL-MAPPING-Vo-Te"
INSTRUMENT_HOST_ID = MEX
INSTRUMENT_HOST_NAME = "MARS EXPRESS"
INSTRUMENT_ID = HRSC
INSTRUMENT_NAME = "HIGH RESOLUTION STEREO CAMERA"
MISSION_NAME = "MARS EXPRESS"
MISSION_PHASE_NAME = ME_Phase_47
PROCESSING_LEVEL_ID = 4
PRODUCT_CREATION_TIME = 2024-01-16T12:24:22.000Z
PRODUCT_ID = "HP189_0000_IR4.TIF"
RELEASE_ID = 0009
REVISION_ID = 0000
/* QUALITY DATA ELEMENTS */
DATA_QUALITY_ID = 1
DATA_QUALITY_DESC = "Data calculated based on original SPICE kernels"
/* TIME DATA ELEMENTS */
SPACECRAFT_CLOCK_START_COUNT = "1/0650588031.25676"
SPACECRAFT_CLOCK_STOP_COUNT = "1/0650588629.57174"
START_TIME = 2023-12-13T22:55:33.445Z
STOP_TIME = 2023-12-13T23:06:59.720Z
/* ORBITAL DATA ELEMENTS */
ASCENDING_NODE_LONGITUDE = 106.6
MAXIMUM_RESOLUTION = 0.0624
FOOTPRINT_POINT_LATITUDE = (-34.3012,-34.429,-34.4303,-34.4481, -33.7333,-33.0197,-32.307,-31.5964, -30.887,-29.472,-28.0637,-26.6628, -25.2693,-24.5613,-23.1443,-22.4239, -21.3442,-20.6117,-19.8801,-19.137, -18.0153,-17.2594,-16.4932,-15.722, -14.9426,-14.1523,-13.3549,-12.5488, -11.7325,-10.9058,-10.0695,-9.22115, -8.36154,-7.48957,-6.60436,-5.7039, -4.80149,-3.90675,-3.02177,-2.1458, -0.837927,0.169473,1.01066,1.84475, 2.66856,3.48006,4.28763,4.68813,4.73553 ,4.9163,5.02093,5.02326,5.02287,4.21702 ,3.40102,2.57684,1.74442,0.902448, 0.0503014,-0.977871,-1.84976,-2.73009, -3.61949,-4.5174,-5.42543,-6.33026, -7.22133,-8.09791,-8.95756,-9.80991, -10.6497,-11.4782,-12.2977,-13.1076, -13.909,-14.7027,-15.4853,-16.2599, -17.0299,-17.7884,-18.9146,-19.6608, -20.3946,-21.1303,-22.2133,-22.9363, -23.6457,-24.3576,-25.0683,-26.4656, -27.8703,-29.2823,-29.9911,-30.7015, -31.4131,-32.1264,-32.8412,-33.916, -34.2747,-34.3012)
FOOTPRINT_POINT_LONGITUDE = (233.598,231.781,231.762,231.713, 231.758,231.801,231.842,231.879,231.914 ,231.979,232.035,232.083,232.124, 232.143,232.173,232.186,232.202,232.21, 232.217,232.223,232.228,232.23,232.229, 232.228,232.224,232.218,232.209,232.198 ,232.185,232.169,232.149,232.128, 232.103,232.075,232.046,232.013,231.978 ,231.941,231.902,231.861,231.797, 231.743,231.694,231.645,231.594,231.538 ,231.486,231.459,231.456,233.187, 234.262,234.288,234.296,234.287,234.277 ,234.269,234.261,234.253,234.244, 234.234,234.226,234.218,234.21,234.202, 234.193,234.185,234.176,234.168,234.163 ,234.154,234.146,234.138,234.128, 234.118,234.107,234.095,234.083,234.07, 234.057,234.044,234.023,234.009,233.995 ,233.98,233.957,233.941,233.924,233.906 ,233.888,233.85,233.81,233.766,233.742, 233.718,233.692,233.665,233.637,233.592 ,233.577,233.598)
ORBIT_NUMBER = 25189
ORBITAL_ECCENTRICITY = 0.575
ORBITAL_INCLINATION = 87.06
ORBITAL_SEMIMAJOR_AXIS = 8821.04
PERIAPSIS_ALTITUDE = 356.32
PERIAPSIS_ARGUMENT_ANGLE = 325.23
PERIAPSIS_TIME = 2023-12-13T22:55:01.000Z
SPACECRAFT_ORIENTATION = (0.0,1.0,0.0)
^MEX_ORIENTATION_DESC = "MEX_ORIENTATION_DESC.TXT"
SPACECRAFT_POINTING_MODE = ACROSSTRACK
^MEX_POINTING_DESC = "MEX_POINTING_DESC.TXT"
RIGHT_ASCENSION = -1e+32
DECLINATION = -1e+32
OFFSET_ANGLE = 2.6
SPACECRAFT_SOLAR_DISTANCE = 2.24994e+08
TARGET_NAME = MARS
/* CAMERA DATA ELEMENTS */
DETECTOR_TEMPERATURE = 16.9432
FOCAL_PLANE_TEMPERATURE = 7.9716
INST_CMPRS_NAME = "DISCRETE COSINE TRANSFORMATION (DCT)"
INST_CMPRS_RATIO = 6.19413
INST_CMPRS_QUALITY = 0
INST_CMPRS_QUANTZ_TBL_ID = 0
INSTRUMENT_TEMPERATURE = 11.0301
LENS_TEMPERATURE = 8.7872
MACROPIXEL_SIZE = 4
PIXEL_SUBSAMPLING_FLAG = N
SIGNAL_CHAIN_ID = 2
/* RADIOMETRIC DATA ELEMENTS */
BANDWIDTH = 81.0
CENTER_FILTER_WAVELENGTH = 955.5
RADIANCE_OFFSET = 0.291062
RADIANCE_SCALING_FACTOR = 0.00456568
REFLECTANCE_SCALING_FACTOR = 0.000498628
MEX:REFLECTANCE_OFFSET = 0.0317876
/* IMAGE OBJECT DEFINITIONS */
OBJECT = IMAGE
  INTERCHANGE_FORMAT = BINARY
  LINES = 46655
  LINE_SAMPLES = 3155
  SAMPLE_TYPE = UNSIGNED_INTEGER
  SAMPLE_BITS = 8
  BANDS = 1
  BAND_STORAGE_TYPE = BAND_SEQUENTIAL
  MAXIMUM = 255
  MEAN = 122.862
  MINIMUM = 1
  STANDARD_DEVIATION = 44.2062
END_OBJECT = IMAGE
/* MAP OBJECT DEFINITIONS */
OBJECT = IMAGE_MAP_PROJECTION
  ^DATA_SET_MAP_PROJECTION_CATALOG= "DSMAP.CAT"
  A_AXIS_RADIUS = 3396.0
  B_AXIS_RADIUS = 3396.0
  C_AXIS_RADIUS = 3396.0
  CENTER_LATITUDE = 0.0
  CENTER_LONGITUDE = 233.0
  COORDINATE_SYSTEM_NAME = PLANETOGRAPHIC
  COORDINATE_SYSTEM_TYPE = "BODY-FIXED ROTATING"
  EASTERNMOST_LONGITUDE = 234.296
  FIRST_STANDARD_PARALLEL = "N/A"
  LINE_FIRST_PIXEL = 1
  LINE_LAST_PIXEL = 46655
  LINE_PROJECTION_OFFSET = 5821.875
  MAP_PROJECTION_ROTATION = 0.0
  MAP_PROJECTION_TYPE = SINUSOIDAL
  MAP_RESOLUTION = 1185.42760773333
  MAP_SCALE = 0.05
  MAXIMUM_LATITUDE = 5.02326
  MINIMUM_LATITUDE = -34.4481
  POSITIVE_LONGITUDE_DIRECTION = EAST
  REFERENCE_LATITUDE = "N/A"
  REFERENCE_LONGITUDE = "N/A"
  SAMPLE_FIRST_PIXEL = 1
  SAMPLE_LAST_PIXEL = 3155
  SAMPLE_PROJECTION_OFFSET = 1760.625
  SECOND_STANDARD_PARALLEL = "N/A"
  WESTERNMOST_LONGITUDE = 231.456
END_OBJECT = IMAGE_MAP_PROJECTION
END
