PDS_VERSION_ID = PDS3
/* FILE DATA ELEMENTS */
RECORD_TYPE = UNDEFINED
/* POINTERS TO DATA OBJECTS */
^IMAGE = ("HP182_0000_BL4.TIF")
/* IDENTIFICATION DATA ELEMENTS */
DATA_SET_ID = "MEX-M-HRSC-4-REFDR-MAPPROJECT-EXT9-V4.0"
DATA_SET_NAME = "MARS EXPRESS HRSC MAP PROJECTED REFDR EXTENSION9 V4.0"
DETECTOR_ID = MEX_HRSC_BLUE
EVENT_TYPE = "MARS-REGIONAL-MAPPING-Vo-Eo-La"
INSTRUMENT_HOST_ID = MEX
INSTRUMENT_HOST_NAME = "MARS EXPRESS"
INSTRUMENT_ID = HRSC
INSTRUMENT_NAME = "HIGH RESOLUTION STEREO CAMERA"
MISSION_NAME = "MARS EXPRESS"
MISSION_PHASE_NAME = ME_Phase_47
PROCESSING_LEVEL_ID = 4
PRODUCT_CREATION_TIME = 2024-01-16T12:24:22.000Z
PRODUCT_ID = "HP182_0000_BL4.TIF"
RELEASE_ID = 0009
REVISION_ID = 0000
/* QUALITY DATA ELEMENTS */
DATA_QUALITY_ID = 1
DATA_QUALITY_DESC = "Data calculated based on original SPICE kernels"
/* TIME DATA ELEMENTS */
SPACECRAFT_CLOCK_START_COUNT = "1/0650412223.25700"
SPACECRAFT_CLOCK_STOP_COUNT = "1/0650412638.58000"
START_TIME = 2023-12-11T22:04:54.824Z
STOP_TIME = 2023-12-11T22:09:53.693Z
/* ORBITAL DATA ELEMENTS */
ASCENDING_NODE_LONGITUDE = 106.72
MAXIMUM_RESOLUTION = 0.0693
FOOTPRINT_POINT_LATITUDE = (-20.5155,-20.4856,-20.4503,-20.3937, -20.3922,-20.3916,-19.4048,-18.7342, -18.0632,-17.3934,-17.0517,-16.71, -16.3685,-16.0271,-15.686,-15.3376, -14.9899,-14.6425,-14.2955,-13.9437, -13.5899,-13.2364,-12.8834,-12.3451, -11.9857,-11.6269,-11.2628,-10.8975, -10.5328,-10.1643,-9.79305,-9.42239, -9.0476,-8.67071,-8.29461,-7.91288, -7.33995,-6.75943,-6.37192,-5.97891, -5.58574,-4.98927,-4.59078,-4.18579, -3.78165,-3.37186,-2.75461,-2.33955, -2.13094,-2.05839,-2.0702,-2.07743, -2.08531,-2.09604,-2.09631,-2.09785, -2.72575,-3.14131,-3.55313,-3.96253, -4.36882,-4.77358,-5.17419,-5.57415, -5.96916,-6.36495,-6.949,-7.33858, -7.72215,-8.10638,-8.67639,-9.05478, -9.43236,-9.80457,-10.1774,-10.5488, -10.9151,-11.282,-11.6489,-12.0094, -12.5509,-12.9122,-13.2666,-13.6216, -13.977,-14.3316,-14.6801,-15.029, -15.3784,-15.9007,-16.2433,-16.5863, -16.9297,-17.614,-18.2874,-18.9619, -19.4679,-20.2939,-20.4593,-20.5155)
FOOTPRINT_POINT_LONGITUDE = (227.478,226.91,226.287,225.368,225.345 ,225.346,225.374,225.389,225.405, 225.419,225.426,225.433,225.439,225.442 ,225.446,225.449,225.453,225.456, 225.459,225.46,225.462,225.462,225.463, 225.463,225.463,225.462,225.461,225.46, 225.458,225.456,225.452,225.447,225.442 ,225.437,225.432,225.425,225.416, 225.406,225.397,225.388,225.38,225.364, 225.353,225.34,225.327,225.313,225.29, 225.276,225.269,225.267,225.957,226.4, 226.912,227.664,227.684,227.691,227.691 ,227.691,227.691,227.69,227.689,227.688 ,227.687,227.686,227.685,227.683,227.68 ,227.678,227.676,227.674,227.669, 227.666,227.663,227.66,227.658,227.654, 227.651,227.647,227.643,227.639,227.633 ,227.628,227.623,227.619,227.614, 227.609,227.604,227.598,227.592,227.583 ,227.577,227.571,227.566,227.551, 227.538,227.522,227.51,227.489,227.485, 227.478)
ORBIT_NUMBER = 25182
ORBITAL_ECCENTRICITY = 0.575
ORBITAL_INCLINATION = 87.06
ORBITAL_SEMIMAJOR_AXIS = 8821.92
PERIAPSIS_ALTITUDE = 356.66
PERIAPSIS_ARGUMENT_ANGLE = 326.42
PERIAPSIS_TIME = 2023-12-11T22:01:40.000Z
SPACECRAFT_ORIENTATION = (0.0,1.0,0.0)
^MEX_ORIENTATION_DESC = "MEX_ORIENTATION_DESC.TXT"
SPACECRAFT_POINTING_MODE = ACROSSTRACK
^MEX_POINTING_DESC = "MEX_POINTING_DESC.TXT"
RIGHT_ASCENSION = -1e+32
DECLINATION = -1e+32
OFFSET_ANGLE = 4.122
SPACECRAFT_SOLAR_DISTANCE = 2.25392e+08
TARGET_NAME = MARS
/* CAMERA DATA ELEMENTS */
DETECTOR_TEMPERATURE = 18.5744
FOCAL_PLANE_TEMPERATURE = 8.7872
INST_CMPRS_NAME = "DISCRETE COSINE TRANSFORMATION (DCT)"
INST_CMPRS_RATIO = 5.25692
INST_CMPRS_QUALITY = 0
INST_CMPRS_QUANTZ_TBL_ID = 0
INSTRUMENT_TEMPERATURE = 11.234
LENS_TEMPERATURE = 8.5833
MACROPIXEL_SIZE = 4
MISSING_FRAMES = 0
PIXEL_SUBSAMPLING_FLAG = N
SIGNAL_CHAIN_ID = 2
/* RADIOMETRIC DATA ELEMENTS */
BANDWIDTH = 76.0
CENTER_FILTER_WAVELENGTH = 444.0
RADIANCE_OFFSET = 0.482849
RADIANCE_SCALING_FACTOR = 0.00230516
REFLECTANCE_SCALING_FACTOR = 0.000120319
MEX:REFLECTANCE_OFFSET = 0.0252025
/* IMAGE OBJECT DEFINITIONS */
OBJECT = IMAGE
  INTERCHANGE_FORMAT = BINARY
  LINES = 21829
  LINE_SAMPLES = 3051
  SAMPLE_TYPE = UNSIGNED_INTEGER
  SAMPLE_BITS = 8
  BANDS = 1
  BAND_STORAGE_TYPE = BAND_SEQUENTIAL
  MAXIMUM = 255
  MEAN = 126.25
  MINIMUM = 1
  STANDARD_DEVIATION = 49.0597
END_OBJECT = IMAGE
/* MAP OBJECT DEFINITIONS */
OBJECT = IMAGE_MAP_PROJECTION
  ^DATA_SET_MAP_PROJECTION_CATALOG= "DSMAP.CAT"
  A_AXIS_RADIUS = 3396.0
  B_AXIS_RADIUS = 3396.0
  C_AXIS_RADIUS = 3396.0
  CENTER_LATITUDE = 0.0
  CENTER_LONGITUDE = 227.0
  COORDINATE_SYSTEM_NAME = PLANETOGRAPHIC
  COORDINATE_SYSTEM_TYPE = "BODY-FIXED ROTATING"
  EASTERNMOST_LONGITUDE = 227.691
  FIRST_STANDARD_PARALLEL = "N/A"
  LINE_FIRST_PIXEL = 1
  LINE_LAST_PIXEL = 21829
  LINE_PROJECTION_OFFSET = -2456.875
  MAP_PROJECTION_ROTATION = 0.0
  MAP_PROJECTION_TYPE = SINUSOIDAL
  MAP_RESOLUTION = 1185.42760773333
  MAP_SCALE = 0.05
  MAXIMUM_LATITUDE = -2.05839
  MINIMUM_LATITUDE = -20.5155
  POSITIVE_LONGITUDE_DIRECTION = EAST
  REFERENCE_LATITUDE = "N/A"
  REFERENCE_LONGITUDE = "N/A"
  SAMPLE_FIRST_PIXEL = 1
  SAMPLE_LAST_PIXEL = 3051
  SAMPLE_PROJECTION_OFFSET = 2233.375
  SECOND_STANDARD_PARALLEL = "N/A"
  WESTERNMOST_LONGITUDE = 225.267
END_OBJECT = IMAGE_MAP_PROJECTION
END
