PDS_VERSION_ID = PDS3
/* FILE DATA ELEMENTS */
RECORD_TYPE = UNDEFINED
/* POINTERS TO DATA OBJECTS */
^IMAGE = ("HP180_0000_RE4.TIF")
/* IDENTIFICATION DATA ELEMENTS */
DATA_SET_ID = "MEX-M-HRSC-4-REFDR-MAPPROJECT-EXT9-V4.0"
DATA_SET_NAME = "MARS EXPRESS HRSC MAP PROJECTED REFDR EXTENSION9 V4.0"
DETECTOR_ID = MEX_HRSC_RED
EVENT_TYPE = "MARS-REGIONAL-MAPPING-Im-Fl-La"
INSTRUMENT_HOST_ID = MEX
INSTRUMENT_HOST_NAME = "MARS EXPRESS"
INSTRUMENT_ID = HRSC
INSTRUMENT_NAME = "HIGH RESOLUTION STEREO CAMERA"
MISSION_NAME = "MARS EXPRESS"
MISSION_PHASE_NAME = ME_Phase_47
PROCESSING_LEVEL_ID = 4
PRODUCT_CREATION_TIME = 2024-01-16T12:24:22.000Z
PRODUCT_ID = "HP180_0000_RE4.TIF"
RELEASE_ID = 0009
REVISION_ID = 0000
/* QUALITY DATA ELEMENTS */
DATA_QUALITY_ID = 1
DATA_QUALITY_DESC = "Data calculated based on original SPICE kernels"
/* TIME DATA ELEMENTS */
SPACECRAFT_CLOCK_START_COUNT = "1/0650361915.25677"
SPACECRAFT_CLOCK_STOP_COUNT = "1/0650362373.15867"
START_TIME = 2023-12-11T08:05:58.055Z
STOP_TIME = 2023-12-11T08:11:35.388Z
/* ORBITAL DATA ELEMENTS */
ASCENDING_NODE_LONGITUDE = 106.75
MAXIMUM_RESOLUTION = 0.0636
FOOTPRINT_POINT_LATITUDE = (-22.4895,-22.4456,-22.3973,-22.3263, -22.3245,-22.3034,-21.7125,-21.1122, -20.7136,-20.3157,-19.7236,-19.3282, -18.9288,-18.3308,-17.932,-17.3339, -16.9354,-16.3235,-15.9159,-15.3044, -14.6771,-14.0568,-13.6393,-13.2121, -12.7841,-12.3576,-11.9249,-11.4902, -11.0539,-10.6069,-10.1653,-9.72036, -9.03794,-8.58085,-8.11762,-7.65311, -6.95762,-6.2591,-5.80198,-5.08204, -4.6158,-4.15642,-3.70117,-3.24151, -2.78324,-2.32768,-1.63737,-0.957873, -0.730695,-0.686239,-0.736921,-0.764239 ,-0.799492,-0.800412,-0.801889,-1.25772 ,-1.71368,-2.17411,-2.63188,-3.08892, -3.54879,-4.01071,-4.70353,-5.39506, -6.11689,-6.58059,-7.04393,-7.74161, -8.20687,-8.67206,-9.12774,-9.58201, -10.2591,-10.7053,-11.3684,-11.8059, -12.2393,-12.8882,-13.3156,-13.7444, -14.1645,-14.791,-15.2081,-15.6201, -16.0282,-16.4371,-16.8475,-17.4423, -17.854,-18.2518,-18.6513,-19.0492, -19.4477,-19.8469,-20.2463,-21.0346, -21.825,-22.2286,-22.4334,-22.4895)
FOOTPRINT_POINT_LONGITUDE = (73.7528,73.3111,72.8488,72.2072, 72.1914,72.1592,72.1761,72.1784,72.1818 ,72.1856,72.1969,72.2029,72.2028, 72.2033,72.2025,72.2007,72.2001,72.1991 ,72.198,72.195,72.1865,72.1897,72.1856, 72.1813,72.1757,72.1712,72.1656,72.1623 ,72.156,72.1428,72.141,72.1341,72.1204, 72.1086,72.0982,72.0877,72.0713,72.0485 ,72.0419,72.022,72.0015,71.9877,71.9774 ,71.9607,71.9443,71.9296,71.8973, 71.8741,71.865,71.8632,72.6961,73.1811, 73.8493,73.867,73.8729,73.8726,73.872, 73.8728,73.8722,73.8709,73.8704,73.8705 ,73.87,73.8679,73.8656,73.8644,73.8626, 73.8605,73.8587,73.8571,73.855,73.8518, 73.8501,73.8474,73.8443,73.8419,73.8367 ,73.8361,73.833,73.8304,73.8285,73.8233 ,73.8192,73.8163,73.8128,73.8095,73.807 ,73.7949,73.8002,73.7958,73.7923, 73.7876,73.783,73.7788,73.7745,73.7576, 73.7414,73.7394,73.7405,73.7528)
ORBIT_NUMBER = 25180
ORBITAL_ECCENTRICITY = 0.575
ORBITAL_INCLINATION = 87.07
ORBITAL_SEMIMAJOR_AXIS = 8822.92
PERIAPSIS_ALTITUDE = 356.6
PERIAPSIS_ARGUMENT_ANGLE = 326.78
PERIAPSIS_TIME = 2023-12-11T08:03:41.000Z
SPACECRAFT_ORIENTATION = (0.0,1.0,0.0)
^MEX_ORIENTATION_DESC = "MEX_ORIENTATION_DESC.TXT"
SPACECRAFT_POINTING_MODE = ACROSSTRACK
^MEX_POINTING_DESC = "MEX_POINTING_DESC.TXT"
RIGHT_ASCENSION = -1e+32
DECLINATION = -1e+32
OFFSET_ANGLE = 1.991
SPACECRAFT_SOLAR_DISTANCE = 2.25506e+08
TARGET_NAME = MARS
/* CAMERA DATA ELEMENTS */
DETECTOR_TEMPERATURE = 18.3705
FOCAL_PLANE_TEMPERATURE = 8.5833
INST_CMPRS_NAME = "DISCRETE COSINE TRANSFORMATION (DCT)"
INST_CMPRS_RATIO = 10.2574
INST_CMPRS_QUALITY = 0
INST_CMPRS_QUANTZ_TBL_ID = 0
INSTRUMENT_TEMPERATURE = 11.0301
LENS_TEMPERATURE = 7.5638
MACROPIXEL_SIZE = 4
MISSING_FRAMES = 3
PIXEL_SUBSAMPLING_FLAG = N
SIGNAL_CHAIN_ID = 2
/* RADIOMETRIC DATA ELEMENTS */
BANDWIDTH = 48.0
CENTER_FILTER_WAVELENGTH = 748.0
RADIANCE_OFFSET = 0.432412
RADIANCE_SCALING_FACTOR = 0.00107244
REFLECTANCE_SCALING_FACTOR = 0.000124455
MEX:REFLECTANCE_OFFSET = 0.0501807
/* IMAGE OBJECT DEFINITIONS */
OBJECT = IMAGE
  INTERCHANGE_FORMAT = BINARY
  LINES = 25711
  LINE_SAMPLES = 2604
  SAMPLE_TYPE = UNSIGNED_INTEGER
  SAMPLE_BITS = 8
  BANDS = 1
  BAND_STORAGE_TYPE = BAND_SEQUENTIAL
  MAXIMUM = 255
  MEAN = 134.272
  MINIMUM = 1
  STANDARD_DEVIATION = 47.834
END_OBJECT = IMAGE
/* MAP OBJECT DEFINITIONS */
OBJECT = IMAGE_MAP_PROJECTION
  ^DATA_SET_MAP_PROJECTION_CATALOG= "DSMAP.CAT"
  A_AXIS_RADIUS = 3396.0
  B_AXIS_RADIUS = 3396.0
  C_AXIS_RADIUS = 3396.0
  CENTER_LATITUDE = 0.0
  CENTER_LONGITUDE = 73.0
  COORDINATE_SYSTEM_NAME = PLANETOGRAPHIC
  COORDINATE_SYSTEM_TYPE = "BODY-FIXED ROTATING"
  EASTERNMOST_LONGITUDE = 73.8729
  FIRST_STANDARD_PARALLEL = "N/A"
  LINE_FIRST_PIXEL = 1
  LINE_LAST_PIXEL = 25711
  LINE_PROJECTION_OFFSET = -861.375
  MAP_PROJECTION_ROTATION = 0.0
  MAP_PROJECTION_TYPE = SINUSOIDAL
  MAP_RESOLUTION = 1185.42760773333
  MAP_SCALE = 0.05
  MAXIMUM_LATITUDE = -0.686239
  MINIMUM_LATITUDE = -22.4895
  POSITIVE_LONGITUDE_DIRECTION = EAST
  REFERENCE_LATITUDE = "N/A"
  REFERENCE_LONGITUDE = "N/A"
  SAMPLE_FIRST_PIXEL = 1
  SAMPLE_LAST_PIXEL = 2604
  SAMPLE_PROJECTION_OFFSET = 1492.375
  SECOND_STANDARD_PARALLEL = "N/A"
  WESTERNMOST_LONGITUDE = 71.86320000000001
END_OBJECT = IMAGE_MAP_PROJECTION
END
