PDS_VERSION_ID = PDS3
/* FILE DATA ELEMENTS */
RECORD_TYPE = UNDEFINED
/* POINTERS TO DATA OBJECTS */
^IMAGE = ("HP162_0000_S24.TIF")
/* IDENTIFICATION DATA ELEMENTS */
DATA_SET_ID = "MEX-M-HRSC-4-REFDR-MAPPROJECT-EXT9-V4.0"
DATA_SET_NAME = "MARS EXPRESS HRSC MAP PROJECTED REFDR EXTENSION9 V4.0"
DETECTOR_ID = MEX_HRSC_S2
EVENT_TYPE = "MARS-REGIONAL-MAPPING-Vo-Te-Im"
INSTRUMENT_HOST_ID = MEX
INSTRUMENT_HOST_NAME = "MARS EXPRESS"
INSTRUMENT_ID = HRSC
INSTRUMENT_NAME = "HIGH RESOLUTION STEREO CAMERA"
MISSION_NAME = "MARS EXPRESS"
MISSION_PHASE_NAME = ME_Phase_47
PROCESSING_LEVEL_ID = 4
PRODUCT_CREATION_TIME = 2024-01-16T12:24:22.000Z
PRODUCT_ID = "HP162_0000_S24.TIF"
RELEASE_ID = 0009
REVISION_ID = 0000
/* QUALITY DATA ELEMENTS */
DATA_QUALITY_ID = 1
DATA_QUALITY_DESC = "Data calculated based on original SPICE kernels"
/* TIME DATA ELEMENTS */
SPACECRAFT_CLOCK_START_COUNT = "1/0649909208.39013"
SPACECRAFT_CLOCK_STOP_COUNT = "1/0649909737.65228"
START_TIME = 2023-12-06T02:20:45.000Z
STOP_TIME = 2023-12-06T02:22:20.093Z
/* ORBITAL DATA ELEMENTS */
ASCENDING_NODE_LONGITUDE = 107.06
MAXIMUM_RESOLUTION = 0.0372
FOOTPRINT_POINT_LATITUDE = (-29.1385,-29.0947,-29.0491,-29.0018, -28.9524,-28.901,-28.8473,-28.7912, -28.7325,-28.6711,-28.6067,-28.539, -28.4678,-28.4119,-28.4024,-28.3661, -28.1877,-27.9446,-27.6968,-27.5203, -27.2916,-27.051,-26.6911,-26.391, -26.092,-25.8517,-25.671,-25.4308, -25.2505,-25.0099,-24.7104,-24.4687, -24.2275,-23.986,-23.7456,-23.6248, -23.4436,-23.2052,-22.9575,-22.6612, -22.4218,-22.3621,-22.3239,-22.3886, -22.4431,-22.5132,-22.5732,-22.6307, -22.6854,-22.7381,-22.7825,-22.8298, -22.8761,-22.9212,-22.9644,-23.0006, -23.0057,-23.0079,-23.1309,-23.3652, -23.4864,-23.6138,-23.7396,-23.8617, -23.984,-24.1058,-24.2275,-24.3483, -24.4699,-24.6531,-24.7753,-24.8969, -25.0189,-25.1403,-25.3225,-25.4439, -25.5653,-25.7466,-25.8681,-26.0503, -26.1713,-26.2926,-26.4137,-26.535, -26.6569,-26.7785,-26.8993,-27.0808, -27.3225,-27.5041,-27.7451,-27.8665, -28.1071,-28.2282,-28.3494,-28.5903, -28.7713,-29.013,-29.0734,-29.1385)
FOOTPRINT_POINT_LONGITUDE = (108.985,108.816,108.641,108.461, 108.275,108.083,107.885,107.68,107.467, 107.247,107.019,106.782,106.535,106.343 ,106.311,106.237,106.253,106.264, 106.267,106.287,106.326,106.342,106.368 ,106.39,106.414,106.431,106.442,106.459 ,106.472,106.488,106.51,106.524,106.539 ,106.553,106.57,106.576,106.587,106.607 ,106.609,106.637,106.655,106.659, 106.662,106.897,107.097,107.35,107.568, 107.778,107.981,108.177,108.344,108.526 ,108.704,108.877,109.045,109.187, 109.207,109.214,109.211,109.187,109.182 ,109.186,109.188,109.183,109.179, 109.175,109.17,109.164,109.159,109.152, 109.148,109.144,109.139,109.134,109.126 ,109.121,109.115,109.106,109.101, 109.093,109.087,109.082,109.076,109.071 ,109.066,109.061,109.055,109.046, 109.034,109.025,109.012,109.007,108.993 ,108.987,108.982,108.969,108.959, 108.947,108.944,108.985)
ORBIT_NUMBER = 25162
ORBITAL_ECCENTRICITY = 0.575
ORBITAL_INCLINATION = 87.05
ORBITAL_SEMIMAJOR_AXIS = 8828.5
PERIAPSIS_ALTITUDE = 357.82
PERIAPSIS_ARGUMENT_ANGLE = 329.86
PERIAPSIS_TIME = 2023-12-06T02:21:11.000Z
SPACECRAFT_ORIENTATION = (0.0,1.0,0.0)
^MEX_ORIENTATION_DESC = "MEX_ORIENTATION_DESC.TXT"
SPACECRAFT_POINTING_MODE = ACROSSTRACK
^MEX_POINTING_DESC = "MEX_POINTING_DESC.TXT"
RIGHT_ASCENSION = -1e+32
DECLINATION = -1e+32
OFFSET_ANGLE = 4.998
SPACECRAFT_SOLAR_DISTANCE = 2.26529e+08
TARGET_NAME = MARS
/* CAMERA DATA ELEMENTS */
DETECTOR_TEMPERATURE = 0.0
FOCAL_PLANE_TEMPERATURE = 0.0
INST_CMPRS_NAME = "DISCRETE COSINE TRANSFORMATION (DCT)"
INST_CMPRS_RATIO = 18.3165
INST_CMPRS_QUALITY = 0
INST_CMPRS_QUANTZ_TBL_ID = 0
INSTRUMENT_TEMPERATURE = 0.0
LENS_TEMPERATURE = 0.0
MACROPIXEL_SIZE = 2
MISSING_FRAMES = 0
PIXEL_SUBSAMPLING_FLAG = N
SIGNAL_CHAIN_ID = 1
/* RADIOMETRIC DATA ELEMENTS */
BANDWIDTH = 178.0
CENTER_FILTER_WAVELENGTH = 679.0
RADIANCE_OFFSET = 2.9365
RADIANCE_SCALING_FACTOR = 0.0053514
REFLECTANCE_SCALING_FACTOR = 0.000145427
MEX:REFLECTANCE_OFFSET = 0.0798009
/* IMAGE OBJECT DEFINITIONS */
OBJECT = IMAGE
  INTERCHANGE_FORMAT = BINARY
  LINES = 8205
  LINE_SAMPLES = 6305
  SAMPLE_TYPE = UNSIGNED_INTEGER
  SAMPLE_BITS = 8
  BANDS = 1
  BAND_STORAGE_TYPE = BAND_SEQUENTIAL
  MAXIMUM = 255
  MEAN = 202.529
  MINIMUM = 1
  STANDARD_DEVIATION = 69.7947
END_OBJECT = IMAGE
/* MAP OBJECT DEFINITIONS */
OBJECT = IMAGE_MAP_PROJECTION
  ^DATA_SET_MAP_PROJECTION_CATALOG= "DSMAP.CAT"
  A_AXIS_RADIUS = 3396.0
  B_AXIS_RADIUS = 3396.0
  C_AXIS_RADIUS = 3396.0
  CENTER_LATITUDE = 0.0
  CENTER_LONGITUDE = 108.0
  COORDINATE_SYSTEM_NAME = PLANETOGRAPHIC
  COORDINATE_SYSTEM_TYPE = "BODY-FIXED ROTATING"
  EASTERNMOST_LONGITUDE = 109.214
  FIRST_STANDARD_PARALLEL = "N/A"
  LINE_FIRST_PIXEL = 1
  LINE_LAST_PIXEL = 8205
  LINE_PROJECTION_OFFSET = -60183.75
  MAP_PROJECTION_ROTATION = 0.0
  MAP_PROJECTION_TYPE = SINUSOIDAL
  MAP_RESOLUTION = 2370.85521546667
  MAP_SCALE = 0.025
  MAXIMUM_LATITUDE = -22.3239
  MINIMUM_LATITUDE = -29.1385
  POSITIVE_LONGITUDE_DIRECTION = EAST
  REFERENCE_LATITUDE = "N/A"
  REFERENCE_LONGITUDE = "N/A"
  SAMPLE_FIRST_PIXEL = 1
  SAMPLE_LAST_PIXEL = 6305
  SAMPLE_PROJECTION_OFFSET = 3770.75
  SECOND_STANDARD_PARALLEL = "N/A"
  WESTERNMOST_LONGITUDE = 106.237
END_OBJECT = IMAGE_MAP_PROJECTION
END
