PDS_VERSION_ID = PDS3
/* FILE DATA ELEMENTS */
RECORD_TYPE = UNDEFINED
/* POINTERS TO DATA OBJECTS */
^IMAGE = ("HP162_0000_RE4.TIF")
/* IDENTIFICATION DATA ELEMENTS */
DATA_SET_ID = "MEX-M-HRSC-4-REFDR-MAPPROJECT-EXT9-V4.0"
DATA_SET_NAME = "MARS EXPRESS HRSC MAP PROJECTED REFDR EXTENSION9 V4.0"
DETECTOR_ID = MEX_HRSC_RED
EVENT_TYPE = "MARS-REGIONAL-MAPPING-Vo-Te-Im"
INSTRUMENT_HOST_ID = MEX
INSTRUMENT_HOST_NAME = "MARS EXPRESS"
INSTRUMENT_ID = HRSC
INSTRUMENT_NAME = "HIGH RESOLUTION STEREO CAMERA"
MISSION_NAME = "MARS EXPRESS"
MISSION_PHASE_NAME = ME_Phase_47
PROCESSING_LEVEL_ID = 4
PRODUCT_CREATION_TIME = 2024-01-16T12:24:22.000Z
PRODUCT_ID = "HP162_0000_RE4.TIF"
RELEASE_ID = 0009
REVISION_ID = 0000
/* QUALITY DATA ELEMENTS */
DATA_QUALITY_ID = 1
DATA_QUALITY_DESC = "Data calculated based on original SPICE kernels"
/* TIME DATA ELEMENTS */
SPACECRAFT_CLOCK_START_COUNT = "1/0649909208.39013"
SPACECRAFT_CLOCK_STOP_COUNT = "1/0649909737.65228"
START_TIME = 2023-12-06T02:20:52.500Z
STOP_TIME = 2023-12-06T02:22:20.100Z
/* ORBITAL DATA ELEMENTS */
ASCENDING_NODE_LONGITUDE = 107.06
MAXIMUM_RESOLUTION = 0.0729
FOOTPRINT_POINT_LATITUDE = (-29.0943,-29.0585,-29.0215,-28.983, -28.943,-28.9013,-28.8579,-28.8126, -28.7653,-28.7159,-28.6643,-28.6101, -28.5532,-28.478,-28.4702,-28.4391, -28.2213,-28.0582,-27.9447,-27.8276, -27.6088,-27.4034,-27.2921,-27.0723, -26.8531,-26.5789,-26.3596,-26.1954, -26.0311,-25.8663,-25.5915,-25.4268, -25.1525,-24.9326,-24.7138,-24.5482, -24.3278,-24.1076,-23.9426,-23.7227, -23.5019,-23.2292,-23.0607,-22.9484, -22.8946,-22.8645,-22.9181,-22.9542, -23.0002,-23.0504,-23.098,-23.1268, -23.1708,-23.2192,-23.2592,-23.2937, -23.3368,-23.3672,-23.4037,-23.4332, -23.4374,-23.4399,-23.5524,-23.6701, -23.782,-23.9485,-24.0595,-24.2262, -24.4476,-24.5586,-24.6702,-24.7817, -24.8927,-25.0039,-25.1148,-25.2258, -25.392,-25.5029,-25.6688,-25.8348, -25.9458,-26.0567,-26.278,-26.4439, -26.6105,-26.7217,-26.8326,-27.0535, -27.219,-27.4403,-27.6606,-27.8263, -27.9369,-28.1573,-28.268,-28.4334, -28.7093,-28.9853,-29.0405,-29.0943)
FOOTPRINT_POINT_LONGITUDE = (108.998,108.836,108.669,108.498, 108.321,108.139,107.95,107.756,107.555, 107.348,107.133,106.91,106.679,106.377, 106.346,106.274,106.293,106.308,106.308 ,106.299,106.316,106.364,106.368, 106.383,106.399,106.419,106.435,106.448 ,106.46,106.472,106.49,106.501,106.521, 106.535,106.552,106.561,106.574,106.588 ,106.598,106.612,106.624,106.647, 106.649,106.65,106.657,106.662,106.888, 107.035,107.228,107.441,107.646,107.77, 107.963,108.175,108.355,108.51,108.703, 108.845,109.033,109.17,109.189,109.195, 109.194,109.202,109.199,109.192,109.188 ,109.181,109.171,109.167,109.163,109.16 ,109.155,109.151,109.146,109.142, 109.134,109.129,109.121,109.114,109.109 ,109.104,109.094,109.086,109.079, 109.075,109.07,109.059,109.05,109.04, 109.027,109.019,109.014,109.002,108.997 ,108.988,108.974,108.96,108.957, 108.998)
ORBIT_NUMBER = 25162
ORBITAL_ECCENTRICITY = 0.575
ORBITAL_INCLINATION = 87.05
ORBITAL_SEMIMAJOR_AXIS = 8828.5
PERIAPSIS_ALTITUDE = 357.82
PERIAPSIS_ARGUMENT_ANGLE = 329.86
PERIAPSIS_TIME = 2023-12-06T02:21:11.000Z
SPACECRAFT_ORIENTATION = (0.0,1.0,0.0)
^MEX_ORIENTATION_DESC = "MEX_ORIENTATION_DESC.TXT"
SPACECRAFT_POINTING_MODE = ACROSSTRACK
^MEX_POINTING_DESC = "MEX_POINTING_DESC.TXT"
RIGHT_ASCENSION = -1e+32
DECLINATION = -1e+32
OFFSET_ANGLE = 4.998
SPACECRAFT_SOLAR_DISTANCE = 2.26529e+08
TARGET_NAME = MARS
/* CAMERA DATA ELEMENTS */
DETECTOR_TEMPERATURE = 0.0
FOCAL_PLANE_TEMPERATURE = 0.0
INST_CMPRS_NAME = "DISCRETE COSINE TRANSFORMATION (DCT)"
INST_CMPRS_RATIO = 34.9958
INST_CMPRS_QUALITY = 0
INST_CMPRS_QUANTZ_TBL_ID = 0
INSTRUMENT_TEMPERATURE = 0.0
LENS_TEMPERATURE = 0.0
MACROPIXEL_SIZE = 4
MISSING_FRAMES = 0
PIXEL_SUBSAMPLING_FLAG = N
SIGNAL_CHAIN_ID = 2
/* RADIOMETRIC DATA ELEMENTS */
BANDWIDTH = 48.0
CENTER_FILTER_WAVELENGTH = 748.0
RADIANCE_OFFSET = 0.716081
RADIANCE_SCALING_FACTOR = 0.000399265
REFLECTANCE_SCALING_FACTOR = 4.67558e-05
MEX:REFLECTANCE_OFFSET = 0.0838565
/* IMAGE OBJECT DEFINITIONS */
OBJECT = IMAGE
  INTERCHANGE_FORMAT = BINARY
  LINES = 4103
  LINE_SAMPLES = 3153
  SAMPLE_TYPE = UNSIGNED_INTEGER
  SAMPLE_BITS = 8
  BANDS = 1
  BAND_STORAGE_TYPE = BAND_SEQUENTIAL
  MAXIMUM = 255
  MEAN = 247.669
  MINIMUM = 8
  STANDARD_DEVIATION = 24.9907
END_OBJECT = IMAGE
/* MAP OBJECT DEFINITIONS */
OBJECT = IMAGE_MAP_PROJECTION
  ^DATA_SET_MAP_PROJECTION_CATALOG= "DSMAP.CAT"
  A_AXIS_RADIUS = 3396.0
  B_AXIS_RADIUS = 3396.0
  C_AXIS_RADIUS = 3396.0
  CENTER_LATITUDE = 0.0
  CENTER_LONGITUDE = 108.0
  COORDINATE_SYSTEM_NAME = PLANETOGRAPHIC
  COORDINATE_SYSTEM_TYPE = "BODY-FIXED ROTATING"
  EASTERNMOST_LONGITUDE = 109.202
  FIRST_STANDARD_PARALLEL = "N/A"
  LINE_FIRST_PIXEL = 1
  LINE_LAST_PIXEL = 4103
  LINE_PROJECTION_OFFSET = -30092.125
  MAP_PROJECTION_ROTATION = 0.0
  MAP_PROJECTION_TYPE = SINUSOIDAL
  MAP_RESOLUTION = 1185.42760773333
  MAP_SCALE = 0.05
  MAXIMUM_LATITUDE = -22.8645
  MINIMUM_LATITUDE = -29.0943
  POSITIVE_LONGITUDE_DIRECTION = EAST
  REFERENCE_LATITUDE = "N/A"
  REFERENCE_LONGITUDE = "N/A"
  SAMPLE_FIRST_PIXEL = 1
  SAMPLE_LAST_PIXEL = 3153
  SAMPLE_PROJECTION_OFFSET = 1885.125
  SECOND_STANDARD_PARALLEL = "N/A"
  WESTERNMOST_LONGITUDE = 106.274
END_OBJECT = IMAGE_MAP_PROJECTION
END
