PDS_VERSION_ID = PDS3
/* FILE DATA ELEMENTS */
RECORD_TYPE = UNDEFINED
/* POINTERS TO DATA OBJECTS */
^IMAGE = ("HP156_0000_RE4.TIF")
/* IDENTIFICATION DATA ELEMENTS */
DATA_SET_ID = "MEX-M-HRSC-4-REFDR-MAPPROJECT-EXT9-V4.0"
DATA_SET_NAME = "MARS EXPRESS HRSC MAP PROJECTED REFDR EXTENSION9 V4.0"
DETECTOR_ID = MEX_HRSC_RED
EVENT_TYPE = "MARS-TERMINATOR-CALIBRATION-Tc"
INSTRUMENT_HOST_ID = MEX
INSTRUMENT_HOST_NAME = "MARS EXPRESS"
INSTRUMENT_ID = HRSC
INSTRUMENT_NAME = "HIGH RESOLUTION STEREO CAMERA"
MISSION_NAME = "MARS EXPRESS"
MISSION_PHASE_NAME = ME_Phase_47
PROCESSING_LEVEL_ID = 4
PRODUCT_CREATION_TIME = 2024-01-16T12:24:22.000Z
PRODUCT_ID = "HP156_0000_RE4.TIF"
RELEASE_ID = 0009
REVISION_ID = 0000
/* QUALITY DATA ELEMENTS */
DATA_QUALITY_ID = 1
DATA_QUALITY_DESC = "Data calculated based on original SPICE kernels"
/* TIME DATA ELEMENTS */
SPACECRAFT_CLOCK_START_COUNT = "1/0649763394.23965"
SPACECRAFT_CLOCK_STOP_COUNT = "1/0649763884.22220"
START_TIME = 2023-12-04T09:54:21.824Z
STOP_TIME = 2023-12-04T09:58:38.801Z
/* ORBITAL DATA ELEMENTS */
ASCENDING_NODE_LONGITUDE = 107.18
MAXIMUM_RESOLUTION = 0.582
FOOTPRINT_POINT_LATITUDE = (18.4256,16.1989,12.9835,10.3553, 7.89807,8.3609,7.97424,10.0129,11.0246, 12.4088,10.1662,11.847,14.5718,11.4699, 14.7044,13.4426,17.1338,15.3711,18.6476 ,16.9109,20.115,18.2614,21.8696,17.9696 ,18.7989,23.3606,21.7896,24.6234,25.537 ,25.7226,22.8663,24.8967,26.8439, 27.5219,26.6819,30.0214,28.2193,30.76, 29.2449,31.2878,28.7597,32.1433,33.7237 ,29.4403,34.542,34.4944,32.6511,35.6528 ,33.8542,36.286,33.7055,36.8018,37.6934 ,37.1803,39.6142,40.1367,39.0961, 39.3697,37.7644,41.8479,41.5564,42.8084 ,41.9407,42.4415,48.9588,52.8846, 55.8095,58.2116,62.0981,65.211,67.798, 69.9796,71.8184,73.3422,74.5608,76.1052 ,76.4939,75.8831,74.5263,72.6728, 70.4982,68.1122,65.571,62.9019,60.1104, 57.189,54.1148,50.8527,47.3522,43.5312, 41.4619,39.261,36.8865,34.3029,31.4338, 28.1628,24.2721,21.9526,19.2325, 18.4256)
FOOTPRINT_POINT_LONGITUDE = (194.465,196.096,197.963,199.141, 200.005,199.722,203.632,204.75,207.792, 210.484,212.836,216.691,218.511,221.013 ,221.192,223.095,224.344,226.44,226.345 ,229.573,231.786,233.815,235.904, 238.771,240.829,240.061,244.336,244.274 ,246.244,248.547,250.981,251.298, 252.828,254.933,258.929,258.697,261.946 ,262.095,263.995,264.383,266.709, 267.857,269.812,272.855,272.14,274.87, 278.333,278.604,280.698,281.241,283.618 ,285.505,288.298,291.636,292.583, 295.859,299.658,303.298,305.585,308.889 ,315.605,320.522,323.219,326.091, 325.407,324.068,322.718,321.315,318.273 ,314.835,310.914,306.433,301.319, 295.527,289.058,274.435,258.966,244.741 ,233.049,223.996,217.125,211.88,207.83, 204.652,202.122,200.083,198.429,197.084 ,195.996,195.134,194.784,194.487, 194.249,194.072,193.968,193.958,194.081 ,194.22,194.441,194.465)
ORBIT_NUMBER = 25156
ORBITAL_ECCENTRICITY = 0.575
ORBITAL_INCLINATION = 87.05
ORBITAL_SEMIMAJOR_AXIS = 8826.98
PERIAPSIS_ALTITUDE = 358.74
PERIAPSIS_ARGUMENT_ANGLE = 330.89
PERIAPSIS_TIME = 2023-12-04T08:27:01.000Z
SPACECRAFT_ORIENTATION = (0.0,1.0,0.0)
^MEX_ORIENTATION_DESC = "MEX_ORIENTATION_DESC.TXT"
SPACECRAFT_POINTING_MODE = FIXED
^MEX_POINTING_DESC = "MEX_POINTING_DESC.TXT"
RIGHT_ASCENSION = -1e+32
DECLINATION = -1e+32
OFFSET_ANGLE = -1e+32
SPACECRAFT_SOLAR_DISTANCE = 2.2687e+08
TARGET_NAME = MARS
/* CAMERA DATA ELEMENTS */
DETECTOR_TEMPERATURE = 18.7783
FOCAL_PLANE_TEMPERATURE = 8.7872
INST_CMPRS_NAME = "DISCRETE COSINE TRANSFORMATION (DCT)"
INST_CMPRS_RATIO = 14.7185
INST_CMPRS_QUALITY = 0
INST_CMPRS_QUANTZ_TBL_ID = 0
INSTRUMENT_TEMPERATURE = 11.4379
LENS_TEMPERATURE = 8.7872
MACROPIXEL_SIZE = 2
MISSING_FRAMES = 0
PIXEL_SUBSAMPLING_FLAG = N
SIGNAL_CHAIN_ID = 3
/* RADIOMETRIC DATA ELEMENTS */
BANDWIDTH = 48.0
CENTER_FILTER_WAVELENGTH = 748.0
RADIANCE_OFFSET = 0.0
RADIANCE_SCALING_FACTOR = 0.0140258
REFLECTANCE_SCALING_FACTOR = 0.00164727
MEX:REFLECTANCE_OFFSET = 0.0
/* IMAGE OBJECT DEFINITIONS */
OBJECT = IMAGE
  INTERCHANGE_FORMAT = BINARY
  LINES = 9668
  LINE_SAMPLES = 11576
  SAMPLE_TYPE = UNSIGNED_INTEGER
  SAMPLE_BITS = 8
  BANDS = 1
  BAND_STORAGE_TYPE = BAND_SEQUENTIAL
  MAXIMUM = 255
  MEAN = 165.227
  MINIMUM = 62
  STANDARD_DEVIATION = 48.4514
END_OBJECT = IMAGE
/* MAP OBJECT DEFINITIONS */
OBJECT = IMAGE_MAP_PROJECTION
  ^DATA_SET_MAP_PROJECTION_CATALOG= "DSMAP.CAT"
  A_AXIS_RADIUS = 3396.0
  B_AXIS_RADIUS = 3396.0
  C_AXIS_RADIUS = 3396.0
  CENTER_LATITUDE = 57.6992
  CENTER_LONGITUDE = 234.426
  COORDINATE_SYSTEM_NAME = PLANETOGRAPHIC
  COORDINATE_SYSTEM_TYPE = "BODY-FIXED ROTATING"
  EASTERNMOST_LONGITUDE = 326.091
  FIRST_STANDARD_PARALLEL = "N/A"
  LINE_FIRST_PIXEL = 1
  LINE_LAST_PIXEL = 9668
  LINE_PROJECTION_OFFSET = 3763.75
  MAP_PROJECTION_ROTATION = 0.0
  MAP_PROJECTION_TYPE = ORTHOGRAPHIC
  MAP_RESOLUTION = 148.178450966667
  MAP_SCALE = 0.4
  MAXIMUM_LATITUDE = 76.4939
  MINIMUM_LATITUDE = 7.89807
  POSITIVE_LONGITUDE_DIRECTION = EAST
  REFERENCE_LATITUDE = "N/A"
  REFERENCE_LONGITUDE = "N/A"
  SAMPLE_FIRST_PIXEL = 1
  SAMPLE_LAST_PIXEL = 11576
  SAMPLE_PROJECTION_OFFSET = 5198.25
  SECOND_STANDARD_PARALLEL = "N/A"
  WESTERNMOST_LONGITUDE = 193.958
END_OBJECT = IMAGE_MAP_PROJECTION
END
