PDS_VERSION_ID = PDS3
/* FILE DATA ELEMENTS */
RECORD_TYPE = UNDEFINED
/* POINTERS TO DATA OBJECTS */
^IMAGE = ("HP152_0000_IR4.TIF")
/* IDENTIFICATION DATA ELEMENTS */
DATA_SET_ID = "MEX-M-HRSC-4-REFDR-MAPPROJECT-EXT9-V4.0"
DATA_SET_NAME = "MARS EXPRESS HRSC MAP PROJECTED REFDR EXTENSION9 V4.0"
DETECTOR_ID = MEX_HRSC_IR
EVENT_TYPE = "MARS-TERMINATOR-CALIBRATION-Tc"
INSTRUMENT_HOST_ID = MEX
INSTRUMENT_HOST_NAME = "MARS EXPRESS"
INSTRUMENT_ID = HRSC
INSTRUMENT_NAME = "HIGH RESOLUTION STEREO CAMERA"
MISSION_NAME = "MARS EXPRESS"
MISSION_PHASE_NAME = ME_Phase_47
PROCESSING_LEVEL_ID = 4
PRODUCT_CREATION_TIME = 2024-01-16T12:24:22.000Z
PRODUCT_ID = "HP152_0000_IR4.TIF"
RELEASE_ID = 0009
REVISION_ID = 0000
/* QUALITY DATA ELEMENTS */
DATA_QUALITY_ID = 1
DATA_QUALITY_DESC = "Data calculated based on original SPICE kernels"
/* TIME DATA ELEMENTS */
SPACECRAFT_CLOCK_START_COUNT = "1/0649661586.23963"
SPACECRAFT_CLOCK_STOP_COUNT = "1/0649662128.24092"
START_TIME = 2023-12-03T05:33:42.813Z
STOP_TIME = 2023-12-03T05:38:56.806Z
/* ORBITAL DATA ELEMENTS */
ASCENDING_NODE_LONGITUDE = 107.24
MAXIMUM_RESOLUTION = 0.4505
FOOTPRINT_POINT_LATITUDE = (32.4129,29.8086,28.0215,25.3391, 21.8651,24.7458,25.0479,25.1922,24.9972 ,25.2296,26.1947,23.7572,25.2714, 27.1108,25.8231,27.5267,25.4818,26.9474 ,26.4971,24.2216,28.0934,26.5809, 28.4096,25.9138,28.4453,29.3155,29.4249 ,31.4836,34.1716,35.8963,37.0193, 37.8467,38.5637,38.1215,37.3464,36.0558 ,33.8828,31.8538,32.1928,30.9549, 29.0989,32.1195,30.1692,33.1397,30.3674 ,31.3883,33.4929,33.9107,33.0531, 33.3396,31.6518,33.5866,30.8979,32.0234 ,34.2237,32.955,33.3632,31.9788,32.8531 ,31.9446,34.3099,37.2516,38.2357, 38.5561,42.8583,45.9539,48.4716,50.5751 ,54.1815,57.1384,59.6804,61.9174,63.904 ,65.7097,67.3108,70.0422,72.186,73.7561 ,74.7368,75.1192,74.9203,74.1994, 73.0317,71.4964,69.6545,67.5438,65.1755 ,62.5415,59.6071,56.3047,54.4775, 52.5034,50.346,47.978,45.4089,42.3231, 38.4964,36.0121,32.9712,32.4129)
FOOTPRINT_POINT_LONGITUDE = (248.689,249.919,250.575,251.313, 251.881,251.457,255.069,258.496,261.76, 264.784,267.537,269.342,273.214,275.532 ,277.042,278.031,279.635,281.868, 285.562,287.058,287.67,289.08,289.952, 291.488,293.398,295.533,297.778,298.563 ,300.341,302.284,304.348,306.484, 310.968,315.677,318.111,320.602,323.182 ,324.573,326.904,330.629,332.029, 332.981,334.392,336.684,338.173,342.029 ,344.638,347.439,350.361,353.398, 356.551,358.154,359.83,363.231,365.104, 366.901,370.853,372.862,375.079,377.317 ,377.951,378.483,378.756,378.853, 378.196,377.504,376.777,376.016,374.382 ,372.591,370.626,368.468,366.097, 363.454,360.585,353.975,346.085,336.89, 326.608,315.766,305.093,295.247,286.622 ,279.308,273.21,268.151,263.949,260.441 ,257.494,255.006,253.909,252.902, 251.978,251.132,250.348,249.667,249.096 ,248.879,248.716,248.689)
ORBIT_NUMBER = 25152
ORBITAL_ECCENTRICITY = 0.575
ORBITAL_INCLINATION = 87.06
ORBITAL_SEMIMAJOR_AXIS = 8830.53
PERIAPSIS_ALTITUDE = 358.56
PERIAPSIS_ARGUMENT_ANGLE = 331.59
PERIAPSIS_TIME = 2023-12-03T04:30:54.000Z
SPACECRAFT_ORIENTATION = (0.0,1.0,0.0)
^MEX_ORIENTATION_DESC = "MEX_ORIENTATION_DESC.TXT"
SPACECRAFT_POINTING_MODE = FIXED
^MEX_POINTING_DESC = "MEX_POINTING_DESC.TXT"
RIGHT_ASCENSION = -1e+32
DECLINATION = -1e+32
OFFSET_ANGLE = -1e+32
SPACECRAFT_SOLAR_DISTANCE = 2.27097e+08
TARGET_NAME = MARS
/* CAMERA DATA ELEMENTS */
DETECTOR_TEMPERATURE = 17.9627
FOCAL_PLANE_TEMPERATURE = 8.7872
INST_CMPRS_NAME = "DISCRETE COSINE TRANSFORMATION (DCT)"
INST_CMPRS_RATIO = 7.84274
INST_CMPRS_QUALITY = 0
INST_CMPRS_QUANTZ_TBL_ID = 0
INSTRUMENT_TEMPERATURE = 11.0301
LENS_TEMPERATURE = 8.7872
MACROPIXEL_SIZE = 2
MISSING_FRAMES = 1
PIXEL_SUBSAMPLING_FLAG = N
SIGNAL_CHAIN_ID = 3
/* RADIOMETRIC DATA ELEMENTS */
BANDWIDTH = 81.0
CENTER_FILTER_WAVELENGTH = 955.5
RADIANCE_OFFSET = 0.0
RADIANCE_SCALING_FACTOR = 0.0134959
REFLECTANCE_SCALING_FACTOR = 0.00150148
MEX:REFLECTANCE_OFFSET = 0.0
/* IMAGE OBJECT DEFINITIONS */
OBJECT = IMAGE
  INTERCHANGE_FORMAT = BINARY
  LINES = 7481
  LINE_SAMPLES = 12992
  SAMPLE_TYPE = UNSIGNED_INTEGER
  SAMPLE_BITS = 8
  BANDS = 1
  BAND_STORAGE_TYPE = BAND_SEQUENTIAL
  MAXIMUM = 255
  MEAN = 146.908
  MINIMUM = 53
  STANDARD_DEVIATION = 41.7594
END_OBJECT = IMAGE
/* MAP OBJECT DEFINITIONS */
OBJECT = IMAGE_MAP_PROJECTION
  ^DATA_SET_MAP_PROJECTION_CATALOG= "DSMAP.CAT"
  A_AXIS_RADIUS = 3396.0
  B_AXIS_RADIUS = 3396.0
  C_AXIS_RADIUS = 3396.0
  CENTER_LATITUDE = 61.1528
  CENTER_LONGITUDE = 301.216
  COORDINATE_SYSTEM_NAME = PLANETOGRAPHIC
  COORDINATE_SYSTEM_TYPE = "BODY-FIXED ROTATING"
  EASTERNMOST_LONGITUDE = 18.853
  FIRST_STANDARD_PARALLEL = "N/A"
  LINE_FIRST_PIXEL = 1
  LINE_LAST_PIXEL = 7481
  LINE_PROJECTION_OFFSET = 2371.75
  MAP_PROJECTION_ROTATION = 0.0
  MAP_PROJECTION_TYPE = ORTHOGRAPHIC
  MAP_RESOLUTION = 148.178450966667
  MAP_SCALE = 0.4
  MAXIMUM_LATITUDE = 75.11920000000001
  MINIMUM_LATITUDE = 21.8651
  POSITIVE_LONGITUDE_DIRECTION = EAST
  REFERENCE_LATITUDE = "N/A"
  REFERENCE_LONGITUDE = "N/A"
  SAMPLE_FIRST_PIXEL = 1
  SAMPLE_LAST_PIXEL = 12992
  SAMPLE_PROJECTION_OFFSET = 6140.25
  SECOND_STANDARD_PARALLEL = "N/A"
  WESTERNMOST_LONGITUDE = -111.311
END_OBJECT = IMAGE_MAP_PROJECTION
END
