PDS_VERSION_ID = PDS3
/* FILE DATA ELEMENTS */
RECORD_TYPE = UNDEFINED
/* POINTERS TO DATA OBJECTS */
^IMAGE = ("HP046_0000_IR4.TIF")
/* IDENTIFICATION DATA ELEMENTS */
DATA_SET_ID = "MEX-M-HRSC-4-REFDR-MAPPROJECT-EXT9-V4.0"
DATA_SET_NAME = "MARS EXPRESS HRSC MAP PROJECTED REFDR EXTENSION9 V4.0"
DETECTOR_ID = MEX_HRSC_IR
EVENT_TYPE = "MARS-TERMINATOR-CALIBRATION-Tc"
INSTRUMENT_HOST_ID = MEX
INSTRUMENT_HOST_NAME = "MARS EXPRESS"
INSTRUMENT_ID = HRSC
INSTRUMENT_NAME = "HIGH RESOLUTION STEREO CAMERA"
MISSION_NAME = "MARS EXPRESS"
MISSION_PHASE_NAME = ME_Phase_47
PROCESSING_LEVEL_ID = 4
PRODUCT_CREATION_TIME = 2024-01-16T10:24:31.000Z
PRODUCT_ID = "HP046_0000_IR4.TIF"
RELEASE_ID = 0008
REVISION_ID = 0000
/* QUALITY DATA ELEMENTS */
DATA_QUALITY_ID = 1
DATA_QUALITY_DESC = "Data calculated based on original SPICE kernels"
/* TIME DATA ELEMENTS */
SPACECRAFT_CLOCK_START_COUNT = "1/0646995326.23938"
SPACECRAFT_CLOCK_STOP_COUNT = "1/0646995953.20039"
START_TIME = 2023-11-02T08:56:02.681Z
STOP_TIME = 2023-11-02T09:02:41.732Z
/* ORBITAL DATA ELEMENTS */
ASCENDING_NODE_LONGITUDE = 109.11
MAXIMUM_RESOLUTION = 0.3362
FOOTPRINT_POINT_LATITUDE = (23.6575,24.4921,23.9257,25.4824, 24.1281,26.0838,24.4487,26.5322,24.1621 ,26.5594,24.2759,26.9278,24.3275, 26.9015,24.6454,27.2936,24.8831,27.5087 ,30.2037,33.3806,37.4449,39.923,43.1981 ,46.7334,48.6432,50.2808,51.5635, 51.4305,50.6836,49.1104,47.4859,44.4132 ,41.6484,37.6839,33.3643,33.4147, 36.1175,36.1766,33.861,36.2854,33.7611, 36.3359,35.2694,37.7874,35.1134,38.8182 ,34.9513,39.3374,36.468,39.8064,35.4031 ,40.2368,36.7493,40.6365,35.5149, 42.5301,36.5381,34.667,37.3786,34.9832, 37.5606,36.0714,37.9556,36.233,39.0136, 37.0129,39.618,37.7745,38.5718,40.2071, 39.3818,39.6562,45.0076,50.3218,56.0418 ,59.8488,63.8466,66.3911,69.7537, 71.9198,74.0596,74.4518,73.6049,72.3538 ,69.6899,66.209,61.7431,58.093,55.1912, 50.6371,47.702,45.3215,41.6323,38.4168, 35.0934,31.0655,28.4545,24.7371,23.7044 ,23.6575)
FOOTPRINT_POINT_LONGITUDE = (260.206,260.266,266.012,270.521,275.36 ,277.1,279.683,281.595,282.926,283.787, 285.334,286.406,288.257,287.979,290.052 ,291.511,293.155,292.89,292.876,293.197 ,294.363,295.55,297.96,302.171,305.79, 310.494,318.768,325.448,330.397,335.858 ,339.503,344.171,347.014,349.8,351.462, 355.754,355.793,356.207,356.925,357.242 ,358.005,357.863,360.843,360.0,361.084, 360.0,361.325,359.983,361.08,359.978, 361.393,359.982,361.187,359.994,361.543 ,360.017,361.648,363.699,364.073, 364.744,364.953,367.567,369.885,373.888 ,374.71,379.351,379.888,384.577,388.273 ,390.607,390.747,390.832,389.682, 387.763,384.578,381.407,376.617,372.312 ,363.903,355.183,337.844,324.727, 307.436,298.036,286.727,278.155,271.468 ,267.875,265.769,263.396,262.305, 261.615,260.816,260.351,260.078,259.94, 259.978,260.149,260.223,260.206)
ORBIT_NUMBER = 25046
ORBITAL_ECCENTRICITY = 0.575
ORBITAL_INCLINATION = 87.07
ORBITAL_SEMIMAJOR_AXIS = 8851.1
PERIAPSIS_ALTITUDE = 364.49
PERIAPSIS_ARGUMENT_ANGLE = 349.66
PERIAPSIS_TIME = 2023-11-02T08:10:55.000Z
SPACECRAFT_ORIENTATION = (0.0,1.0,0.0)
^MEX_ORIENTATION_DESC = "MEX_ORIENTATION_DESC.TXT"
SPACECRAFT_POINTING_MODE = FIXED
^MEX_POINTING_DESC = "MEX_POINTING_DESC.TXT"
RIGHT_ASCENSION = -1e+32
DECLINATION = -1e+32
OFFSET_ANGLE = -1e+32
SPACECRAFT_SOLAR_DISTANCE = 2.32993e+08
TARGET_NAME = MARS
/* CAMERA DATA ELEMENTS */
DETECTOR_TEMPERATURE = 17.351
FOCAL_PLANE_TEMPERATURE = 8.1755
INST_CMPRS_NAME = "DISCRETE COSINE TRANSFORMATION (DCT)"
INST_CMPRS_RATIO = 7.99615
INST_CMPRS_QUALITY = 0
INST_CMPRS_QUANTZ_TBL_ID = 0
INSTRUMENT_TEMPERATURE = 11.234
LENS_TEMPERATURE = 8.7872
MACROPIXEL_SIZE = 2
MISSING_FRAMES = 0
PIXEL_SUBSAMPLING_FLAG = N
SIGNAL_CHAIN_ID = 3
/* RADIOMETRIC DATA ELEMENTS */
BANDWIDTH = 81.0
CENTER_FILTER_WAVELENGTH = 955.5
RADIANCE_OFFSET = 0.0
RADIANCE_SCALING_FACTOR = 0.0119223
REFLECTANCE_SCALING_FACTOR = 0.00139621
MEX:REFLECTANCE_OFFSET = 0.0
/* IMAGE OBJECT DEFINITIONS */
OBJECT = IMAGE
  INTERCHANGE_FORMAT = BINARY
  LINES = 7781
  LINE_SAMPLES = 11675
  SAMPLE_TYPE = UNSIGNED_INTEGER
  SAMPLE_BITS = 8
  BANDS = 1
  BAND_STORAGE_TYPE = BAND_SEQUENTIAL
  MAXIMUM = 255
  MEAN = 136.565
  MINIMUM = 39
  STANDARD_DEVIATION = 41.6521
END_OBJECT = IMAGE
/* MAP OBJECT DEFINITIONS */
OBJECT = IMAGE_MAP_PROJECTION
  ^DATA_SET_MAP_PROJECTION_CATALOG= "DSMAP.CAT"
  A_AXIS_RADIUS = 3396.0
  B_AXIS_RADIUS = 3396.0
  C_AXIS_RADIUS = 3396.0
  CENTER_LATITUDE = 60.8373
  CENTER_LONGITUDE = 304.414
  COORDINATE_SYSTEM_NAME = PLANETOGRAPHIC
  COORDINATE_SYSTEM_TYPE = "BODY-FIXED ROTATING"
  EASTERNMOST_LONGITUDE = 30.832
  FIRST_STANDARD_PARALLEL = "N/A"
  LINE_FIRST_PIXEL = 1
  LINE_LAST_PIXEL = 7781
  LINE_PROJECTION_OFFSET = 2599.25
  MAP_PROJECTION_ROTATION = 0.0
  MAP_PROJECTION_TYPE = ORTHOGRAPHIC
  MAP_RESOLUTION = 148.178450966667
  MAP_SCALE = 0.4
  MAXIMUM_LATITUDE = 74.45180000000001
  MINIMUM_LATITUDE = 23.6575
  POSITIVE_LONGITUDE_DIRECTION = EAST
  REFERENCE_LATITUDE = "N/A"
  REFERENCE_LONGITUDE = "N/A"
  SAMPLE_FIRST_PIXEL = 1
  SAMPLE_LAST_PIXEL = 11675
  SAMPLE_PROJECTION_OFFSET = 5387.75
  SECOND_STANDARD_PARALLEL = "N/A"
  WESTERNMOST_LONGITUDE = -100.06
END_OBJECT = IMAGE_MAP_PROJECTION
END
