PDS_VERSION_ID = PDS3
/* FILE DATA ELEMENTS */
RECORD_TYPE = UNDEFINED
/* POINTERS TO DATA OBJECTS */
^IMAGE = ("HP046_0000_GR4.TIF")
/* IDENTIFICATION DATA ELEMENTS */
DATA_SET_ID = "MEX-M-HRSC-4-REFDR-MAPPROJECT-EXT9-V4.0"
DATA_SET_NAME = "MARS EXPRESS HRSC MAP PROJECTED REFDR EXTENSION9 V4.0"
DETECTOR_ID = MEX_HRSC_GREEN
EVENT_TYPE = "MARS-TERMINATOR-CALIBRATION-Tc"
INSTRUMENT_HOST_ID = MEX
INSTRUMENT_HOST_NAME = "MARS EXPRESS"
INSTRUMENT_ID = HRSC
INSTRUMENT_NAME = "HIGH RESOLUTION STEREO CAMERA"
MISSION_NAME = "MARS EXPRESS"
MISSION_PHASE_NAME = ME_Phase_47
PROCESSING_LEVEL_ID = 4
PRODUCT_CREATION_TIME = 2024-01-16T10:24:31.000Z
PRODUCT_ID = "HP046_0000_GR4.TIF"
RELEASE_ID = 0008
REVISION_ID = 0000
/* QUALITY DATA ELEMENTS */
DATA_QUALITY_ID = 1
DATA_QUALITY_DESC = "Data calculated based on original SPICE kernels"
/* TIME DATA ELEMENTS */
SPACECRAFT_CLOCK_START_COUNT = "1/0646995326.23938"
SPACECRAFT_CLOCK_STOP_COUNT = "1/0646995953.20039"
START_TIME = 2023-11-02T08:57:45.749Z
STOP_TIME = 2023-11-02T09:04:11.743Z
/* ORBITAL DATA ELEMENTS */
ASCENDING_NODE_LONGITUDE = 109.11
MAXIMUM_RESOLUTION = 0.3475
FOOTPRINT_POINT_LATITUDE = (21.06,21.5508,21.4176,23.2965,21.5783, 21.8612,23.9814,22.4214,24.5658,22.5592 ,25.3564,23.005,25.6597,23.0597,25.5867 ,25.7748,23.1911,25.8346,23.8136, 26.5083,31.5915,34.7091,38.7911,41.7746 ,44.5284,46.0254,47.2128,47.0825, 45.7886,42.7905,39.4621,36.3291,33.5817 ,32.164,34.7586,32.9673,35.7171,33.1606 ,36.0499,33.66,36.4198,34.2145,35.9322, 39.2157,35.9103,39.5795,37.0849,40.0771 ,36.3562,40.532,37.3762,40.9537,36.6971 ,41.348,35.7505,41.7197,37.0032,42.831, 36.9163,35.1611,37.8883,35.7228,38.4663 ,36.8928,38.3396,40.3439,38.5326, 40.5191,39.5615,39.841,43.1702,48.256, 53.5684,57.1787,61.1772,65.3167,67.7322 ,69.4933,71.8325,73.131,73.4173,72.3422 ,70.9126,69.156,66.663,64.5136,61.3524, 56.2025,51.3014,48.6503,45.8848,41.8391 ,39.1348,36.5499,31.8418,29.0385, 25.4831,22.863,22.1777,21.06)
FOOTPRINT_POINT_LONGITUDE = (261.268,261.345,265.407,269.637, 272.338,275.222,276.86,279.111,281.683, 285.972,286.897,289.08,288.928,289.652, 291.13,291.321,292.714,292.367,296.021, 297.208,297.491,298.331,300.563,303.38, 307.652,311.506,317.339,325.94,331.632, 338.017,342.047,344.491,345.791,349.388 ,348.719,352.753,352.52,353.434,354.831 ,357.028,356.552,358.432,361.114, 359.965,361.334,360.011,361.135,359.988 ,361.396,359.976,361.239,359.974, 361.487,359.979,361.805,359.99,361.588, 359.993,361.827,364.206,364.546,367.743 ,370.511,374.373,377.821,381.852, 386.447,389.505,389.69,389.776,389.037, 387.399,384.733,382.132,378.103,371.831 ,366.438,361.068,350.067,338.23,318.622 ,305.096,296.299,289.24,282.378,278.113 ,273.484,268.44,265.377,264.188,263.209 ,262.157,261.656,261.321,260.975, 260.917,260.996,261.139,261.189, 261.268)
ORBIT_NUMBER = 25046
ORBITAL_ECCENTRICITY = 0.575
ORBITAL_INCLINATION = 87.07
ORBITAL_SEMIMAJOR_AXIS = 8851.1
PERIAPSIS_ALTITUDE = 364.49
PERIAPSIS_ARGUMENT_ANGLE = 349.66
PERIAPSIS_TIME = 2023-11-02T08:10:55.000Z
SPACECRAFT_ORIENTATION = (0.0,1.0,0.0)
^MEX_ORIENTATION_DESC = "MEX_ORIENTATION_DESC.TXT"
SPACECRAFT_POINTING_MODE = FIXED
^MEX_POINTING_DESC = "MEX_POINTING_DESC.TXT"
RIGHT_ASCENSION = -1e+32
DECLINATION = -1e+32
OFFSET_ANGLE = -1e+32
SPACECRAFT_SOLAR_DISTANCE = 2.32993e+08
TARGET_NAME = MARS
/* CAMERA DATA ELEMENTS */
DETECTOR_TEMPERATURE = 18.3705
FOCAL_PLANE_TEMPERATURE = 8.1755
INST_CMPRS_NAME = "DISCRETE COSINE TRANSFORMATION (DCT)"
INST_CMPRS_RATIO = 11.1005
INST_CMPRS_QUALITY = 0
INST_CMPRS_QUANTZ_TBL_ID = 0
INSTRUMENT_TEMPERATURE = 11.234
LENS_TEMPERATURE = 8.7872
MACROPIXEL_SIZE = 2
MISSING_FRAMES = 0
PIXEL_SUBSAMPLING_FLAG = N
SIGNAL_CHAIN_ID = 2
/* RADIOMETRIC DATA ELEMENTS */
BANDWIDTH = 88.0
CENTER_FILTER_WAVELENGTH = 538.0
RADIANCE_OFFSET = 0.0
RADIANCE_SCALING_FACTOR = 0.017352
REFLECTANCE_SCALING_FACTOR = 0.000810972
MEX:REFLECTANCE_OFFSET = 0.0
/* IMAGE OBJECT DEFINITIONS */
OBJECT = IMAGE
  INTERCHANGE_FORMAT = BINARY
  LINES = 7781
  LINE_SAMPLES = 11675
  SAMPLE_TYPE = UNSIGNED_INTEGER
  SAMPLE_BITS = 8
  BANDS = 1
  BAND_STORAGE_TYPE = BAND_SEQUENTIAL
  MAXIMUM = 255
  MEAN = 156.717
  MINIMUM = 52
  STANDARD_DEVIATION = 47.862
END_OBJECT = IMAGE
/* MAP OBJECT DEFINITIONS */
OBJECT = IMAGE_MAP_PROJECTION
  ^DATA_SET_MAP_PROJECTION_CATALOG= "DSMAP.CAT"
  A_AXIS_RADIUS = 3396.0
  B_AXIS_RADIUS = 3396.0
  C_AXIS_RADIUS = 3396.0
  CENTER_LATITUDE = 60.8373
  CENTER_LONGITUDE = 304.414
  COORDINATE_SYSTEM_NAME = PLANETOGRAPHIC
  COORDINATE_SYSTEM_TYPE = "BODY-FIXED ROTATING"
  EASTERNMOST_LONGITUDE = 29.776
  FIRST_STANDARD_PARALLEL = "N/A"
  LINE_FIRST_PIXEL = 1
  LINE_LAST_PIXEL = 7781
  LINE_PROJECTION_OFFSET = 2599.25
  MAP_PROJECTION_ROTATION = 0.0
  MAP_PROJECTION_TYPE = ORTHOGRAPHIC
  MAP_RESOLUTION = 148.178450966667
  MAP_SCALE = 0.4
  MAXIMUM_LATITUDE = 73.4173
  MINIMUM_LATITUDE = 21.06
  POSITIVE_LONGITUDE_DIRECTION = EAST
  REFERENCE_LATITUDE = "N/A"
  REFERENCE_LONGITUDE = "N/A"
  SAMPLE_FIRST_PIXEL = 1
  SAMPLE_LAST_PIXEL = 11675
  SAMPLE_PROJECTION_OFFSET = 5387.75
  SECOND_STANDARD_PARALLEL = "N/A"
  WESTERNMOST_LONGITUDE = -99.083
END_OBJECT = IMAGE_MAP_PROJECTION
END
