PDS_VERSION_ID = PDS3
/* FILE DATA ELEMENTS */
RECORD_TYPE = UNDEFINED
/* POINTERS TO DATA OBJECTS */
^IMAGE = ("HP041_0000_IR4.TIF")
/* IDENTIFICATION DATA ELEMENTS */
DATA_SET_ID = "MEX-M-HRSC-4-REFDR-MAPPROJECT-EXT9-V4.0"
DATA_SET_NAME = "MARS EXPRESS HRSC MAP PROJECTED REFDR EXTENSION9 V4.0"
DETECTOR_ID = MEX_HRSC_IR
EVENT_TYPE = "MARS-TERMINATOR-CALIBRATION-Tc"
INSTRUMENT_HOST_ID = MEX
INSTRUMENT_HOST_NAME = "MARS EXPRESS"
INSTRUMENT_ID = HRSC
INSTRUMENT_NAME = "HIGH RESOLUTION STEREO CAMERA"
MISSION_NAME = "MARS EXPRESS"
MISSION_PHASE_NAME = ME_Phase_47
PROCESSING_LEVEL_ID = 4
PRODUCT_CREATION_TIME = 2024-01-16T10:24:31.000Z
PRODUCT_ID = "HP041_0000_IR4.TIF"
RELEASE_ID = 0008
REVISION_ID = 0000
/* QUALITY DATA ELEMENTS */
DATA_QUALITY_ID = 1
DATA_QUALITY_DESC = "Data calculated based on original SPICE kernels"
/* TIME DATA ELEMENTS */
SPACECRAFT_CLOCK_START_COUNT = "1/0646856851.25681"
SPACECRAFT_CLOCK_STOP_COUNT = "1/0646857271.24229"
START_TIME = 2023-10-31T18:28:07.733Z
STOP_TIME = 2023-10-31T18:31:22.700Z
/* ORBITAL DATA ELEMENTS */
ASCENDING_NODE_LONGITUDE = 109.2
MAXIMUM_RESOLUTION = 0.8235
FOOTPRINT_POINT_LATITUDE = (-49.3398,-48.7449,-42.1179,-35.9572, -33.5789,-30.8874,-27.0373,-22.3388, -18.8361,-17.2304,-15.813,-14.0372, -13.2986,-11.287,-10.9542,-9.16551, -8.87227,-7.81149,-7.49582,-6.86412, -5.57885,-5.3493,-5.03992,-2.58409, -1.63231,-0.0468637,0.356258,1.3856, 2.60034,2.98308,3.58973,4.79533,5.41797 ,5.83713,6.54171,7.02944,7.90419, 8.36623,9.56833,12.3215,17.3822,20.5399 ,19.8797,22.1253,21.4719,23.4591, 23.8782,25.6227,24.8886,26.5502,26.5962 ,28.2196,28.1255,29.7003,28.8549, 30.4281,29.5217,31.5958,31.8649,33.4427 ,32.4656,34.4899,33.5144,38.8849, 39.4234,42.5718,44.0903,47.4921,50.9111 ,56.0679,58.2432,62.3171,65.6059, 69.3013,68.4341,69.9379,63.7377,56.3633 ,51.8892,47.3175,42.312,35.1172,28.8727 ,24.5505,19.4382,11.2716,7.23124, 1.26441,-5.50162,-14.3993,-18.4562, -24.9018,-32.8426,-37.1633,-41.4781, -45.4322,-47.1265,-48.603,-48.9993, -49.3398)
FOOTPRINT_POINT_LONGITUDE = (164.584,162.58,162.754,164.006,167.627 ,164.413,164.923,168.571,165.067, 168.877,164.933,169.295,165.159,169.234 ,165.19,169.227,165.3,169.052,165.095, 168.875,165.203,169.414,165.229,168.712 ,164.848,168.723,164.612,168.544, 164.551,168.584,164.024,168.116,164.2, 168.008,164.098,168.432,163.869,167.639 ,163.63,167.14,162.368,166.17,161.871, 165.531,161.479,165.267,160.91,164.815, 160.681,164.591,160.183,164.246,159.792 ,163.975,159.658,164.025,159.471, 163.214,158.625,163.167,158.565,162.739 ,158.237,160.213,155.291,159.26,153.164 ,156.197,147.39,149.443,139.811,133.104 ,124.175,111.149,109.825,110.561, 106.602,104.467,103.902,103.681,103.746 ,104.26,105.026,105.705,106.659,108.504 ,109.56,111.366,113.758,117.629,119.766 ,123.823,130.458,135.331,141.663, 149.957,154.954,160.852,162.943, 164.584)
ORBIT_NUMBER = 25041
ORBITAL_ECCENTRICITY = 0.575
ORBITAL_INCLINATION = 87.06
ORBITAL_SEMIMAJOR_AXIS = 8855.96
PERIAPSIS_ALTITUDE = 365.18
PERIAPSIS_ARGUMENT_ANGLE = 350.51
PERIAPSIS_TIME = 2023-10-31T21:15:35.000Z
SPACECRAFT_ORIENTATION = (0.0,1.0,0.0)
^MEX_ORIENTATION_DESC = "MEX_ORIENTATION_DESC.TXT"
SPACECRAFT_POINTING_MODE = FIXED
^MEX_POINTING_DESC = "MEX_POINTING_DESC.TXT"
RIGHT_ASCENSION = -1e+32
DECLINATION = -1e+32
OFFSET_ANGLE = -1e+32
SPACECRAFT_SOLAR_DISTANCE = 2.33262e+08
TARGET_NAME = MARS
/* CAMERA DATA ELEMENTS */
DETECTOR_TEMPERATURE = 17.9627
FOCAL_PLANE_TEMPERATURE = 8.7872
INST_CMPRS_NAME = "DISCRETE COSINE TRANSFORMATION (DCT)"
INST_CMPRS_RATIO = 8.71224
INST_CMPRS_QUALITY = 0
INST_CMPRS_QUANTZ_TBL_ID = 0
INSTRUMENT_TEMPERATURE = 11.8457
LENS_TEMPERATURE = 9.3989
MACROPIXEL_SIZE = 2
MISSING_FRAMES = 0
PIXEL_SUBSAMPLING_FLAG = N
SIGNAL_CHAIN_ID = 3
/* RADIOMETRIC DATA ELEMENTS */
BANDWIDTH = 81.0
CENTER_FILTER_WAVELENGTH = 955.5
RADIANCE_OFFSET = 0.0
RADIANCE_SCALING_FACTOR = 0.0131271
REFLECTANCE_SCALING_FACTOR = 0.00154121
MEX:REFLECTANCE_OFFSET = 0.0
/* IMAGE OBJECT DEFINITIONS */
OBJECT = IMAGE
  INTERCHANGE_FORMAT = BINARY
  LINES = 7206
  LINE_SAMPLES = 4352
  SAMPLE_TYPE = UNSIGNED_INTEGER
  SAMPLE_BITS = 8
  BANDS = 1
  BAND_STORAGE_TYPE = BAND_SEQUENTIAL
  MAXIMUM = 255
  MEAN = 151.789
  MINIMUM = 34
  STANDARD_DEVIATION = 47.6192
END_OBJECT = IMAGE
/* MAP OBJECT DEFINITIONS */
OBJECT = IMAGE_MAP_PROJECTION
  ^DATA_SET_MAP_PROJECTION_CATALOG= "DSMAP.CAT"
  A_AXIS_RADIUS = 3396.0
  B_AXIS_RADIUS = 3396.0
  C_AXIS_RADIUS = 3396.0
  CENTER_LATITUDE = 6.03367
  CENTER_LONGITUDE = 125.633
  COORDINATE_SYSTEM_NAME = PLANETOGRAPHIC
  COORDINATE_SYSTEM_TYPE = "BODY-FIXED ROTATING"
  EASTERNMOST_LONGITUDE = 169.414
  FIRST_STANDARD_PARALLEL = "N/A"
  LINE_FIRST_PIXEL = 1
  LINE_LAST_PIXEL = 7206
  LINE_PROJECTION_OFFSET = 3739.25
  MAP_PROJECTION_ROTATION = 0.0
  MAP_PROJECTION_TYPE = ORTHOGRAPHIC
  MAP_RESOLUTION = 74.08922548333329
  MAP_SCALE = 0.8
  MAXIMUM_LATITUDE = 69.9379
  MINIMUM_LATITUDE = -49.3398
  POSITIVE_LONGITUDE_DIRECTION = EAST
  REFERENCE_LATITUDE = "N/A"
  REFERENCE_LONGITUDE = "N/A"
  SAMPLE_FIRST_PIXEL = 1
  SAMPLE_LAST_PIXEL = 4352
  SAMPLE_PROJECTION_OFFSET = 1446.25
  SECOND_STANDARD_PARALLEL = "N/A"
  WESTERNMOST_LONGITUDE = 103.681
END_OBJECT = IMAGE_MAP_PROJECTION
END
