PDS_VERSION_ID = PDS3
/* FILE DATA ELEMENTS */
RECORD_TYPE = UNDEFINED
/* POINTERS TO DATA OBJECTS */
^IMAGE = ("HP001_0000_BL4.TIF")
/* IDENTIFICATION DATA ELEMENTS */
DATA_SET_ID = "MEX-M-HRSC-4-REFDR-MAPPROJECT-EXT9-V4.0"
DATA_SET_NAME = "MARS EXPRESS HRSC MAP PROJECTED REFDR EXTENSION9 V4.0"
DETECTOR_ID = MEX_HRSC_BLUE
EVENT_TYPE = "MARS-TERMINATOR-CALIBRATION-Tc"
INSTRUMENT_HOST_ID = MEX
INSTRUMENT_HOST_NAME = "MARS EXPRESS"
INSTRUMENT_ID = HRSC
INSTRUMENT_NAME = "HIGH RESOLUTION STEREO CAMERA"
MISSION_NAME = "MARS EXPRESS"
MISSION_PHASE_NAME = ME_Phase_47
PROCESSING_LEVEL_ID = 4
PRODUCT_CREATION_TIME = 2024-01-16T10:24:31.000Z
PRODUCT_ID = "HP001_0000_BL4.TIF"
RELEASE_ID = 0008
REVISION_ID = 0000
/* QUALITY DATA ELEMENTS */
DATA_QUALITY_ID = 1
DATA_QUALITY_DESC = "Data calculated based on original SPICE kernels"
/* TIME DATA ELEMENTS */
SPACECRAFT_CLOCK_START_COUNT = "1/0645864773.24929"
SPACECRAFT_CLOCK_STOP_COUNT = "1/0645865358.14642"
START_TIME = 2023-10-20T06:55:55.728Z
STOP_TIME = 2023-10-20T07:01:43.682Z
/* ORBITAL DATA ELEMENTS */
ASCENDING_NODE_LONGITUDE = 109.91
MAXIMUM_RESOLUTION = 0.4229
FOOTPRINT_POINT_LATITUDE = (-5.11039,-5.17869,-4.94184,-4.59595, -3.32078,-0.947244,2.17706,6.9875, 9.18319,12.0485,14.748,17.7303,21.8928, 24.7748,29.257,33.5188,36.0681,38.69, 42.5592,44.7837,48.0011,50.2557,54.2518 ,59.1332,64.5316,67.8401,70.463,73.1244 ,75.6239,78.1575,79.3974,80.2609, 80.4116,79.769,77.9785,76.5733,74.8061, 72.5956,69.7719,65.9315,63.2314,60.3624 ,58.1864,54.5233,55.7261,55.4976, 55.7054,55.8048,55.3052,55.643,62.1564, 54.7479,55.0208,53.3061,55.4023,58.4365 ,60.5471,63.492,65.6546,68.8759,71.2668 ,73.1141,74.5573,76.255,77.3582,77.3696 ,76.8318,75.0922,72.1307,69.721,67.2773 ,65.1172,61.4318,57.6724,53.2792, 50.4174,48.3187,46.0118,42.9273,40.6151 ,36.9674,33.7457,29.7035,26.9118, 24.7269,22.277,19.0544,14.3927,11.5122, 7.86784,5.53078,2.36984,-0.053976, -3.77273,-5.006,-5.04581,-4.95716, -4.76471,-5.11039)
FOOTPRINT_POINT_LONGITUDE = (161.884,161.897,162.808,167.163,171.89 ,174.215,173.79,173.212,172.979,172.701 ,172.467,172.242,171.986,171.854, 171.728,171.713,171.763,171.866,172.135 ,172.366,172.819,173.236,174.234, 176.063,179.323,182.392,185.786,190.641 ,197.47,209.19,219.44,233.517,250.249, 265.624,281.652,288.727,294.928,300.372 ,305.219,309.687,311.943,313.818, 314.976,316.718,324.456,330.388,334.924 ,337.308,347.632,352.937,359.976, 356.358,2.37521,5.06106,7.50395,9.4727, 11.1431,14.0081,16.6528,21.8738,27.3269 ,33.1387,39.372,50.761,67.6325,81.0796, 92.027,106.817,119.254,125.436,129.948, 133.013,136.947,139.852,142.333,143.575 ,144.343,145.07,145.882,146.389,147.042 ,147.492,147.938,148.167,148.309, 148.405,148.485,148.508,148.467,148.363 ,148.266,148.097,147.936,149.268, 151.395,155.104,157.757,159.366, 161.884)
ORBIT_NUMBER = 25001
ORBITAL_ECCENTRICITY = 0.574
ORBITAL_INCLINATION = 87.05
ORBITAL_SEMIMAJOR_AXIS = 8848.3
PERIAPSIS_ALTITUDE = 368.91
PERIAPSIS_ARGUMENT_ANGLE = 357.4
PERIAPSIS_TIME = 2023-10-20T05:54:11.000Z
SPACECRAFT_ORIENTATION = (0.0,1.0,0.0)
^MEX_ORIENTATION_DESC = "MEX_ORIENTATION_DESC.TXT"
SPACECRAFT_POINTING_MODE = FIXED
^MEX_POINTING_DESC = "MEX_POINTING_DESC.TXT"
RIGHT_ASCENSION = -1e+32
DECLINATION = -1e+32
OFFSET_ANGLE = -1e+32
SPACECRAFT_SOLAR_DISTANCE = 2.35362e+08
TARGET_NAME = MARS
/* CAMERA DATA ELEMENTS */
DETECTOR_TEMPERATURE = 18.3705
FOCAL_PLANE_TEMPERATURE = 8.7872
INST_CMPRS_NAME = "DISCRETE COSINE TRANSFORMATION (DCT)"
INST_CMPRS_RATIO = 8.14575
INST_CMPRS_QUALITY = 0
INST_CMPRS_QUANTZ_TBL_ID = 0
INSTRUMENT_TEMPERATURE = 11.6418
LENS_TEMPERATURE = 8.7872
MACROPIXEL_SIZE = 2
MISSING_FRAMES = 0
PIXEL_SUBSAMPLING_FLAG = N
SIGNAL_CHAIN_ID = 2
/* RADIOMETRIC DATA ELEMENTS */
BANDWIDTH = 76.0
CENTER_FILTER_WAVELENGTH = 444.0
RADIANCE_OFFSET = 0.0
RADIANCE_SCALING_FACTOR = 0.00804469
REFLECTANCE_SCALING_FACTOR = 0.000457838
MEX:REFLECTANCE_OFFSET = 0.0
/* IMAGE OBJECT DEFINITIONS */
OBJECT = IMAGE
  INTERCHANGE_FORMAT = BINARY
  LINES = 15135
  LINE_SAMPLES = 4845
  SAMPLE_TYPE = UNSIGNED_INTEGER
  SAMPLE_BITS = 8
  BANDS = 1
  BAND_STORAGE_TYPE = BAND_SEQUENTIAL
  MAXIMUM = 255
  MEAN = 103.376
  MINIMUM = 1
  STANDARD_DEVIATION = 54.9813
END_OBJECT = IMAGE
/* MAP OBJECT DEFINITIONS */
OBJECT = IMAGE_MAP_PROJECTION
  ^DATA_SET_MAP_PROJECTION_CATALOG= "DSMAP.CAT"
  A_AXIS_RADIUS = 3396.0
  B_AXIS_RADIUS = 3396.0
  C_AXIS_RADIUS = 3396.0
  CENTER_LATITUDE = 58.1656
  CENTER_LONGITUDE = 157.836
  COORDINATE_SYSTEM_NAME = PLANETOGRAPHIC
  COORDINATE_SYSTEM_TYPE = "BODY-FIXED ROTATING"
  EASTERNMOST_LONGITUDE = 360.0
  FIRST_STANDARD_PARALLEL = "N/A"
  LINE_FIRST_PIXEL = 1
  LINE_LAST_PIXEL = 15135
  LINE_PROJECTION_OFFSET = 7597.25
  MAP_PROJECTION_ROTATION = 0.0
  MAP_PROJECTION_TYPE = ORTHOGRAPHIC
  MAP_RESOLUTION = 148.178450966667
  MAP_SCALE = 0.4
  MAXIMUM_LATITUDE = 90.0
  MINIMUM_LATITUDE = -5.17869
  POSITIVE_LONGITUDE_DIRECTION = EAST
  REFERENCE_LATITUDE = "N/A"
  REFERENCE_LONGITUDE = "N/A"
  SAMPLE_FIRST_PIXEL = 1
  SAMPLE_LAST_PIXEL = 4845
  SAMPLE_PROJECTION_OFFSET = 2377.25
  SECOND_STANDARD_PARALLEL = "N/A"
  WESTERNMOST_LONGITUDE = 0.0
END_OBJECT = IMAGE_MAP_PROJECTION
END
