PDS_VERSION_ID = PDS3
/* FILE DATA ELEMENTS */
RECORD_TYPE = UNDEFINED
/* POINTERS TO DATA OBJECTS */
^IMAGE = ("HO995_0001_BL4.TIF")
/* IDENTIFICATION DATA ELEMENTS */
DATA_SET_ID = "MEX-M-HRSC-4-REFDR-MAPPROJECT-EXT9-V4.0"
DATA_SET_NAME = "MARS EXPRESS HRSC MAP PROJECTED REFDR EXTENSION9 V4.0"
DETECTOR_ID = MEX_HRSC_BLUE
EVENT_TYPE = "MARS-TERMINATOR-CALIBRATION-Tc"
INSTRUMENT_HOST_ID = MEX
INSTRUMENT_HOST_NAME = "MARS EXPRESS"
INSTRUMENT_ID = HRSC
INSTRUMENT_NAME = "HIGH RESOLUTION STEREO CAMERA"
MISSION_NAME = "MARS EXPRESS"
MISSION_PHASE_NAME = ME_Phase_47
PROCESSING_LEVEL_ID = 4
PRODUCT_CREATION_TIME = 2024-01-15T14:02:56.000Z
PRODUCT_ID = "HO995_0001_BL4.TIF"
RELEASE_ID = 0007
REVISION_ID = 0000
/* QUALITY DATA ELEMENTS */
DATA_QUALITY_ID = 1
DATA_QUALITY_DESC = "Data calculated based on original SPICE kernels"
/* TIME DATA ELEMENTS */
SPACECRAFT_CLOCK_START_COUNT = "1/0645716531.25666"
SPACECRAFT_CLOCK_STOP_COUNT = "1/0645716965.26288"
START_TIME = 2023-10-18T13:44:08.677Z
STOP_TIME = 2023-10-18T13:47:56.637Z
/* ORBITAL DATA ELEMENTS */
ASCENDING_NODE_LONGITUDE = 110.01
MAXIMUM_RESOLUTION = 0.6347
FOOTPRINT_POINT_LATITUDE = (69.226,69.1917,70.2732,72.0513,73.195, 71.798,70.6462,71.6673,67.3916,68.9364, 68.6364,71.6295,72.8188,73.3056,73.1746 ,72.2662,70.9839,67.9876,65.9308, 62.5381,59.1618,56.4459,53.7248,50.8259 ,48.0829,45.4737,42.8218,38.5324, 35.0491,32.2637,26.4068,22.8499,17.3857 ,12.9224,10.2089,7.07194,4.15756, -0.203352,-4.31218,-7.31588,-11.1085, -15.516,-18.9078,-21.3012,-25.3226, -28.4383,-27.7328,-29.9992,-29.0943, -31.3953,-33.0336,-35.0906,-35.4925, -36.2449,-36.5811,-36.7447,-37.1026, -36.7378,-37.0805,-32.4419,-28.8242, -25.2968,-22.0371,-17.0494,-13.5292, -10.1882,-7.56136,-2.82296,1.30504, 4.48539,7.7079,12.7717,17.0946,19.929, 24.092,27.8692,32.0059,34.5311,38.6008, 44.6515,48.6389,51.9476,54.5382,57.8758 ,62.3004,65.1453,68.1209,70.1751, 71.1789,71.7678,71.5638,70.9204,69.5833 ,67.6014,65.6688,65.1379,66.7714, 68.0868,69.226)
FOOTPRINT_POINT_LONGITUDE = (254.837,254.744,250.566,236.18,218.527 ,206.613,197.971,188.927,183.181, 175.935,168.655,155.857,145.918,137.276 ,123.066,112.286,104.138,93.1055, 88.2359,82.5561,78.6296,76.2647,74.3963 ,72.8224,71.6454,70.7483,70.0214, 69.1739,68.7226,68.4966,68.3729,68.5016 ,68.9575,69.5455,69.9996,70.6196, 71.2839,72.4532,73.7438,74.8404,76.4016 ,78.5175,80.4095,81.8935,81.2419, 80.6439,76.7626,77.9968,75.2001,72.1761 ,69.1744,65.0253,59.1404,56.7034, 52.7199,52.549,52.0247,44.5388,41.3244, 41.1888,41.1819,41.14,41.0623,40.8877, 40.7236,40.5328,40.3604,39.9972,39.6238 ,39.2983,38.9215,38.2414,37.5637, 37.0547,36.2081,35.3134,34.1703,33.3711 ,31.8819,29.0816,26.7021,24.2835, 22.0115,18.4172,11.8889,5.90603,356.71, 346.384,337.84,327.019,313.345,305.177, 295.716,286.986,281.02,272.422,266.636, 263.986,254.837)
ORBIT_NUMBER = 24995
ORBITAL_ECCENTRICITY = 0.575
ORBITAL_INCLINATION = 87.05
ORBITAL_SEMIMAJOR_AXIS = 8864.51
PERIAPSIS_ALTITUDE = 368.7
PERIAPSIS_ARGUMENT_ANGLE = 358.43
PERIAPSIS_TIME = 2023-10-18T11:59:48.000Z
SPACECRAFT_ORIENTATION = (0.0,1.0,0.0)
^MEX_ORIENTATION_DESC = "MEX_ORIENTATION_DESC.TXT"
SPACECRAFT_POINTING_MODE = FIXED
^MEX_POINTING_DESC = "MEX_POINTING_DESC.TXT"
RIGHT_ASCENSION = -1e+32
DECLINATION = -1e+32
OFFSET_ANGLE = -1e+32
SPACECRAFT_SOLAR_DISTANCE = 2.3567e+08
TARGET_NAME = MARS
/* CAMERA DATA ELEMENTS */
DETECTOR_TEMPERATURE = 24.6914
FOCAL_PLANE_TEMPERATURE = 10.4184
INST_CMPRS_NAME = "DISCRETE COSINE TRANSFORMATION (DCT)"
INST_CMPRS_RATIO = 8.18897
INST_CMPRS_QUALITY = 0
INST_CMPRS_QUANTZ_TBL_ID = 0
INSTRUMENT_TEMPERATURE = 18.1666
LENS_TEMPERATURE = 10.8262
MACROPIXEL_SIZE = 2
MISSING_FRAMES = 0
PIXEL_SUBSAMPLING_FLAG = N
SIGNAL_CHAIN_ID = 2
/* RADIOMETRIC DATA ELEMENTS */
BANDWIDTH = 76.0
CENTER_FILTER_WAVELENGTH = 444.0
RADIANCE_OFFSET = 0.0
RADIANCE_SCALING_FACTOR = 0.00921343
REFLECTANCE_SCALING_FACTOR = 0.000525701
MEX:REFLECTANCE_OFFSET = 0.0
/* IMAGE OBJECT DEFINITIONS */
OBJECT = IMAGE
  INTERCHANGE_FORMAT = BINARY
  LINES = 7971
  LINE_SAMPLES = 3503
  SAMPLE_TYPE = UNSIGNED_INTEGER
  SAMPLE_BITS = 8
  BANDS = 1
  BAND_STORAGE_TYPE = BAND_SEQUENTIAL
  MAXIMUM = 255
  MEAN = 94.1057
  MINIMUM = 4
  STANDARD_DEVIATION = 44.0262
END_OBJECT = IMAGE
/* MAP OBJECT DEFINITIONS */
OBJECT = IMAGE_MAP_PROJECTION
  ^DATA_SET_MAP_PROJECTION_CATALOG= "DSMAP.CAT"
  A_AXIS_RADIUS = 3396.0
  B_AXIS_RADIUS = 3396.0
  C_AXIS_RADIUS = 3396.0
  CENTER_LATITUDE = 36.267
  CENTER_LONGITUDE = 50.2175
  COORDINATE_SYSTEM_NAME = PLANETOGRAPHIC
  COORDINATE_SYSTEM_TYPE = "BODY-FIXED ROTATING"
  EASTERNMOST_LONGITUDE = 360.0
  FIRST_STANDARD_PARALLEL = "N/A"
  LINE_FIRST_PIXEL = 1
  LINE_LAST_PIXEL = 7971
  LINE_PROJECTION_OFFSET = 3966.25
  MAP_PROJECTION_ROTATION = 0.0
  MAP_PROJECTION_TYPE = ORTHOGRAPHIC
  MAP_RESOLUTION = 74.08922548333329
  MAP_SCALE = 0.8
  MAXIMUM_LATITUDE = 90.0
  MINIMUM_LATITUDE = -37.1026
  POSITIVE_LONGITUDE_DIRECTION = EAST
  REFERENCE_LATITUDE = "N/A"
  REFERENCE_LONGITUDE = "N/A"
  SAMPLE_FIRST_PIXEL = 1
  SAMPLE_LAST_PIXEL = 3503
  SAMPLE_PROJECTION_OFFSET = 1360.25
  SECOND_STANDARD_PARALLEL = "N/A"
  WESTERNMOST_LONGITUDE = 0.0
END_OBJECT = IMAGE_MAP_PROJECTION
END
