PDS_VERSION_ID = PDS3
/* FILE DATA ELEMENTS */
RECORD_TYPE = UNDEFINED
/* POINTERS TO DATA OBJECTS */
^IMAGE = ("HO987_0000_ND4.TIF")
/* IDENTIFICATION DATA ELEMENTS */
DATA_SET_ID = "MEX-M-HRSC-4-REFDR-MAPPROJECT-EXT9-V4.0"
DATA_SET_NAME = "MARS EXPRESS HRSC MAP PROJECTED REFDR EXTENSION9 V4.0"
DETECTOR_ID = MEX_HRSC_NADIR
EVENT_TYPE = "MARS-TERMINATOR-CALIBRATION-Tc"
INSTRUMENT_HOST_ID = MEX
INSTRUMENT_HOST_NAME = "MARS EXPRESS"
INSTRUMENT_ID = HRSC
INSTRUMENT_NAME = "HIGH RESOLUTION STEREO CAMERA"
MISSION_NAME = "MARS EXPRESS"
MISSION_PHASE_NAME = ME_Phase_47
PROCESSING_LEVEL_ID = 4
PRODUCT_CREATION_TIME = 2024-01-15T14:02:56.000Z
PRODUCT_ID = "HO987_0000_ND4.TIF"
RELEASE_ID = 0007
REVISION_ID = 0000
/* QUALITY DATA ELEMENTS */
DATA_QUALITY_ID = 1
DATA_QUALITY_DESC = "Data calculated based on original SPICE kernels"
/* TIME DATA ELEMENTS */
SPACECRAFT_CLOCK_START_COUNT = "1/0645517711.25682"
SPACECRAFT_CLOCK_STOP_COUNT = "1/0645518151.20008"
START_TIME = 2023-10-16T06:30:59.665Z
STOP_TIME = 2023-10-16T06:34:35.678Z
/* ORBITAL DATA ELEMENTS */
ASCENDING_NODE_LONGITUDE = 110.15
MAXIMUM_RESOLUTION = 0.3815
FOOTPRINT_POINT_LATITUDE = (-51.7324,-51.7541,-51.1125,-50.2808, -47.3622,-45.3189,-42.4103,-40.333, -38.3226,-35.9413,-35.7181,-33.5585, -30.6642,-31.5218,-27.4264,-27.1338, -25.052,-21.9038,-17.9169,-15.0528, -12.7184,-9.96227,-6.09973,-2.56235, 0.3155,3.42701,6.10645,9.77802,15.5759, 18.0031,22.4358,25.9902,29.6178,33.5897 ,39.8435,42.5103,45.8859,48.4499, 51.9443,55.0262,59.784,62.8664,64.9115, 67.3628,69.6586,70.4674,70.3247,73.6935 ,78.6339,81.8219,85.8535,87.2954, 86.6302,83.2638,80.8881,76.3959,75.2935 ,72.0463,67.3566,63.7505,64.0754, 63.9003,63.1748,61.408,59.5867,57.0918, 54.3093,52.0768,46.7763,41.8196,38.1319 ,33.8272,31.1731,26.0692,22.8348, 19.3367,15.5464,12.2153,9.80822,7.15182 ,2.64085,-0.0393433,-3.84976,-7.28689, -11.4694,-16.3967,-19.8882,-23.3478, -25.9943,-29.8432,-33.2555,-35.9828, -40.9391,-44.4109,-48.9512,-52.1317, -53.5109,-52.3032,-51.7324)
FOOTPRINT_POINT_LONGITUDE = (155.84,155.869,156.281,160.487,164.576 ,171.406,175.743,178.433,181.024, 181.068,184.336,186.052,185.684,188.44, 188.489,191.28,187.976,183.837,179.592, 177.051,175.239,173.296,170.912,169.021 ,167.657,166.343,165.334,164.124, 162.585,162.074,161.347,160.96,160.758, 160.777,161.401,161.935,162.911,163.905 ,165.711,167.875,172.764,177.557,181.94 ,189.484,202.361,216.514,227.58,223.477 ,227.355,243.738,247.747,285.801,357.11 ,13.64,25.7403,30.8514,30.2367,32.6311, 36.1115,39.7432,46.4043,57.1232,65.2652 ,75.5548,82.3614,89.1385,94.8212, 98.4941,105.252,109.983,112.858,115.713 ,117.263,119.889,121.357,122.805, 124.235,125.39,126.174,126.994,128.293, 129.019,129.998,130.83,131.793,132.868, 133.598,134.305,134.841,135.607,136.285 ,136.826,137.837,138.578,139.577, 140.356,147.211,151.697,155.84)
ORBIT_NUMBER = 24987
ORBITAL_ECCENTRICITY = 0.574
ORBITAL_INCLINATION = 87.05
ORBITAL_SEMIMAJOR_AXIS = 8847.0
PERIAPSIS_ALTITUDE = 370.17
PERIAPSIS_ARGUMENT_ANGLE = 359.78
PERIAPSIS_TIME = 2023-10-16T04:07:09.000Z
SPACECRAFT_ORIENTATION = (0.0,1.0,0.0)
^MEX_ORIENTATION_DESC = "MEX_ORIENTATION_DESC.TXT"
SPACECRAFT_POINTING_MODE = FIXED
^MEX_POINTING_DESC = "MEX_POINTING_DESC.TXT"
RIGHT_ASCENSION = -1e+32
DECLINATION = -1e+32
OFFSET_ANGLE = -1e+32
SPACECRAFT_SOLAR_DISTANCE = 2.36076e+08
TARGET_NAME = MARS
/* CAMERA DATA ELEMENTS */
DETECTOR_TEMPERATURE = 17.9627
FOCAL_PLANE_TEMPERATURE = 8.5833
INST_CMPRS_NAME = "DISCRETE COSINE TRANSFORMATION (DCT)"
INST_CMPRS_RATIO = 7.56201
INST_CMPRS_QUALITY = 0
INST_CMPRS_QUANTZ_TBL_ID = 0
INSTRUMENT_TEMPERATURE = 11.4379
LENS_TEMPERATURE = 9.195
MACROPIXEL_SIZE = 1
MISSING_FRAMES = 4
PIXEL_SUBSAMPLING_FLAG = N
SIGNAL_CHAIN_ID = 0
/* RADIOMETRIC DATA ELEMENTS */
BANDWIDTH = 177.0
CENTER_FILTER_WAVELENGTH = 677.5
RADIANCE_OFFSET = 0.0
RADIANCE_SCALING_FACTOR = 0.0491185
REFLECTANCE_SCALING_FACTOR = 0.00145402
MEX:REFLECTANCE_OFFSET = 0.0
/* IMAGE OBJECT DEFINITIONS */
OBJECT = IMAGE
  INTERCHANGE_FORMAT = BINARY
  LINES = 15992
  LINE_SAMPLES = 9439
  SAMPLE_TYPE = UNSIGNED_INTEGER
  SAMPLE_BITS = 8
  BANDS = 1
  BAND_STORAGE_TYPE = BAND_SEQUENTIAL
  MAXIMUM = 255
  MEAN = 107.477
  MINIMUM = 1
  STANDARD_DEVIATION = 43.1653
END_OBJECT = IMAGE
/* MAP OBJECT DEFINITIONS */
OBJECT = IMAGE_MAP_PROJECTION
  ^DATA_SET_MAP_PROJECTION_CATALOG= "DSMAP.CAT"
  A_AXIS_RADIUS = 3396.0
  B_AXIS_RADIUS = 3396.0
  C_AXIS_RADIUS = 3396.0
  CENTER_LATITUDE = 21.3523
  CENTER_LONGITUDE = 140.838
  COORDINATE_SYSTEM_NAME = PLANETOGRAPHIC
  COORDINATE_SYSTEM_TYPE = "BODY-FIXED ROTATING"
  EASTERNMOST_LONGITUDE = 360.0
  FIRST_STANDARD_PARALLEL = "N/A"
  LINE_FIRST_PIXEL = 1
  LINE_LAST_PIXEL = 15992
  LINE_PROJECTION_OFFSET = 7952.0
  MAP_PROJECTION_ROTATION = 0.0
  MAP_PROJECTION_TYPE = ORTHOGRAPHIC
  MAP_RESOLUTION = 148.178450966667
  MAP_SCALE = 0.4
  MAXIMUM_LATITUDE = 90.0
  MINIMUM_LATITUDE = -53.5109
  POSITIVE_LONGITUDE_DIRECTION = EAST
  REFERENCE_LATITUDE = "N/A"
  REFERENCE_LONGITUDE = "N/A"
  SAMPLE_FIRST_PIXEL = 1
  SAMPLE_LAST_PIXEL = 9439
  SAMPLE_PROJECTION_OFFSET = 3711.0
  SECOND_STANDARD_PARALLEL = "N/A"
  WESTERNMOST_LONGITUDE = 0.0
END_OBJECT = IMAGE_MAP_PROJECTION
END
