PDS_VERSION_ID = PDS3
/* FILE DATA ELEMENTS */
RECORD_TYPE = UNDEFINED
/* POINTERS TO DATA OBJECTS */
^IMAGE = ("HO986_0000_IR4.TIF")
/* IDENTIFICATION DATA ELEMENTS */
DATA_SET_ID = "MEX-M-HRSC-4-REFDR-MAPPROJECT-EXT9-V4.0"
DATA_SET_NAME = "MARS EXPRESS HRSC MAP PROJECTED REFDR EXTENSION9 V4.0"
DETECTOR_ID = MEX_HRSC_IR
EVENT_TYPE = "MARS-TERMINATOR-CALIBRATION-Tc"
INSTRUMENT_HOST_ID = MEX
INSTRUMENT_HOST_NAME = "MARS EXPRESS"
INSTRUMENT_ID = HRSC
INSTRUMENT_NAME = "HIGH RESOLUTION STEREO CAMERA"
MISSION_NAME = "MARS EXPRESS"
MISSION_PHASE_NAME = ME_Phase_47
PROCESSING_LEVEL_ID = 4
PRODUCT_CREATION_TIME = 2024-01-15T14:02:56.000Z
PRODUCT_ID = "HO986_0000_IR4.TIF"
RELEASE_ID = 0007
REVISION_ID = 0000
/* QUALITY DATA ELEMENTS */
DATA_QUALITY_ID = 1
DATA_QUALITY_DESC = "Data calculated based on original SPICE kernels"
/* TIME DATA ELEMENTS */
SPACECRAFT_CLOCK_START_COUNT = "1/0645493127.25692"
SPACECRAFT_CLOCK_STOP_COUNT = "1/0645493564.18233"
START_TIME = 2023-10-15T23:39:23.722Z
STOP_TIME = 2023-10-15T23:42:58.658Z
/* ORBITAL DATA ELEMENTS */
ASCENDING_NODE_LONGITUDE = 110.17
MAXIMUM_RESOLUTION = 0.7806
FOOTPRINT_POINT_LATITUDE = (-54.696,-54.7836,-54.5557,-53.3065, -52.2664,-49.7543,-48.0373,-45.4481, -43.6518,-39.5414,-37.2475,-33.7552, -31.2579,-28.2404,-23.4994,-20.8576, -18.4677,-14.7269,-10.9442,-8.24034, -4.61617,0.48617,5.58117,8.79946, 11.6139,15.5102,18.0348,22.8544,25.4111 ,29.0704,33.2828,38.3322,42.0446, 45.2034,48.4091,51.3386,55.4482,59.9878 ,62.6418,65.5983,68.9851,73.0684, 76.8846,79.1727,80.3227,85.4974,88.33, 87.8757,84.5947,81.2933,79.2647,74.5416 ,70.6566,65.5454,62.659,60.4887,57.7653 ,55.8582,55.5469,54.7073,53.7908, 51.9248,50.087,48.3062,46.5856,43.3108, 40.2278,37.3005,34.4994,31.8004,29.1838 ,24.3634,21.6692,17.4933,11.6718, 8.84637,4.80147,-0.0378226,-4.38255, -7.6247,-12.887,-15.9849,-19.835, -25.7638,-29.4275,-32.9268,-36.395, -40.6517,-43.7092,-47.3263,-49.938, -52.7969,-56.2313,-57.3382,-56.188, -56.2537,-55.8922,-55.7054,-54.9974, -54.696)
FOOTPRINT_POINT_LONGITUDE = (256.01,256.106,254.769,259.203,263.384 ,266.662,272.339,273.033,278.18,279.068 ,276.218,272.529,270.257,267.826, 264.557,262.969,261.649,259.779,258.107 ,257.028,255.71,254.076,252.659,251.874 ,251.278,250.507,250.063,249.338, 249.023,248.654,248.373,248.219,248.296 ,248.505,248.9,249.386,250.386,252.089, 253.498,255.582,258.956,265.473,276.943 ,291.124,307.56,313.947,350.946,153.284 ,141.947,141.607,140.352,142.029, 141.339,143.849,147.668,144.349,147.793 ,154.15,159.466,166.226,170.973,177.789 ,182.736,186.594,189.739,194.642, 198.355,201.312,203.746,205.803,207.574 ,210.378,211.727,213.572,215.713, 216.606,217.741,218.899,219.766,220.319 ,221.045,221.377,221.693,221.963,221.99 ,221.907,221.708,221.284,220.833, 220.104,219.415,218.486,219.533,227.266 ,231.433,236.058,241.908,247.454, 249.747,256.01)
ORBIT_NUMBER = 24986
ORBITAL_ECCENTRICITY = 0.575
ORBITAL_INCLINATION = 87.06
ORBITAL_SEMIMAJOR_AXIS = 8854.57
PERIAPSIS_ALTITUDE = 369.33
PERIAPSIS_ARGUMENT_ANGLE = 359.95
PERIAPSIS_TIME = 2023-10-15T21:08:06.000Z
SPACECRAFT_ORIENTATION = (0.0,1.0,0.0)
^MEX_ORIENTATION_DESC = "MEX_ORIENTATION_DESC.TXT"
SPACECRAFT_POINTING_MODE = FIXED
^MEX_POINTING_DESC = "MEX_POINTING_DESC.TXT"
RIGHT_ASCENSION = -1e+32
DECLINATION = -1e+32
OFFSET_ANGLE = -1e+32
SPACECRAFT_SOLAR_DISTANCE = 2.36126e+08
TARGET_NAME = MARS
/* CAMERA DATA ELEMENTS */
DETECTOR_TEMPERATURE = 17.5549
FOCAL_PLANE_TEMPERATURE = 8.7872
INST_CMPRS_NAME = "DISCRETE COSINE TRANSFORMATION (DCT)"
INST_CMPRS_RATIO = 6.67591
INST_CMPRS_QUALITY = 0
INST_CMPRS_QUANTZ_TBL_ID = 0
INSTRUMENT_TEMPERATURE = 11.234
LENS_TEMPERATURE = 9.195
MACROPIXEL_SIZE = 2
MISSING_FRAMES = 0
PIXEL_SUBSAMPLING_FLAG = N
SIGNAL_CHAIN_ID = 3
/* RADIOMETRIC DATA ELEMENTS */
BANDWIDTH = 81.0
CENTER_FILTER_WAVELENGTH = 955.5
RADIANCE_OFFSET = 0.0
RADIANCE_SCALING_FACTOR = 0.00894438
REFLECTANCE_SCALING_FACTOR = 0.00107572
MEX:REFLECTANCE_OFFSET = 0.0
/* IMAGE OBJECT DEFINITIONS */
OBJECT = IMAGE
  INTERCHANGE_FORMAT = BINARY
  LINES = 8005
  LINE_SAMPLES = 4858
  SAMPLE_TYPE = UNSIGNED_INTEGER
  SAMPLE_BITS = 8
  BANDS = 1
  BAND_STORAGE_TYPE = BAND_SEQUENTIAL
  MAXIMUM = 255
  MEAN = 116.829
  MINIMUM = 1
  STANDARD_DEVIATION = 65.7538
END_OBJECT = IMAGE
/* MAP OBJECT DEFINITIONS */
OBJECT = IMAGE_MAP_PROJECTION
  ^DATA_SET_MAP_PROJECTION_CATALOG= "DSMAP.CAT"
  A_AXIS_RADIUS = 3396.0
  B_AXIS_RADIUS = 3396.0
  C_AXIS_RADIUS = 3396.0
  CENTER_LATITUDE = 16.0138
  CENTER_LONGITUDE = 231.621
  COORDINATE_SYSTEM_NAME = PLANETOGRAPHIC
  COORDINATE_SYSTEM_TYPE = "BODY-FIXED ROTATING"
  EASTERNMOST_LONGITUDE = 350.946
  FIRST_STANDARD_PARALLEL = "N/A"
  LINE_FIRST_PIXEL = 1
  LINE_LAST_PIXEL = 8005
  LINE_PROJECTION_OFFSET = 4029.75
  MAP_PROJECTION_ROTATION = 0.0
  MAP_PROJECTION_TYPE = ORTHOGRAPHIC
  MAP_RESOLUTION = 74.08922548333329
  MAP_SCALE = 0.8
  MAXIMUM_LATITUDE = 88.33
  MINIMUM_LATITUDE = -57.3382
  POSITIVE_LONGITUDE_DIRECTION = EAST
  REFERENCE_LATITUDE = "N/A"
  REFERENCE_LONGITUDE = "N/A"
  SAMPLE_FIRST_PIXEL = 1
  SAMPLE_LAST_PIXEL = 4858
  SAMPLE_PROJECTION_OFFSET = 2437.25
  SECOND_STANDARD_PARALLEL = "N/A"
  WESTERNMOST_LONGITUDE = 140.352
END_OBJECT = IMAGE_MAP_PROJECTION
END
