PDS_VERSION_ID = PDS3
/* FILE DATA ELEMENTS */
RECORD_TYPE = UNDEFINED
/* POINTERS TO DATA OBJECTS */
^IMAGE = ("HO985_0000_IR4.TIF")
/* IDENTIFICATION DATA ELEMENTS */
DATA_SET_ID = "MEX-M-HRSC-4-REFDR-MAPPROJECT-EXT9-V4.0"
DATA_SET_NAME = "MARS EXPRESS HRSC MAP PROJECTED REFDR EXTENSION9 V4.0"
DETECTOR_ID = MEX_HRSC_IR
EVENT_TYPE = "MARS-TERMINATOR-CALIBRATION-Tc"
INSTRUMENT_HOST_ID = MEX
INSTRUMENT_HOST_NAME = "MARS EXPRESS"
INSTRUMENT_ID = HRSC
INSTRUMENT_NAME = "HIGH RESOLUTION STEREO CAMERA"
MISSION_NAME = "MARS EXPRESS"
MISSION_PHASE_NAME = ME_Phase_47
PROCESSING_LEVEL_ID = 4
PRODUCT_CREATION_TIME = 2024-01-15T14:02:56.000Z
PRODUCT_ID = "HO985_0000_IR4.TIF"
RELEASE_ID = 0007
REVISION_ID = 0000
/* QUALITY DATA ELEMENTS */
DATA_QUALITY_ID = 1
DATA_QUALITY_DESC = "Data calculated based on original SPICE kernels"
/* TIME DATA ELEMENTS */
SPACECRAFT_CLOCK_START_COUNT = "1/0645451163.25683"
SPACECRAFT_CLOCK_STOP_COUNT = "1/0645451618.22164"
START_TIME = 2023-10-15T11:59:59.760Z
STOP_TIME = 2023-10-15T12:03:48.839Z
/* ORBITAL DATA ELEMENTS */
ASCENDING_NODE_LONGITUDE = 110.19
MAXIMUM_RESOLUTION = 0.7124
FOOTPRINT_POINT_LATITUDE = (-61.6741,-61.612,-58.1965,-55.0005, -54.9838,-55.6167,-56.0016,-55.7902, -55.1328,-54.2827,-53.0996,-50.8142, -48.9888,-45.8338,-43.7647,-41.7367, -39.9825,-38.0027,-34.3596,-31.2445, -26.5002,-22.7024,-19.3331,-15.387, -11.2726,-6.90669,-4.59363,-2.18003, 0.368458,4.51099,9.60817,13.2625, 17.4474,20.4977,23.3421,26.6704,31.0169 ,33.9269,38.6291,42.5663,41.6346, 41.1378,38.0512,38.5509,38.1916,36.1975 ,32.5338,28.112,30.5559,25.2999,28.2594 ,25.8535,22.7913,21.3883,18.4873, 14.3798,12.5974,10.1438,6.65896,3.96686 ,1.65413,-2.75506,-6.15687,-9.21847, -12.0633,-14.7412,-16.9815,-20.6512, -23.3072,-25.6195,-30.1655,-33.8355, -37.8252,-40.7307,-43.1072,-45.5547, -48.0699,-51.7202,-54.5243,-57.5056, -60.7285,-64.2456,-68.1968,-72.7667, -75.3865,-78.3195,-81.638,-83.2922, -84.1305,-82.5103,-83.4175,-82.7099, -81.4124,-78.0137,-75.091,-72.6276, -69.8027,-66.8974,-61.6741)
FOOTPRINT_POINT_LONGITUDE = (147.592,147.818,143.47,141.427,134.466 ,128.855,121.593,112.058,105.283, 99.8683,94.4199,86.8092,82.1597,75.7565 ,72.3118,69.3507,67.043,64.6705,60.8261 ,57.9444,54.1035,51.4111,49.2431, 46.9108,44.6778,42.4843,41.3824,40.2662 ,39.1232,37.3266,35.1899,33.6942, 31.9846,30.7327,29.5548,28.145,26.2403, 24.9029,22.6058,20.0094,15.124,14.4655, 8.28875,7.60783,7.16854,2.99155,359.748 ,359.96,356.71,359.973,355.127,350.776, 350.13,347.631,345.074,346.675,348.859, 351.595,355.044,357.412,359.286,2.50789 ,4.76121,6.61463,8.2265,9.64766,10.7731 ,12.4831,13.6387,14.5875,16.3073, 17.5655,18.7882,19.5883,20.1826,20.716, 21.2201,21.7701,22.08,22.2545,22.2044, 21.8173,20.7383,18.0928,15.3605,10.216, 357.98,344.222,294.673,271.423,241.766, 214.375,187.664,169.442,167.0,156.291, 156.818,150.726,147.592)
ORBIT_NUMBER = 24985
ORBITAL_ECCENTRICITY = 0.574
ORBITAL_INCLINATION = 87.06
ORBITAL_SEMIMAJOR_AXIS = 8845.41
PERIAPSIS_ALTITUDE = 370.17
PERIAPSIS_ARGUMENT_ANGLE = 0.14
PERIAPSIS_TIME = 2023-10-15T14:09:02.000Z
SPACECRAFT_ORIENTATION = (0.0,1.0,0.0)
^MEX_ORIENTATION_DESC = "MEX_ORIENTATION_DESC.TXT"
SPACECRAFT_POINTING_MODE = FIXED
^MEX_POINTING_DESC = "MEX_POINTING_DESC.TXT"
RIGHT_ASCENSION = -1e+32
DECLINATION = -1e+32
OFFSET_ANGLE = -1e+32
SPACECRAFT_SOLAR_DISTANCE = 2.36177e+08
TARGET_NAME = MARS
/* CAMERA DATA ELEMENTS */
DETECTOR_TEMPERATURE = 17.5549
FOCAL_PLANE_TEMPERATURE = 8.5833
INST_CMPRS_NAME = "DISCRETE COSINE TRANSFORMATION (DCT)"
INST_CMPRS_RATIO = 6.65911
INST_CMPRS_QUALITY = 0
INST_CMPRS_QUANTZ_TBL_ID = 0
INSTRUMENT_TEMPERATURE = 11.0301
LENS_TEMPERATURE = 8.7872
MACROPIXEL_SIZE = 2
MISSING_FRAMES = 0
PIXEL_SUBSAMPLING_FLAG = N
SIGNAL_CHAIN_ID = 3
/* RADIOMETRIC DATA ELEMENTS */
BANDWIDTH = 81.0
CENTER_FILTER_WAVELENGTH = 955.5
RADIANCE_OFFSET = 0.0
RADIANCE_SCALING_FACTOR = 0.00200309
REFLECTANCE_SCALING_FACTOR = 0.000241078
MEX:REFLECTANCE_OFFSET = 0.0
/* IMAGE OBJECT DEFINITIONS */
OBJECT = IMAGE
  INTERCHANGE_FORMAT = BINARY
  LINES = 7825
  LINE_SAMPLES = 5676
  SAMPLE_TYPE = UNSIGNED_INTEGER
  SAMPLE_BITS = 8
  BANDS = 1
  BAND_STORAGE_TYPE = BAND_SEQUENTIAL
  MAXIMUM = 255
  MEAN = 89.5164
  MINIMUM = 1
  STANDARD_DEVIATION = 101.452
END_OBJECT = IMAGE
/* MAP OBJECT DEFINITIONS */
OBJECT = IMAGE_MAP_PROJECTION
  ^DATA_SET_MAP_PROJECTION_CATALOG= "DSMAP.CAT"
  A_AXIS_RADIUS = 3396.0
  B_AXIS_RADIUS = 3396.0
  C_AXIS_RADIUS = 3396.0
  CENTER_LATITUDE = -29.8072
  CENTER_LONGITUDE = 35.0362
  COORDINATE_SYSTEM_NAME = PLANETOGRAPHIC
  COORDINATE_SYSTEM_TYPE = "BODY-FIXED ROTATING"
  EASTERNMOST_LONGITUDE = 360.0
  FIRST_STANDARD_PARALLEL = "N/A"
  LINE_FIRST_PIXEL = 1
  LINE_LAST_PIXEL = 7825
  LINE_PROJECTION_OFFSET = 3943.75
  MAP_PROJECTION_ROTATION = 0.0
  MAP_PROJECTION_TYPE = ORTHOGRAPHIC
  MAP_RESOLUTION = 74.08922548333329
  MAP_SCALE = 0.8
  MAXIMUM_LATITUDE = 42.5663
  MINIMUM_LATITUDE = -90.0
  POSITIVE_LONGITUDE_DIRECTION = EAST
  REFERENCE_LATITUDE = "N/A"
  REFERENCE_LONGITUDE = "N/A"
  SAMPLE_FIRST_PIXEL = 1
  SAMPLE_LAST_PIXEL = 5676
  SAMPLE_PROJECTION_OFFSET = 3288.75
  SECOND_STANDARD_PARALLEL = "N/A"
  WESTERNMOST_LONGITUDE = 0.0
END_OBJECT = IMAGE_MAP_PROJECTION
END
