PDS_VERSION_ID = PDS3
/* FILE DATA ELEMENTS */
RECORD_TYPE = UNDEFINED
/* POINTERS TO DATA OBJECTS */
^IMAGE = ("HO985_0000_BL4.TIF")
/* IDENTIFICATION DATA ELEMENTS */
DATA_SET_ID = "MEX-M-HRSC-4-REFDR-MAPPROJECT-EXT9-V4.0"
DATA_SET_NAME = "MARS EXPRESS HRSC MAP PROJECTED REFDR EXTENSION9 V4.0"
DETECTOR_ID = MEX_HRSC_BLUE
EVENT_TYPE = "MARS-TERMINATOR-CALIBRATION-Tc"
INSTRUMENT_HOST_ID = MEX
INSTRUMENT_HOST_NAME = "MARS EXPRESS"
INSTRUMENT_ID = HRSC
INSTRUMENT_NAME = "HIGH RESOLUTION STEREO CAMERA"
MISSION_NAME = "MARS EXPRESS"
MISSION_PHASE_NAME = ME_Phase_47
PROCESSING_LEVEL_ID = 4
PRODUCT_CREATION_TIME = 2024-01-15T14:02:56.000Z
PRODUCT_ID = "HO985_0000_BL4.TIF"
RELEASE_ID = 0007
REVISION_ID = 0000
/* QUALITY DATA ELEMENTS */
DATA_QUALITY_ID = 1
DATA_QUALITY_DESC = "Data calculated based on original SPICE kernels"
/* TIME DATA ELEMENTS */
SPACECRAFT_CLOCK_START_COUNT = "1/0645451163.25683"
SPACECRAFT_CLOCK_STOP_COUNT = "1/0645451618.22164"
START_TIME = 2023-10-15T12:02:12.742Z
STOP_TIME = 2023-10-15T12:06:04.569Z
/* ORBITAL DATA ELEMENTS */
ASCENDING_NODE_LONGITUDE = 110.19
MAXIMUM_RESOLUTION = 0.7027
FOOTPRINT_POINT_LATITUDE = (-61.4456,-61.3981,-58.0438,-54.7761, -55.8472,-56.3531,-56.7321,-56.5792, -55.9673,-55.1694,-54.2594,-52.286, -50.5307,-47.1653,-45.1252,-43.1081, -41.3695,-39.4078,-37.4705,-35.5563, -33.6577,-31.7682,-28.0133,-25.2018, -23.0807,-19.7343,-15.8094,-9.84398, -7.63729,-5.34238,-2.9402,-0.396509, 2.66629,5.59361,8.81287,12.9217,16.6366 ,19.0654,21.7803,24.9918,29.0672, 31.6926,35.3659,37.8743,41.1864,36.254, 33.4715,31.9261,29.3977,25.3608,22.4052 ,20.1855,17.2803,17.3269,14.3104, 12.1296,10.4565,8.11373,4.73918,2.08306 ,-0.191209,-4.0909,-7.48701,-10.9381, -13.7539,-18.6328,-21.6973,-24.3619, -26.6793,-28.9654,-33.495,-36.8972, -41.2279,-43.8959,-47.893,-50.4778, -53.1694,-56.0096,-59.0384,-62.7314, -65.8875,-69.9148,-74.5582,-77.204, -80.0176,-82.3567,-82.0274,-80.3007, -80.3112,-82.4979,-80.7804,-82.9499, -81.5352,-78.5512,-76.3738,-73.7961, -70.0999,-66.9445,-61.4456)
FOOTPRINT_POINT_LONGITUDE = (148.096,148.236,144.221,142.09,133.007 ,128.298,121.418,112.032,105.129, 99.7512,95.2056,87.9305,83.0418,75.7486 ,72.2006,69.1277,66.7557,64.3262, 62.1404,60.1574,58.3362,56.6427,53.5817 ,51.5168,50.0696,47.9459,45.6526, 42.5013,41.4176,40.3278,39.2227,38.089, 36.7626,35.522,34.1862,32.508,30.999, 30.009,28.8891,27.5435,25.7827,24.6019, 22.8725,21.6153,18.1501,5.35579,3.43195 ,358.548,356.52,353.662,351.0,348.243, 347.191,344.493,343.088,345.64,347.657, 350.23,353.527,355.848,357.671,0.501514 ,2.72868,4.81307,6.36608,8.80111, 10.2032,11.3298,12.241,13.0833,14.5934, 15.6005,16.6743,17.2298,17.8845,18.1568 ,18.3314,18.3435,18.1201,17.4322, 16.3301,13.8575,8.30064,2.38916,350.65, 321.289,292.767,273.985,259.273,250.394 ,226.321,219.174,194.082,175.911, 169.436,162.929,154.992,152.873, 148.096)
ORBIT_NUMBER = 24985
ORBITAL_ECCENTRICITY = 0.574
ORBITAL_INCLINATION = 87.06
ORBITAL_SEMIMAJOR_AXIS = 8845.41
PERIAPSIS_ALTITUDE = 370.17
PERIAPSIS_ARGUMENT_ANGLE = 0.14
PERIAPSIS_TIME = 2023-10-15T14:09:02.000Z
SPACECRAFT_ORIENTATION = (0.0,1.0,0.0)
^MEX_ORIENTATION_DESC = "MEX_ORIENTATION_DESC.TXT"
SPACECRAFT_POINTING_MODE = FIXED
^MEX_POINTING_DESC = "MEX_POINTING_DESC.TXT"
RIGHT_ASCENSION = -1e+32
DECLINATION = -1e+32
OFFSET_ANGLE = -1e+32
SPACECRAFT_SOLAR_DISTANCE = 2.36177e+08
TARGET_NAME = MARS
/* CAMERA DATA ELEMENTS */
DETECTOR_TEMPERATURE = 18.3705
FOCAL_PLANE_TEMPERATURE = 8.5833
INST_CMPRS_NAME = "DISCRETE COSINE TRANSFORMATION (DCT)"
INST_CMPRS_RATIO = 7.74914
INST_CMPRS_QUALITY = 0
INST_CMPRS_QUANTZ_TBL_ID = 0
INSTRUMENT_TEMPERATURE = 11.0301
LENS_TEMPERATURE = 8.7872
MACROPIXEL_SIZE = 2
MISSING_FRAMES = 0
PIXEL_SUBSAMPLING_FLAG = N
SIGNAL_CHAIN_ID = 2
/* RADIOMETRIC DATA ELEMENTS */
BANDWIDTH = 76.0
CENTER_FILTER_WAVELENGTH = 444.0
RADIANCE_OFFSET = 0.0
RADIANCE_SCALING_FACTOR = 0.00237647
REFLECTANCE_SCALING_FACTOR = 0.000136213
MEX:REFLECTANCE_OFFSET = 0.0
/* IMAGE OBJECT DEFINITIONS */
OBJECT = IMAGE
  INTERCHANGE_FORMAT = BINARY
  LINES = 7825
  LINE_SAMPLES = 5676
  SAMPLE_TYPE = UNSIGNED_INTEGER
  SAMPLE_BITS = 8
  BANDS = 1
  BAND_STORAGE_TYPE = BAND_SEQUENTIAL
  MAXIMUM = 255
  MEAN = 85.1889
  MINIMUM = 1
  STANDARD_DEVIATION = 97.0512
END_OBJECT = IMAGE
/* MAP OBJECT DEFINITIONS */
OBJECT = IMAGE_MAP_PROJECTION
  ^DATA_SET_MAP_PROJECTION_CATALOG= "DSMAP.CAT"
  A_AXIS_RADIUS = 3396.0
  B_AXIS_RADIUS = 3396.0
  C_AXIS_RADIUS = 3396.0
  CENTER_LATITUDE = -29.8072
  CENTER_LONGITUDE = 35.0362
  COORDINATE_SYSTEM_NAME = PLANETOGRAPHIC
  COORDINATE_SYSTEM_TYPE = "BODY-FIXED ROTATING"
  EASTERNMOST_LONGITUDE = 360.0
  FIRST_STANDARD_PARALLEL = "N/A"
  LINE_FIRST_PIXEL = 1
  LINE_LAST_PIXEL = 7825
  LINE_PROJECTION_OFFSET = 3943.75
  MAP_PROJECTION_ROTATION = 0.0
  MAP_PROJECTION_TYPE = ORTHOGRAPHIC
  MAP_RESOLUTION = 74.08922548333329
  MAP_SCALE = 0.8
  MAXIMUM_LATITUDE = 41.1864
  MINIMUM_LATITUDE = -90.0
  POSITIVE_LONGITUDE_DIRECTION = EAST
  REFERENCE_LATITUDE = "N/A"
  REFERENCE_LONGITUDE = "N/A"
  SAMPLE_FIRST_PIXEL = 1
  SAMPLE_LAST_PIXEL = 5676
  SAMPLE_PROJECTION_OFFSET = 3288.75
  SECOND_STANDARD_PARALLEL = "N/A"
  WESTERNMOST_LONGITUDE = 0.0
END_OBJECT = IMAGE_MAP_PROJECTION
END
