PDS_VERSION_ID = PDS3
/* FILE DATA ELEMENTS */
RECORD_TYPE = UNDEFINED
/* POINTERS TO DATA OBJECTS */
^IMAGE = ("HO982_0000_GR4.TIF")
/* IDENTIFICATION DATA ELEMENTS */
DATA_SET_ID = "MEX-M-HRSC-4-REFDR-MAPPROJECT-EXT9-V4.0"
DATA_SET_NAME = "MARS EXPRESS HRSC MAP PROJECTED REFDR EXTENSION9 V4.0"
DETECTOR_ID = MEX_HRSC_GREEN
EVENT_TYPE = "MARS-TERMINATOR-CALIBRATION-Tc"
INSTRUMENT_HOST_ID = MEX
INSTRUMENT_HOST_NAME = "MARS EXPRESS"
INSTRUMENT_ID = HRSC
INSTRUMENT_NAME = "HIGH RESOLUTION STEREO CAMERA"
MISSION_NAME = "MARS EXPRESS"
MISSION_PHASE_NAME = ME_Phase_47
PROCESSING_LEVEL_ID = 4
PRODUCT_CREATION_TIME = 2024-01-15T14:02:56.000Z
PRODUCT_ID = "HO982_0000_GR4.TIF"
RELEASE_ID = 0007
REVISION_ID = 0000
/* QUALITY DATA ELEMENTS */
DATA_QUALITY_ID = 1
DATA_QUALITY_DESC = "Data calculated based on original SPICE kernels"
/* TIME DATA ELEMENTS */
SPACECRAFT_CLOCK_START_COUNT = "1/0645395635.25705"
SPACECRAFT_CLOCK_STOP_COUNT = "1/0645396059.21574"
START_TIME = 2023-10-14T20:35:58.773Z
STOP_TIME = 2023-10-14T20:39:20.724Z
/* ORBITAL DATA ELEMENTS */
ASCENDING_NODE_LONGITUDE = 110.23
MAXIMUM_RESOLUTION = 0.8372
FOOTPRINT_POINT_LATITUDE = (-64.9443,-64.9836,-62.6742,-60.4033, -57.3384,-52.9232,-50.6396,-47.0421, -44.4266,-43.0135,-41.2805,-38.8017, -36.87,-35.3982,-32.308,-29.5972, -27.4196,-24.0691,-20.9698,-16.9829, -13.3488,-10.391,-8.12687,-5.21735, -1.71151,2.31105,6.89314,10.4936, 13.2872,16.145,20.5447,24.8747,28.2246, 32.3358,36.1478,39.2854,42.7258,45.4624 ,48.0698,51.8409,56.2959,59.0161,62.359 ,67.1013,71.4288,74.8418,75.0351, 73.3044,72.2179,71.3781,68.8164,66.7043 ,63.7733,59.9388,57.1116,54.1735, 52.0666,46.323,42.7772,41.5483,39.2546, 37.4389,35.6025,32.9804,30.4595,27.7427 ,23.5915,21.6697,18.0388,13.8954, 10.5676,7.44565,3.07401,-0.559617, -3.06649,-6.88615,-10.2892,-14.8609, -18.0769,-21.3307,-25.6707,-30.1217, -34.9501,-38.2302,-42.2318,-45.1974, -48.5129,-52.4071,-56.9684,-59.9795, -63.9943,-66.7596,-71.8003,-73.3159, -74.6419,-72.5558,-71.7247,-70.6771, -68.0251,-64.9443)
FOOTPRINT_POINT_LONGITUDE = (320.4,320.6,320.631,324.039,328.536, 329.61,331.023,332.512,333.621,336.967, 330.501,323.993,320.021,317.417,312.793 ,309.396,307.005,303.757,301.115, 298.171,295.805,294.072,292.878,291.403 ,289.802,288.143,286.461,285.276, 284.419,283.607,282.472,281.481,280.809 ,280.097,279.54,279.169,278.848,278.677 ,278.584,278.639,278.941,279.317, 280.052,281.846,284.77,285.19,268.636, 257.74,243.673,234.739,223.257,217.56, 212.638,207.976,208.489,206.129,203.027 ,203.12,203.013,207.255,213.296,217.073 ,220.356,224.294,227.535,230.565, 234.524,236.133,238.874,241.613,243.557 ,245.215,247.34,248.894,249.871,251.263 ,252.385,253.738,254.616,255.416, 256.368,257.221,257.974,258.389,258.774 ,258.984,259.123,259.11,258.789,258.363 ,257.375,256.329,253.114,264.513,272.88 ,277.181,292.396,303.6,312.172,320.4)
ORBIT_NUMBER = 24982
ORBITAL_ECCENTRICITY = 0.574
ORBITAL_INCLINATION = 87.05
ORBITAL_SEMIMAJOR_AXIS = 8850.32
PERIAPSIS_ALTITUDE = 370.58
PERIAPSIS_ARGUMENT_ANGLE = 0.68
PERIAPSIS_TIME = 2023-10-14T17:11:51.000Z
SPACECRAFT_ORIENTATION = (0.0,1.0,0.0)
^MEX_ORIENTATION_DESC = "MEX_ORIENTATION_DESC.TXT"
SPACECRAFT_POINTING_MODE = FIXED
^MEX_POINTING_DESC = "MEX_POINTING_DESC.TXT"
RIGHT_ASCENSION = -1e+32
DECLINATION = -1e+32
OFFSET_ANGLE = -1e+32
SPACECRAFT_SOLAR_DISTANCE = 2.36328e+08
TARGET_NAME = MARS
/* CAMERA DATA ELEMENTS */
DETECTOR_TEMPERATURE = 18.5744
FOCAL_PLANE_TEMPERATURE = 8.5833
INST_CMPRS_NAME = "DISCRETE COSINE TRANSFORMATION (DCT)"
INST_CMPRS_RATIO = 8.49909
INST_CMPRS_QUALITY = 0
INST_CMPRS_QUANTZ_TBL_ID = 0
INSTRUMENT_TEMPERATURE = 11.234
LENS_TEMPERATURE = 9.195
MACROPIXEL_SIZE = 2
MISSING_FRAMES = 0
PIXEL_SUBSAMPLING_FLAG = N
SIGNAL_CHAIN_ID = 2
/* RADIOMETRIC DATA ELEMENTS */
BANDWIDTH = 88.0
CENTER_FILTER_WAVELENGTH = 538.0
RADIANCE_OFFSET = 0.0
RADIANCE_SCALING_FACTOR = 0.0097421
REFLECTANCE_SCALING_FACTOR = 0.000468361
MEX:REFLECTANCE_OFFSET = 0.0
/* IMAGE OBJECT DEFINITIONS */
OBJECT = IMAGE
  INTERCHANGE_FORMAT = BINARY
  LINES = 8046
  LINE_SAMPLES = 5708
  SAMPLE_TYPE = UNSIGNED_INTEGER
  SAMPLE_BITS = 8
  BANDS = 1
  BAND_STORAGE_TYPE = BAND_SEQUENTIAL
  MAXIMUM = 255
  MEAN = 134.562
  MINIMUM = 1
  STANDARD_DEVIATION = 75.8018
END_OBJECT = IMAGE
/* MAP OBJECT DEFINITIONS */
OBJECT = IMAGE_MAP_PROJECTION
  ^DATA_SET_MAP_PROJECTION_CATALOG= "DSMAP.CAT"
  A_AXIS_RADIUS = 3396.0
  B_AXIS_RADIUS = 3396.0
  C_AXIS_RADIUS = 3396.0
  CENTER_LATITUDE = 0.352397
  CENTER_LONGITUDE = 268.504
  COORDINATE_SYSTEM_NAME = PLANETOGRAPHIC
  COORDINATE_SYSTEM_TYPE = "BODY-FIXED ROTATING"
  EASTERNMOST_LONGITUDE = 336.967
  FIRST_STANDARD_PARALLEL = "N/A"
  LINE_FIRST_PIXEL = 1
  LINE_LAST_PIXEL = 8046
  LINE_PROJECTION_OFFSET = 4044.75
  MAP_PROJECTION_ROTATION = 0.0
  MAP_PROJECTION_TYPE = ORTHOGRAPHIC
  MAP_RESOLUTION = 74.08922548333329
  MAP_SCALE = 0.8
  MAXIMUM_LATITUDE = 75.0351
  MINIMUM_LATITUDE = -74.64190000000001
  POSITIVE_LONGITUDE_DIRECTION = EAST
  REFERENCE_LATITUDE = "N/A"
  REFERENCE_LONGITUDE = "N/A"
  SAMPLE_FIRST_PIXEL = 1
  SAMPLE_LAST_PIXEL = 5708
  SAMPLE_PROJECTION_OFFSET = 2854.25
  SECOND_STANDARD_PARALLEL = "N/A"
  WESTERNMOST_LONGITUDE = 203.013
END_OBJECT = IMAGE_MAP_PROJECTION
END
