PDS_VERSION_ID = PDS3
/* FILE DATA ELEMENTS */
RECORD_TYPE = UNDEFINED
/* POINTERS TO DATA OBJECTS */
^IMAGE = ("HO975_0000_ND4.TIF")
/* IDENTIFICATION DATA ELEMENTS */
DATA_SET_ID = "MEX-M-HRSC-4-REFDR-MAPPROJECT-EXT9-V4.0"
DATA_SET_NAME = "MARS EXPRESS HRSC MAP PROJECTED REFDR EXTENSION9 V4.0"
DETECTOR_ID = MEX_HRSC_NADIR
EVENT_TYPE = "MARS-TERMINATOR-CALIBRATION-Tc"
INSTRUMENT_HOST_ID = MEX
INSTRUMENT_HOST_NAME = "MARS EXPRESS"
INSTRUMENT_ID = HRSC
INSTRUMENT_NAME = "HIGH RESOLUTION STEREO CAMERA"
MISSION_NAME = "MARS EXPRESS"
MISSION_PHASE_NAME = ME_Phase_47
PROCESSING_LEVEL_ID = 4
PRODUCT_CREATION_TIME = 2024-01-15T14:02:56.000Z
PRODUCT_ID = "HO975_0000_ND4.TIF"
RELEASE_ID = 0007
REVISION_ID = 0000
/* QUALITY DATA ELEMENTS */
DATA_QUALITY_ID = 1
DATA_QUALITY_DESC = "Data calculated based on original SPICE kernels"
/* TIME DATA ELEMENTS */
SPACECRAFT_CLOCK_START_COUNT = "1/0645210873.24895"
SPACECRAFT_CLOCK_STOP_COUNT = "1/0645211469.19809"
START_TIME = 2023-10-12T17:17:11.702Z
STOP_TIME = 2023-10-12T17:23:10.683Z
/* ORBITAL DATA ELEMENTS */
ASCENDING_NODE_LONGITUDE = 110.36
MAXIMUM_RESOLUTION = 0.2026
FOOTPRINT_POINT_LATITUDE = (-6.54729,-6.57821,-5.96028,-6.43886, -5.64942,-5.53994,-5.42984,-5.25179, -1.31122,2.31864,4.82835,8.54496,11.588 ,13.6807,16.7973,19.4953,22.5139, 25.8053,27.9336,33.1143,36.9415,39.8028 ,43.5268,46.4357,48.8423,52.774,56.0231 ,59.5225,62.4292,66.7691,68.9732,71.568 ,74.5858,76.3052,77.4927,78.6711, 79.2103,79.0762,77.624,76.3817,74.2663, 72.3524,69.7712,67.9618,64.8115,61.9611 ,58.0242,57.676,58.7304,58.8524,58.5904 ,58.7643,58.5026,58.4359,57.975,58.673, 62.4581,65.4447,67.5648,69.5394,73.3491 ,75.8978,77.2503,78.4075,78.7638,78.539 ,77.775,75.7447,72.9914,69.3786,66.5604 ,62.9994,60.78,57.7087,54.0029,50.909, 48.331,44.9726,42.2768,38.9133,34.7971, 31.6335,28.9591,25.8841,22.0869,19.3284 ,15.4832,10.6632,7.33976,5.31325, 2.31568,-0.0566939,-2.61056,-5.97139, -5.66042,-6.02438,-6.14794,-6.23443, -6.54729)
FOOTPRINT_POINT_LONGITUDE = (297.805,297.811,298.736,300.771, 304.014,306.365,308.621,311.694,311.273 ,310.743,310.415,309.979,309.666, 309.468,309.214,309.029,308.859,308.728 ,308.675,308.662,308.789,308.97,309.347 ,309.777,310.24,311.261,312.421,314.107 ,315.979,319.973,322.84,327.388,335.439 ,342.593,349.814,1.51051,12.8202, 31.9607,50.0849,57.939,66.611,71.9328, 77.0673,79.7887,83.4172,85.8765,90.1723 ,96.376,103.68,108.744,114.496,116.452, 121.529,127.25,135.021,142.817,145.684, 148.697,151.417,154.571,163.468,173.671 ,182.484,196.064,206.928,222.533, 233.944,248.434,258.877,266.959,271.147 ,274.965,276.791,278.829,280.731, 281.977,282.839,283.761,284.359,284.965 ,285.532,285.86,286.076,286.269,286.42, 286.491,286.525,286.474,286.385,286.306 ,286.175,286.033,285.864,286.33,288.93, 291.81,294.426,295.206,297.805)
ORBIT_NUMBER = 24975
ORBITAL_ECCENTRICITY = 0.574
ORBITAL_INCLINATION = 87.05
ORBITAL_SEMIMAJOR_AXIS = 8850.81
PERIAPSIS_ALTITUDE = 371.15
PERIAPSIS_ARGUMENT_ANGLE = 1.87
PERIAPSIS_TIME = 2023-10-12T16:18:24.000Z
SPACECRAFT_ORIENTATION = (0.0,1.0,0.0)
^MEX_ORIENTATION_DESC = "MEX_ORIENTATION_DESC.TXT"
SPACECRAFT_POINTING_MODE = FIXED
^MEX_POINTING_DESC = "MEX_POINTING_DESC.TXT"
RIGHT_ASCENSION = -1e+32
DECLINATION = -1e+32
OFFSET_ANGLE = -1e+32
SPACECRAFT_SOLAR_DISTANCE = 2.36677e+08
TARGET_NAME = MARS
/* CAMERA DATA ELEMENTS */
DETECTOR_TEMPERATURE = 18.5744
FOCAL_PLANE_TEMPERATURE = 8.5833
INST_CMPRS_NAME = "DISCRETE COSINE TRANSFORMATION (DCT)"
INST_CMPRS_RATIO = 7.16606
INST_CMPRS_QUALITY = 0
INST_CMPRS_QUANTZ_TBL_ID = 0
INSTRUMENT_TEMPERATURE = 11.0301
LENS_TEMPERATURE = 8.7872
MACROPIXEL_SIZE = 1
MISSING_FRAMES = 2
PIXEL_SUBSAMPLING_FLAG = N
SIGNAL_CHAIN_ID = 0
/* RADIOMETRIC DATA ELEMENTS */
BANDWIDTH = 177.0
CENTER_FILTER_WAVELENGTH = 677.5
RADIANCE_OFFSET = 0.0
RADIANCE_SCALING_FACTOR = 0.0442438
REFLECTANCE_SCALING_FACTOR = 0.00131651
MEX:REFLECTANCE_OFFSET = 0.0
/* IMAGE OBJECT DEFINITIONS */
OBJECT = IMAGE
  INTERCHANGE_FORMAT = BINARY
  LINES = 29799
  LINE_SAMPLES = 8540
  SAMPLE_TYPE = UNSIGNED_INTEGER
  SAMPLE_BITS = 8
  BANDS = 1
  BAND_STORAGE_TYPE = BAND_SEQUENTIAL
  MAXIMUM = 255
  MEAN = 100.549
  MINIMUM = 1
  STANDARD_DEVIATION = 38.7353
END_OBJECT = IMAGE
/* MAP OBJECT DEFINITIONS */
OBJECT = IMAGE_MAP_PROJECTION
  ^DATA_SET_MAP_PROJECTION_CATALOG= "DSMAP.CAT"
  A_AXIS_RADIUS = 3396.0
  B_AXIS_RADIUS = 3396.0
  C_AXIS_RADIUS = 3396.0
  CENTER_LATITUDE = 55.5551
  CENTER_LONGITUDE = 296.078
  COORDINATE_SYSTEM_NAME = PLANETOGRAPHIC
  COORDINATE_SYSTEM_TYPE = "BODY-FIXED ROTATING"
  EASTERNMOST_LONGITUDE = 360.0
  FIRST_STANDARD_PARALLEL = "N/A"
  LINE_FIRST_PIXEL = 1
  LINE_LAST_PIXEL = 29799
  LINE_PROJECTION_OFFSET = 15114.0
  MAP_PROJECTION_ROTATION = 0.0
  MAP_PROJECTION_TYPE = ORTHOGRAPHIC
  MAP_RESOLUTION = 296.356901933333
  MAP_SCALE = 0.2
  MAXIMUM_LATITUDE = 90.0
  MINIMUM_LATITUDE = -6.57821
  POSITIVE_LONGITUDE_DIRECTION = EAST
  REFERENCE_LATITUDE = "N/A"
  REFERENCE_LONGITUDE = "N/A"
  SAMPLE_FIRST_PIXEL = 1
  SAMPLE_LAST_PIXEL = 8540
  SAMPLE_PROJECTION_OFFSET = 3943.0
  SECOND_STANDARD_PARALLEL = "N/A"
  WESTERNMOST_LONGITUDE = 0.0
END_OBJECT = IMAGE_MAP_PROJECTION
END
