PDS_VERSION_ID = PDS3
/* FILE DATA ELEMENTS */
RECORD_TYPE = UNDEFINED
/* POINTERS TO DATA OBJECTS */
^IMAGE = ("HO970_0001_RE4.TIF")
/* IDENTIFICATION DATA ELEMENTS */
DATA_SET_ID = "MEX-M-HRSC-4-REFDR-MAPPROJECT-EXT9-V4.0"
DATA_SET_NAME = "MARS EXPRESS HRSC MAP PROJECTED REFDR EXTENSION9 V4.0"
DETECTOR_ID = MEX_HRSC_RED
EVENT_TYPE = "MARS-TERMINATOR-CALIBRATION-Tc"
INSTRUMENT_HOST_ID = MEX
INSTRUMENT_HOST_NAME = "MARS EXPRESS"
INSTRUMENT_ID = HRSC
INSTRUMENT_NAME = "HIGH RESOLUTION STEREO CAMERA"
MISSION_NAME = "MARS EXPRESS"
MISSION_PHASE_NAME = ME_Phase_47
PROCESSING_LEVEL_ID = 4
PRODUCT_CREATION_TIME = 2024-01-15T14:02:56.000Z
PRODUCT_ID = "HO970_0001_RE4.TIF"
RELEASE_ID = 0007
REVISION_ID = 0000
/* QUALITY DATA ELEMENTS */
DATA_QUALITY_ID = 1
DATA_QUALITY_DESC = "Data calculated based on original SPICE kernels"
/* TIME DATA ELEMENTS */
SPACECRAFT_CLOCK_START_COUNT = "1/0645087667.25702"
SPACECRAFT_CLOCK_STOP_COUNT = "1/0645088106.22263"
START_TIME = 2023-10-11T07:01:43.673Z
STOP_TIME = 2023-10-11T07:05:39.698Z
/* ORBITAL DATA ELEMENTS */
ASCENDING_NODE_LONGITUDE = 110.44
MAXIMUM_RESOLUTION = 0.6112
FOOTPRINT_POINT_LATITUDE = (72.8247,72.769,73.8828,75.0363,73.5732 ,73.9233,70.9572,70.8101,71.4601, 73.0484,74.6683,74.723,74.1427,73.2325, 71.8625,69.4634,67.3256,63.0319,57.3279 ,53.1149,50.2509,46.6023,43.6282, 40.0972,34.7933,30.8703,25.5851,21.867, 17.5565,14.1617,10.9061,6.44562,3.07089 ,-0.288676,-5.33823,-8.06677,-12.1813, -14.7986,-18.4195,-20.6346,-23.2162, -27.0878,-30.8126,-30.4654,-34.3337, -35.524,-35.8343,-37.2117,-37.8186, -38.5593,-38.659,-39.2441,-37.905, -38.8634,-36.3338,-33.065,-28.1221, -24.5126,-21.8918,-17.9114,-15.1121, -11.2395,-8.42245,-4.3434,-1.78125, 1.32902,5.17692,8.44145,12.2003,14.5751 ,18.3378,21.1452,24.0975,27.892,30.6641 ,34.2025,36.4716,41.0951,43.9589, 47.6071,50.1647,52.7426,56.3786,59.2311 ,61.5951,63.7566,67.0682,69.2487, 71.2309,72.0301,72.5694,72.644,71.8118, 69.7017,67.9772,69.0759,71.4412,72.1113 ,72.8247)
FOOTPRINT_POINT_LONGITUDE = (281.161,281.045,274.906,257.992, 238.988,224.769,221.059,208.661,199.116 ,190.846,172.843,159.69,149.382,141.294 ,133.554,124.855,119.587,112.504, 106.809,104.071,102.666,101.267,100.383 ,99.5739,98.7521,98.3918,98.1808, 98.1993,98.3785,98.6284,98.9574,99.5393 ,100.091,100.739,101.903,102.647, 103.914,104.826,106.251,107.214,108.458 ,110.569,111.87,108.888,104.441,100.532 ,96.8785,93.2253,89.6758,87.297,83.8192 ,78.2138,73.2116,69.5832,69.9484, 70.3391,70.8182,71.0725,71.2177,71.3738 ,71.4396,71.4803,71.4769,71.4096, 71.3341,71.2061,70.9945,70.7649,70.4338 ,70.1862,69.7272,69.3245,68.8418, 68.1103,67.4927,66.5613,65.8847,64.2478 ,63.0231,61.1649,59.6127,57.7775, 54.6133,51.4644,48.2308,44.5768,36.9383 ,29.4914,18.8344,11.7103,2.92136, 352.034,338.382,324.823,318.146,307.182 ,294.81,290.567,281.161)
ORBIT_NUMBER = 24970
ORBITAL_ECCENTRICITY = 0.575
ORBITAL_INCLINATION = 87.06
ORBITAL_SEMIMAJOR_AXIS = 8854.3
PERIAPSIS_ALTITUDE = 371.19
PERIAPSIS_ARGUMENT_ANGLE = 2.73
PERIAPSIS_TIME = 2023-10-11T05:23:14.000Z
SPACECRAFT_ORIENTATION = (0.0,1.0,0.0)
^MEX_ORIENTATION_DESC = "MEX_ORIENTATION_DESC.TXT"
SPACECRAFT_POINTING_MODE = FIXED
^MEX_POINTING_DESC = "MEX_POINTING_DESC.TXT"
RIGHT_ASCENSION = -1e+32
DECLINATION = -1e+32
OFFSET_ANGLE = -1e+32
SPACECRAFT_SOLAR_DISTANCE = 2.36925e+08
TARGET_NAME = MARS
/* CAMERA DATA ELEMENTS */
DETECTOR_TEMPERATURE = 24.8953
FOCAL_PLANE_TEMPERATURE = 10.2145
INST_CMPRS_NAME = "DISCRETE COSINE TRANSFORMATION (DCT)"
INST_CMPRS_RATIO = 8.77169
INST_CMPRS_QUALITY = 0
INST_CMPRS_QUANTZ_TBL_ID = 0
INSTRUMENT_TEMPERATURE = 17.5549
LENS_TEMPERATURE = 10.8262
MACROPIXEL_SIZE = 2
MISSING_FRAMES = 0
PIXEL_SUBSAMPLING_FLAG = N
SIGNAL_CHAIN_ID = 3
/* RADIOMETRIC DATA ELEMENTS */
BANDWIDTH = 48.0
CENTER_FILTER_WAVELENGTH = 748.0
RADIANCE_OFFSET = 0.0
RADIANCE_SCALING_FACTOR = 0.011096
REFLECTANCE_SCALING_FACTOR = 0.00142125
MEX:REFLECTANCE_OFFSET = 0.0
/* IMAGE OBJECT DEFINITIONS */
OBJECT = IMAGE
  INTERCHANGE_FORMAT = BINARY
  LINES = 7961
  LINE_SAMPLES = 3276
  SAMPLE_TYPE = UNSIGNED_INTEGER
  SAMPLE_BITS = 8
  BANDS = 1
  BAND_STORAGE_TYPE = BAND_SEQUENTIAL
  MAXIMUM = 255
  MEAN = 96.9593
  MINIMUM = 11
  STANDARD_DEVIATION = 35.9666
END_OBJECT = IMAGE
/* MAP OBJECT DEFINITIONS */
OBJECT = IMAGE_MAP_PROJECTION
  ^DATA_SET_MAP_PROJECTION_CATALOG= "DSMAP.CAT"
  A_AXIS_RADIUS = 3396.0
  B_AXIS_RADIUS = 3396.0
  C_AXIS_RADIUS = 3396.0
  CENTER_LATITUDE = 33.5045
  CENTER_LONGITUDE = 81.82769999999999
  COORDINATE_SYSTEM_NAME = PLANETOGRAPHIC
  COORDINATE_SYSTEM_TYPE = "BODY-FIXED ROTATING"
  EASTERNMOST_LONGITUDE = 360.0
  FIRST_STANDARD_PARALLEL = "N/A"
  LINE_FIRST_PIXEL = 1
  LINE_LAST_PIXEL = 7961
  LINE_PROJECTION_OFFSET = 3965.25
  MAP_PROJECTION_ROTATION = 0.0
  MAP_PROJECTION_TYPE = ORTHOGRAPHIC
  MAP_RESOLUTION = 74.08922548333329
  MAP_SCALE = 0.8
  MAXIMUM_LATITUDE = 90.0
  MINIMUM_LATITUDE = -39.2441
  POSITIVE_LONGITUDE_DIRECTION = EAST
  REFERENCE_LATITUDE = "N/A"
  REFERENCE_LONGITUDE = "N/A"
  SAMPLE_FIRST_PIXEL = 1
  SAMPLE_LAST_PIXEL = 3276
  SAMPLE_PROJECTION_OFFSET = 1392.25
  SECOND_STANDARD_PARALLEL = "N/A"
  WESTERNMOST_LONGITUDE = 0.0
END_OBJECT = IMAGE_MAP_PROJECTION
END
