PDS_VERSION_ID = PDS3
/* FILE DATA ELEMENTS */
RECORD_TYPE = UNDEFINED
/* POINTERS TO DATA OBJECTS */
^IMAGE = ("HO968_0000_ND4.TIF")
/* IDENTIFICATION DATA ELEMENTS */
DATA_SET_ID = "MEX-M-HRSC-4-REFDR-MAPPROJECT-EXT9-V4.0"
DATA_SET_NAME = "MARS EXPRESS HRSC MAP PROJECTED REFDR EXTENSION9 V4.0"
DETECTOR_ID = MEX_HRSC_NADIR
EVENT_TYPE = "MARS-TERMINATOR-CALIBRATION-Tc"
INSTRUMENT_HOST_ID = MEX
INSTRUMENT_HOST_NAME = "MARS EXPRESS"
INSTRUMENT_ID = HRSC
INSTRUMENT_NAME = "HIGH RESOLUTION STEREO CAMERA"
MISSION_NAME = "MARS EXPRESS"
MISSION_PHASE_NAME = ME_Phase_47
PROCESSING_LEVEL_ID = 4
PRODUCT_CREATION_TIME = 2024-01-15T14:02:56.000Z
PRODUCT_ID = "HO968_0000_ND4.TIF"
RELEASE_ID = 0007
REVISION_ID = 0000
/* QUALITY DATA ELEMENTS */
DATA_QUALITY_ID = 1
DATA_QUALITY_DESC = "Data calculated based on original SPICE kernels"
/* TIME DATA ELEMENTS */
SPACECRAFT_CLOCK_START_COUNT = "1/0645038068.25058"
SPACECRAFT_CLOCK_STOP_COUNT = "1/0645038533.25584"
START_TIME = 2023-10-10T17:16:56.652Z
STOP_TIME = 2023-10-10T17:20:56.627Z
/* ORBITAL DATA ELEMENTS */
ASCENDING_NODE_LONGITUDE = 110.48
MAXIMUM_RESOLUTION = 0.3354
FOOTPRINT_POINT_LATITUDE = (-38.9847,-38.1536,-32.0902,-25.3104, -22.1803,-14.7523,-4.82579,0.396262, 6.74613,21.7351,30.9873,34.7517,38.4776 ,37.1713,39.2997,37.5402,39.5003,37.785 ,40.2869,38.4379,38.9366,41.9674, 40.2911,42.3262,40.5098,42.5038,40.7062 ,42.6802,41.0212,42.8553,40.7364, 43.0295,40.9418,43.3743,41.4531,43.7149 ,41.8775,43.8834,42.1173,44.2181, 42.5021,44.3838,42.109,44.5484,42.4408, 44.7124,42.7075,44.8753,42.9533,45.0372 ,43.1723,45.1986,43.4043,45.3589, 43.0342,45.5184,43.2596,45.6774,43.7455 ,45.8353,43.4398,45.9928,44.5977, 46.3038,44.4518,46.4591,44.6111,46.6136 ,44.7032,46.7658,44.9456,46.9191, 44.8084,47.2219,45.476,55.4772,61.8237, 71.8976,76.5895,80.9789,80.8999,80.7076 ,87.1477,85.1266,78.8242,69.1324,62.134 ,52.0857,41.0079,31.6556,25.8057, 18.1903,9.19191,-1.15604,-9.84994, -21.0064,-30.0024,-36.9481,-38.0218, -38.9847)
FOOTPRINT_POINT_LONGITUDE = (309.654,309.201,322.428,327.743, 334.292,337.302,344.239,349.727,343.272 ,339.992,345.526,352.488,359.955, 367.902,359.969,367.431,359.992,367.354 ,359.961,367.386,367.112,360.03,368.271 ,359.964,368.198,359.99,368.202,360.023 ,367.706,359.956,368.861,360.0,368.836, 359.998,368.352,360.016,368.162,359.979 ,367.922,360.027,367.866,360.004, 370.219,359.986,369.681,359.972,369.358 ,359.963,369.103,359.958,368.942, 359.957,368.729,359.962,370.234,359.97, 370.061,359.982,369.411,359.999,370.675 ,360.02,368.059,359.963,368.804,359.996 ,368.861,360.033,369.178,359.962, 368.828,360.007,370.924,359.996,368.703 ,374.452,379.18,394.608,413.644,450.973 ,451.589,452.029,434.333,296.703,289.0, 287.206,287.246,287.913,289.02,290.179, 290.976,292.11,293.611,295.629,297.672, 301.03,304.677,308.374,309.051,309.654)
ORBIT_NUMBER = 24968
ORBITAL_ECCENTRICITY = 0.574
ORBITAL_INCLINATION = 87.05
ORBITAL_SEMIMAJOR_AXIS = 8851.22
PERIAPSIS_ALTITUDE = 371.72
PERIAPSIS_ARGUMENT_ANGLE = 3.07
PERIAPSIS_TIME = 2023-10-10T15:25:04.000Z
SPACECRAFT_ORIENTATION = (0.0,1.0,0.0)
^MEX_ORIENTATION_DESC = "MEX_ORIENTATION_DESC.TXT"
SPACECRAFT_POINTING_MODE = FIXED
^MEX_POINTING_DESC = "MEX_POINTING_DESC.TXT"
RIGHT_ASCENSION = -1e+32
DECLINATION = -1e+32
OFFSET_ANGLE = -1e+32
SPACECRAFT_SOLAR_DISTANCE = 2.37024e+08
TARGET_NAME = MARS
/* CAMERA DATA ELEMENTS */
DETECTOR_TEMPERATURE = 18.3705
FOCAL_PLANE_TEMPERATURE = 8.5833
INST_CMPRS_NAME = "DISCRETE COSINE TRANSFORMATION (DCT)"
INST_CMPRS_RATIO = 8.38554
INST_CMPRS_QUALITY = 0
INST_CMPRS_QUANTZ_TBL_ID = 0
INSTRUMENT_TEMPERATURE = 10.2145
LENS_TEMPERATURE = 8.9911
MACROPIXEL_SIZE = 1
PIXEL_SUBSAMPLING_FLAG = N
SIGNAL_CHAIN_ID = 0
/* RADIOMETRIC DATA ELEMENTS */
BANDWIDTH = 177.0
CENTER_FILTER_WAVELENGTH = 677.5
RADIANCE_OFFSET = 0.0
RADIANCE_SCALING_FACTOR = 0.0410202
REFLECTANCE_SCALING_FACTOR = 0.0012241
MEX:REFLECTANCE_OFFSET = 0.0
/* IMAGE OBJECT DEFINITIONS */
OBJECT = IMAGE
  INTERCHANGE_FORMAT = BINARY
  LINES = 15463
  LINE_SAMPLES = 8018
  SAMPLE_TYPE = UNSIGNED_INTEGER
  SAMPLE_BITS = 8
  BANDS = 1
  BAND_STORAGE_TYPE = BAND_SEQUENTIAL
  MAXIMUM = 255
  MEAN = 145.76
  MINIMUM = 50
  STANDARD_DEVIATION = 29.4051
END_OBJECT = IMAGE
/* MAP OBJECT DEFINITIONS */
OBJECT = IMAGE_MAP_PROJECTION
  ^DATA_SET_MAP_PROJECTION_CATALOG= "DSMAP.CAT"
  A_AXIS_RADIUS = 3396.0
  B_AXIS_RADIUS = 3396.0
  C_AXIS_RADIUS = 3396.0
  CENTER_LATITUDE = 28.9925
  CENTER_LONGITUDE = 309.623
  COORDINATE_SYSTEM_NAME = PLANETOGRAPHIC
  COORDINATE_SYSTEM_TYPE = "BODY-FIXED ROTATING"
  EASTERNMOST_LONGITUDE = 92.029
  FIRST_STANDARD_PARALLEL = "N/A"
  LINE_FIRST_PIXEL = 1
  LINE_LAST_PIXEL = 15463
  LINE_PROJECTION_OFFSET = 7752.0
  MAP_PROJECTION_ROTATION = 0.0
  MAP_PROJECTION_TYPE = ORTHOGRAPHIC
  MAP_RESOLUTION = 148.178450966667
  MAP_SCALE = 0.4
  MAXIMUM_LATITUDE = 87.1477
  MINIMUM_LATITUDE = -38.9847
  POSITIVE_LONGITUDE_DIRECTION = EAST
  REFERENCE_LATITUDE = "N/A"
  REFERENCE_LONGITUDE = "N/A"
  SAMPLE_FIRST_PIXEL = 1
  SAMPLE_LAST_PIXEL = 8018
  SAMPLE_PROJECTION_OFFSET = 2448.0
  SECOND_STANDARD_PARALLEL = "N/A"
  WESTERNMOST_LONGITUDE = -72.794
END_OBJECT = IMAGE_MAP_PROJECTION
END
