PDS_VERSION_ID = PDS3
/* FILE DATA ELEMENTS */
RECORD_TYPE = UNDEFINED
/* POINTERS TO DATA OBJECTS */
^IMAGE = ("HO968_0000_GR4.TIF")
/* IDENTIFICATION DATA ELEMENTS */
DATA_SET_ID = "MEX-M-HRSC-4-REFDR-MAPPROJECT-EXT9-V4.0"
DATA_SET_NAME = "MARS EXPRESS HRSC MAP PROJECTED REFDR EXTENSION9 V4.0"
DETECTOR_ID = MEX_HRSC_GREEN
EVENT_TYPE = "MARS-TERMINATOR-CALIBRATION-Tc"
INSTRUMENT_HOST_ID = MEX
INSTRUMENT_HOST_NAME = "MARS EXPRESS"
INSTRUMENT_ID = HRSC
INSTRUMENT_NAME = "HIGH RESOLUTION STEREO CAMERA"
MISSION_NAME = "MARS EXPRESS"
MISSION_PHASE_NAME = ME_Phase_47
PROCESSING_LEVEL_ID = 4
PRODUCT_CREATION_TIME = 2024-01-15T14:02:56.000Z
PRODUCT_ID = "HO968_0000_GR4.TIF"
RELEASE_ID = 0007
REVISION_ID = 0000
/* QUALITY DATA ELEMENTS */
DATA_QUALITY_ID = 1
DATA_QUALITY_DESC = "Data calculated based on original SPICE kernels"
/* TIME DATA ELEMENTS */
SPACECRAFT_CLOCK_START_COUNT = "1/0645038068.25058"
SPACECRAFT_CLOCK_STOP_COUNT = "1/0645038533.25584"
START_TIME = 2023-10-10T17:16:32.689Z
STOP_TIME = 2023-10-10T17:20:33.687Z
/* ORBITAL DATA ELEMENTS */
ASCENDING_NODE_LONGITUDE = 110.48
MAXIMUM_RESOLUTION = 0.6689
FOOTPRINT_POINT_LATITUDE = (-38.8718,-36.8663,-34.5226,-33.7127, -30.7177,-26.9386,-21.727,-21.7924, -18.1497,-16.0092,-11.651,-10.6864, -7.68681,-7.22905,-2.17129,-4.03052, -1.75851,-3.31145,0.781139,-1.00118, 1.34403,0.177825,3.60444,6.99237,13.487 ,19.6654,24.8214,30.5262,33.9951,35.442 ,36.0224,38.4406,39.9769,37.8882, 41.1207,39.5298,41.4902,39.9798,41.8544 ,40.3998,42.2134,41.2303,43.6025, 42.6564,44.601,43.0579,44.9261,43.4455, 45.2477,42.9512,45.5662,45.241,46.8074, 44.9951,47.4101,45.644,48.2941,46.7406, 50.4435,52.2394,54.6198,53.5312,58.2792 ,62.464,66.5894,69.0326,73.6461,75.0576 ,78.6537,80.104,80.0366,81.8491,88.5032 ,84.8326,80.5007,75.279,69.5144,65.7612 ,59.3264,55.604,50.1096,46.4384,42.1176 ,38.6278,32.8942,24.93,21.2131,15.5239, 11.2338,5.17942,-2.50972,-8.74038, -13.115,-18.9451,-23.6201,-26.9665, -32.5033,-36.3094,-37.046,-38.8718)
FOOTPRINT_POINT_LONGITUDE = (309.76,308.714,313.536,318.402,322.986 ,328.542,329.584,333.961,333.26,339.008 ,338.186,342.842,340.871,345.013, 344.061,347.363,344.144,347.657,346.087 ,349.415,346.07,349.964,345.568,342.827 ,340.048,339.51,340.689,344.573,349.716 ,353.76,361.685,366.023,360.003,368.162 ,360.004,366.785,359.989,366.576, 359.998,366.467,360.029,369.549,359.961 ,368.381,360.012,368.18,359.994,368.025 ,359.994,370.159,360.011,367.567, 360.024,368.904,360.011,371.908,359.985 ,368.302,369.645,376.295,371.05,376.778 ,373.609,384.895,381.255,392.625, 393.131,407.245,410.311,449.012,450.089 ,450.49,395.956,297.044,290.599,288.328 ,287.573,287.471,287.647,287.873, 288.318,288.65,289.099,289.494,290.206, 291.278,291.819,292.703,293.418,294.513 ,296.083,297.549,298.758,300.49,302.143 ,303.493,306.073,308.17,308.613,309.76)
ORBIT_NUMBER = 24968
ORBITAL_ECCENTRICITY = 0.574
ORBITAL_INCLINATION = 87.05
ORBITAL_SEMIMAJOR_AXIS = 8851.22
PERIAPSIS_ALTITUDE = 371.72
PERIAPSIS_ARGUMENT_ANGLE = 3.07
PERIAPSIS_TIME = 2023-10-10T15:25:04.000Z
SPACECRAFT_ORIENTATION = (0.0,1.0,0.0)
^MEX_ORIENTATION_DESC = "MEX_ORIENTATION_DESC.TXT"
SPACECRAFT_POINTING_MODE = FIXED
^MEX_POINTING_DESC = "MEX_POINTING_DESC.TXT"
RIGHT_ASCENSION = -1e+32
DECLINATION = -1e+32
OFFSET_ANGLE = -1e+32
SPACECRAFT_SOLAR_DISTANCE = 2.37024e+08
TARGET_NAME = MARS
/* CAMERA DATA ELEMENTS */
DETECTOR_TEMPERATURE = 18.3705
FOCAL_PLANE_TEMPERATURE = 8.5833
INST_CMPRS_NAME = "DISCRETE COSINE TRANSFORMATION (DCT)"
INST_CMPRS_RATIO = 10.9941
INST_CMPRS_QUALITY = 0
INST_CMPRS_QUANTZ_TBL_ID = 0
INSTRUMENT_TEMPERATURE = 10.2145
LENS_TEMPERATURE = 8.9911
MACROPIXEL_SIZE = 2
MISSING_FRAMES = 4
PIXEL_SUBSAMPLING_FLAG = N
SIGNAL_CHAIN_ID = 2
/* RADIOMETRIC DATA ELEMENTS */
BANDWIDTH = 88.0
CENTER_FILTER_WAVELENGTH = 538.0
RADIANCE_OFFSET = 0.0
RADIANCE_SCALING_FACTOR = 0.0205528
REFLECTANCE_SCALING_FACTOR = 0.000994018
MEX:REFLECTANCE_OFFSET = 0.0
/* IMAGE OBJECT DEFINITIONS */
OBJECT = IMAGE
  INTERCHANGE_FORMAT = BINARY
  LINES = 7732
  LINE_SAMPLES = 4009
  SAMPLE_TYPE = UNSIGNED_INTEGER
  SAMPLE_BITS = 8
  BANDS = 1
  BAND_STORAGE_TYPE = BAND_SEQUENTIAL
  MAXIMUM = 255
  MEAN = 117.72
  MINIMUM = 47
  STANDARD_DEVIATION = 24.7158
END_OBJECT = IMAGE
/* MAP OBJECT DEFINITIONS */
OBJECT = IMAGE_MAP_PROJECTION
  ^DATA_SET_MAP_PROJECTION_CATALOG= "DSMAP.CAT"
  A_AXIS_RADIUS = 3396.0
  B_AXIS_RADIUS = 3396.0
  C_AXIS_RADIUS = 3396.0
  CENTER_LATITUDE = 28.9925
  CENTER_LONGITUDE = 309.623
  COORDINATE_SYSTEM_NAME = PLANETOGRAPHIC
  COORDINATE_SYSTEM_TYPE = "BODY-FIXED ROTATING"
  EASTERNMOST_LONGITUDE = 90.48999999999999
  FIRST_STANDARD_PARALLEL = "N/A"
  LINE_FIRST_PIXEL = 1
  LINE_LAST_PIXEL = 7732
  LINE_PROJECTION_OFFSET = 3875.75
  MAP_PROJECTION_ROTATION = 0.0
  MAP_PROJECTION_TYPE = ORTHOGRAPHIC
  MAP_RESOLUTION = 74.08922548333329
  MAP_SCALE = 0.8
  MAXIMUM_LATITUDE = 88.50320000000001
  MINIMUM_LATITUDE = -38.8718
  POSITIVE_LONGITUDE_DIRECTION = EAST
  REFERENCE_LATITUDE = "N/A"
  REFERENCE_LONGITUDE = "N/A"
  SAMPLE_FIRST_PIXEL = 1
  SAMPLE_LAST_PIXEL = 4009
  SAMPLE_PROJECTION_OFFSET = 1223.75
  SECOND_STANDARD_PARALLEL = "N/A"
  WESTERNMOST_LONGITUDE = -72.529
END_OBJECT = IMAGE_MAP_PROJECTION
END
