PDS_VERSION_ID = PDS3
/* FILE DATA ELEMENTS */
RECORD_TYPE = UNDEFINED
/* POINTERS TO DATA OBJECTS */
^IMAGE = ("HO964_0009_GR4.TIF")
/* IDENTIFICATION DATA ELEMENTS */
DATA_SET_ID = "MEX-M-HRSC-4-REFDR-MAPPROJECT-EXT9-V4.0"
DATA_SET_NAME = "MARS EXPRESS HRSC MAP PROJECTED REFDR EXTENSION9 V4.0"
DETECTOR_ID = MEX_HRSC_GREEN
EVENT_TYPE = "MARS-TERMINATOR-CALIBRATION-Tc"
INSTRUMENT_HOST_ID = MEX
INSTRUMENT_HOST_NAME = "MARS EXPRESS"
INSTRUMENT_ID = HRSC
INSTRUMENT_NAME = "HIGH RESOLUTION STEREO CAMERA"
MISSION_NAME = "MARS EXPRESS"
MISSION_PHASE_NAME = ME_Phase_47
PROCESSING_LEVEL_ID = 4
PRODUCT_CREATION_TIME = 2024-01-15T14:02:56.000Z
PRODUCT_ID = "HO964_0009_GR4.TIF"
RELEASE_ID = 0007
REVISION_ID = 0000
/* QUALITY DATA ELEMENTS */
DATA_QUALITY_ID = 1
DATA_QUALITY_DESC = "Data calculated based on original SPICE kernels"
/* TIME DATA ELEMENTS */
SPACECRAFT_CLOCK_START_COUNT = "1/0644936405.25014"
SPACECRAFT_CLOCK_STOP_COUNT = "1/0644936902.23821"
START_TIME = 2023-10-09T13:02:11.644Z
STOP_TIME = 2023-10-09T13:06:41.667Z
/* ORBITAL DATA ELEMENTS */
ASCENDING_NODE_LONGITUDE = 110.55
MAXIMUM_RESOLUTION = 0.5882
FOOTPRINT_POINT_LATITUDE = (-34.7888,-34.8732,-33.7971,-33.7102, -31.6507,-30.7813,-26.6235,-29.638, -25.6799,-28.1653,-24.8992,-27.4276, -24.2177,-28.1901,-23.1249,-27.9311, -26.7182,-22.3369,-21.5002,-18.2337, -15.9322,-12.0168,-9.38784,-4.87269, -2.45061,0.0546975,4.61095,8.90211, 11.5788,15.358,18.17,22.6353,26.8495, 30.5636,34.4541,38.136,42.6006,46.1484, 50.9455,54.0475,56.2188,59.5222,61.6562 ,64.7237,66.0524,66.8012,66.7796, 66.1759,63.9362,62.4402,66.7248,66.8036 ,70.0876,69.598,72.7425,74.6815,75.2665 ,74.5845,75.291,73.1951,72.5347,71.4617 ,72.2598,74.9408,76.6353,78.0313, 78.2909,77.1195,75.6543,72.6671,69.5165 ,65.9271,60.0358,57.5989,54.7422, 51.5189,47.8803,45.4044,42.2495,37.6448 ,32.2303,29.1578,24.4816,20.1277, 17.2094,13.0904,7.64358,3.40728, 0.191204,-3.73606,-6.4041,-10.9984, -14.3329,-19.9538,-24.3076,-28.0504, -33.2659,-35.0057,-34.7888)
FOOTPRINT_POINT_LONGITUDE = (341.58,341.611,343.302,347.46,353.433, 357.988,0.0322359,0.923275,359.955, 0.750569,359.956,0.951939,0.00263757, 2.51562,0.0417458,2.76968,7.52661, 10.7641,15.7034,14.6399,13.1031,10.8172 ,9.47567,7.47748,6.55682,5.69674, 4.35154,3.33309,2.81717,2.24646,1.93547 ,1.65466,1.65353,1.89516,2.40665, 3.20421,4.6763,6.32171,9.49481,12.3693, 14.9345,20.13,24.7872,35.1771,43.303, 53.8246,60.7351,69.4733,82.0798,86.992, 89.607,97.4961,96.1466,105.586,109.681, 122.347,134.585,147.29,163.695,176.783, 182.041,190.833,198.944,208.804,219.0, 235.633,252.592,273.607,284.297,296.646 ,304.435,310.372,316.756,318.688, 320.607,322.433,324.165,325.188,326.344 ,327.796,329.224,329.929,330.884, 331.668,332.146,332.764,333.501,334.021 ,334.392,334.82,335.101,335.564,335.891 ,336.431,336.847,337.211,337.735, 338.278,341.58)
ORBIT_NUMBER = 24964
ORBITAL_ECCENTRICITY = 0.574
ORBITAL_INCLINATION = 87.07
ORBITAL_SEMIMAJOR_AXIS = 8843.6
PERIAPSIS_ALTITUDE = 372.19
PERIAPSIS_ARGUMENT_ANGLE = 3.76
PERIAPSIS_TIME = 2023-10-09T11:28:56.000Z
SPACECRAFT_ORIENTATION = (0.0,1.0,0.0)
^MEX_ORIENTATION_DESC = "MEX_ORIENTATION_DESC.TXT"
SPACECRAFT_POINTING_MODE = FIXED
^MEX_POINTING_DESC = "MEX_POINTING_DESC.TXT"
RIGHT_ASCENSION = -1e+32
DECLINATION = -1e+32
OFFSET_ANGLE = -1e+32
SPACECRAFT_SOLAR_DISTANCE = 2.3722e+08
TARGET_NAME = MARS
/* CAMERA DATA ELEMENTS */
DETECTOR_TEMPERATURE = 18.5744
FOCAL_PLANE_TEMPERATURE = 9.6028
INST_CMPRS_NAME = "DISCRETE COSINE TRANSFORMATION (DCT)"
INST_CMPRS_RATIO = 9.03814
INST_CMPRS_QUALITY = 0
INST_CMPRS_QUANTZ_TBL_ID = 0
INSTRUMENT_TEMPERATURE = 11.8457
LENS_TEMPERATURE = 9.8067
MACROPIXEL_SIZE = 2
MISSING_FRAMES = 3
PIXEL_SUBSAMPLING_FLAG = N
SIGNAL_CHAIN_ID = 2
/* RADIOMETRIC DATA ELEMENTS */
BANDWIDTH = 88.0
CENTER_FILTER_WAVELENGTH = 538.0
RADIANCE_OFFSET = 0.0
RADIANCE_SCALING_FACTOR = 0.0155437
REFLECTANCE_SCALING_FACTOR = 0.000753021
MEX:REFLECTANCE_OFFSET = 0.0
/* IMAGE OBJECT DEFINITIONS */
OBJECT = IMAGE
  INTERCHANGE_FORMAT = BINARY
  LINES = 15709
  LINE_SAMPLES = 6156
  SAMPLE_TYPE = UNSIGNED_INTEGER
  SAMPLE_BITS = 8
  BANDS = 1
  BAND_STORAGE_TYPE = BAND_SEQUENTIAL
  MAXIMUM = 255
  MEAN = 124.725
  MINIMUM = 44
  STANDARD_DEVIATION = 39.1905
END_OBJECT = IMAGE
/* MAP OBJECT DEFINITIONS */
OBJECT = IMAGE_MAP_PROJECTION
  ^DATA_SET_MAP_PROJECTION_CATALOG= "DSMAP.CAT"
  A_AXIS_RADIUS = 3396.0
  B_AXIS_RADIUS = 3396.0
  C_AXIS_RADIUS = 3396.0
  CENTER_LATITUDE = 35.0355
  CENTER_LONGITUDE = 344.407
  COORDINATE_SYSTEM_NAME = PLANETOGRAPHIC
  COORDINATE_SYSTEM_TYPE = "BODY-FIXED ROTATING"
  EASTERNMOST_LONGITUDE = 360.0
  FIRST_STANDARD_PARALLEL = "N/A"
  LINE_FIRST_PIXEL = 1
  LINE_LAST_PIXEL = 15709
  LINE_PROJECTION_OFFSET = 7874.25
  MAP_PROJECTION_ROTATION = 0.0
  MAP_PROJECTION_TYPE = ORTHOGRAPHIC
  MAP_RESOLUTION = 148.178450966667
  MAP_SCALE = 0.4
  MAXIMUM_LATITUDE = 90.0
  MINIMUM_LATITUDE = -35.0057
  POSITIVE_LONGITUDE_DIRECTION = EAST
  REFERENCE_LATITUDE = "N/A"
  REFERENCE_LONGITUDE = "N/A"
  SAMPLE_FIRST_PIXEL = 1
  SAMPLE_LAST_PIXEL = 6156
  SAMPLE_PROJECTION_OFFSET = 1998.75
  SECOND_STANDARD_PARALLEL = "N/A"
  WESTERNMOST_LONGITUDE = 0.0
END_OBJECT = IMAGE_MAP_PROJECTION
END
