PDS_VERSION_ID = PDS3
/* FILE DATA ELEMENTS */
RECORD_TYPE = UNDEFINED
/* POINTERS TO DATA OBJECTS */
^IMAGE = ("HO958_0000_ND4.TIF")
/* IDENTIFICATION DATA ELEMENTS */
DATA_SET_ID = "MEX-M-HRSC-4-REFDR-MAPPROJECT-EXT9-V4.0"
DATA_SET_NAME = "MARS EXPRESS HRSC MAP PROJECTED REFDR EXTENSION9 V4.0"
DETECTOR_ID = MEX_HRSC_NADIR
EVENT_TYPE = "MARS-TERMINATOR-CALIBRATION-Tc"
INSTRUMENT_HOST_ID = MEX
INSTRUMENT_HOST_NAME = "MARS EXPRESS"
INSTRUMENT_ID = HRSC
INSTRUMENT_NAME = "HIGH RESOLUTION STEREO CAMERA"
MISSION_NAME = "MARS EXPRESS"
MISSION_PHASE_NAME = ME_Phase_47
PROCESSING_LEVEL_ID = 4
PRODUCT_CREATION_TIME = 2024-01-15T14:02:56.000Z
PRODUCT_ID = "HO958_0000_ND4.TIF"
RELEASE_ID = 0007
REVISION_ID = 0000
/* QUALITY DATA ELEMENTS */
DATA_QUALITY_ID = 1
DATA_QUALITY_DESC = "Data calculated based on original SPICE kernels"
/* TIME DATA ELEMENTS */
SPACECRAFT_CLOCK_START_COUNT = "1/0644782175.25720"
SPACECRAFT_CLOCK_STOP_COUNT = "1/0644782911.20625"
START_TIME = 2023-10-07T18:12:27.674Z
STOP_TIME = 2023-10-07T18:20:30.647Z
/* ORBITAL DATA ELEMENTS */
ASCENDING_NODE_LONGITUDE = 110.66
MAXIMUM_RESOLUTION = 0.1348
FOOTPRINT_POINT_LATITUDE = (19.6151,19.5853,19.601,19.8632,22.4571 ,24.5283,27.5835,30.4331,34.4561, 37.8689,40.284,42.0858,44.6603,46.7096, 48.9842,51.1562,54.8793,57.654,59.4998, 62.035,63.7624,67.2818,70.5213,73.5564, 75.3227,77.1955,78.8755,80.8648,81.7468 ,82.0283,81.7391,80.3346,78.4281, 77.1237,75.1061,72.1724,70.1844,66.8161 ,64.2706,60.8069,58.1753,55.2485, 53.2534,51.5637,49.1137,49.9348,50.0232 ,50.2128,50.2013,50.4171,50.3594, 50.2113,51.0501,54.2191,56.8575,60.2539 ,63.2202,64.9624,67.0534,68.9539, 70.9922,73.5529,76.5085,79.7695,82.2841 ,83.4582,83.9059,83.838,82.4123,80.1397 ,78.3966,75.8007,74.1491,71.2902,69.43, 66.8771,63.7203,60.0399,57.8007,55.2193 ,53.3841,50.3222,46.724,44.83,41.9179, 38.3038,35.8451,34.0469,31.4014,27.6179 ,24.4986,22.3936,19.7208,19.7334, 19.7353,19.9958,19.5177,19.8147, 19.6151)
FOOTPRINT_POINT_LONGITUDE = (229.426,229.43,230.087,232.939,234.217 ,234.164,234.1,234.063,234.048,234.083, 234.142,234.207,234.343,234.492,234.709 ,234.98,235.634,236.329,236.921,237.954 ,238.827,241.222,244.471,249.012, 252.759,258.217,265.358,280.172,294.213 ,307.59,324.595,343.666,355.61,0.872294 ,6.72294,12.4782,15.2931,18.8666, 20.9025,23.07,24.384,25.5988,26.3106, 26.8406,28.7457,33.2379,36.1151,40.1487 ,41.5299,46.2891,52.7353,57.9363, 61.6496,62.1126,62.6349,63.5116,64.5325 ,65.2804,66.3662,67.5835,69.2153, 71.9534,76.6661,85.8505,100.807,116.496 ,131.625,149.5,175.177,189.74,195.849, 201.621,204.133,207.247,208.707,210.229 ,211.582,212.668,213.15,213.582,213.833 ,214.145,214.401,214.496,214.596, 214.656,214.662,214.649,214.611,214.511 ,214.377,214.271,215.291,217.114, 219.661,223.277,227.163,227.632, 229.426)
ORBIT_NUMBER = 24958
ORBITAL_ECCENTRICITY = 0.574
ORBITAL_INCLINATION = 87.08
ORBITAL_SEMIMAJOR_AXIS = 8853.49
PERIAPSIS_ALTITUDE = 371.74
PERIAPSIS_ARGUMENT_ANGLE = 4.77
PERIAPSIS_TIME = 2023-10-07T17:34:38.000Z
SPACECRAFT_ORIENTATION = (0.0,1.0,0.0)
^MEX_ORIENTATION_DESC = "MEX_ORIENTATION_DESC.TXT"
SPACECRAFT_POINTING_MODE = FIXED
^MEX_POINTING_DESC = "MEX_POINTING_DESC.TXT"
RIGHT_ASCENSION = -1e+32
DECLINATION = -1e+32
OFFSET_ANGLE = -1e+32
SPACECRAFT_SOLAR_DISTANCE = 2.37512e+08
TARGET_NAME = MARS
/* CAMERA DATA ELEMENTS */
DETECTOR_TEMPERATURE = 18.3705
FOCAL_PLANE_TEMPERATURE = 8.7872
INST_CMPRS_NAME = "DISCRETE COSINE TRANSFORMATION (DCT)"
INST_CMPRS_RATIO = 7.26732
INST_CMPRS_QUALITY = 0
INST_CMPRS_QUANTZ_TBL_ID = 0
INSTRUMENT_TEMPERATURE = 11.0301
LENS_TEMPERATURE = 9.195
MACROPIXEL_SIZE = 1
MISSING_FRAMES = 0
PIXEL_SUBSAMPLING_FLAG = N
SIGNAL_CHAIN_ID = 0
/* RADIOMETRIC DATA ELEMENTS */
BANDWIDTH = 177.0
CENTER_FILTER_WAVELENGTH = 677.5
RADIANCE_OFFSET = 0.0
RADIANCE_SCALING_FACTOR = 0.0390008
REFLECTANCE_SCALING_FACTOR = 0.00116874
MEX:REFLECTANCE_OFFSET = 0.0
/* IMAGE OBJECT DEFINITIONS */
OBJECT = IMAGE
  INTERCHANGE_FORMAT = BINARY
  LINES = 54696
  LINE_SAMPLES = 13600
  SAMPLE_TYPE = UNSIGNED_INTEGER
  SAMPLE_BITS = 8
  BANDS = 1
  BAND_STORAGE_TYPE = BAND_SEQUENTIAL
  MAXIMUM = 255
  MEAN = 116.007
  MINIMUM = 27
  STANDARD_DEVIATION = 42.3175
END_OBJECT = IMAGE
/* MAP OBJECT DEFINITIONS */
OBJECT = IMAGE_MAP_PROJECTION
  ^DATA_SET_MAP_PROJECTION_CATALOG= "DSMAP.CAT"
  A_AXIS_RADIUS = 3396.0
  B_AXIS_RADIUS = 3396.0
  C_AXIS_RADIUS = 3396.0
  CENTER_LATITUDE = 70.6734
  CENTER_LONGITUDE = 226.164
  COORDINATE_SYSTEM_NAME = PLANETOGRAPHIC
  COORDINATE_SYSTEM_TYPE = "BODY-FIXED ROTATING"
  EASTERNMOST_LONGITUDE = 360.0
  FIRST_STANDARD_PARALLEL = "N/A"
  LINE_FIRST_PIXEL = 1
  LINE_LAST_PIXEL = 54696
  LINE_PROJECTION_OFFSET = 28188.0
  MAP_PROJECTION_ROTATION = 0.0
  MAP_PROJECTION_TYPE = ORTHOGRAPHIC
  MAP_RESOLUTION = 592.713803866667
  MAP_SCALE = 0.1
  MAXIMUM_LATITUDE = 90.0
  MINIMUM_LATITUDE = 19.5177
  POSITIVE_LONGITUDE_DIRECTION = EAST
  REFERENCE_LATITUDE = "N/A"
  REFERENCE_LONGITUDE = "N/A"
  SAMPLE_FIRST_PIXEL = 1
  SAMPLE_LAST_PIXEL = 13600
  SAMPLE_PROJECTION_OFFSET = 6643.0
  SECOND_STANDARD_PARALLEL = "N/A"
  WESTERNMOST_LONGITUDE = 0.0
END_OBJECT = IMAGE_MAP_PROJECTION
END
