PDS_VERSION_ID = PDS3
/* FILE DATA ELEMENTS */
RECORD_TYPE = UNDEFINED
/* POINTERS TO DATA OBJECTS */
^IMAGE = ("HO927_0000_IR4.TIF")
/* IDENTIFICATION DATA ELEMENTS */
DATA_SET_ID = "MEX-M-HRSC-4-REFDR-MAPPROJECT-EXT9-V4.0"
DATA_SET_NAME = "MARS EXPRESS HRSC MAP PROJECTED REFDR EXTENSION9 V4.0"
DETECTOR_ID = MEX_HRSC_IR
EVENT_TYPE = "MARS-TERMINATOR-CALIBRATION-Tc"
INSTRUMENT_HOST_ID = MEX
INSTRUMENT_HOST_NAME = "MARS EXPRESS"
INSTRUMENT_ID = HRSC
INSTRUMENT_NAME = "HIGH RESOLUTION STEREO CAMERA"
MISSION_NAME = "MARS EXPRESS"
MISSION_PHASE_NAME = ME_Phase_47
PROCESSING_LEVEL_ID = 4
PRODUCT_CREATION_TIME = 2024-01-15T14:02:56.000Z
PRODUCT_ID = "HO927_0000_IR4.TIF"
RELEASE_ID = 0007
REVISION_ID = 0000
/* QUALITY DATA ELEMENTS */
DATA_QUALITY_ID = 1
DATA_QUALITY_DESC = "Data calculated based on original SPICE kernels"
/* TIME DATA ELEMENTS */
SPACECRAFT_CLOCK_START_COUNT = "1/0644006565.24937"
SPACECRAFT_CLOCK_STOP_COUNT = "1/0644007050.22991"
START_TIME = 2023-09-28T18:43:21.640Z
STOP_TIME = 2023-09-28T18:47:42.643Z
/* ORBITAL DATA ELEMENTS */
ASCENDING_NODE_LONGITUDE = 111.21
MAXIMUM_RESOLUTION = 0.6145
FOOTPRINT_POINT_LATITUDE = (-40.5123,-40.6529,-40.7032,-38.5413, -36.9932,-34.9729,-32.8738,-28.9744, -29.697,-26.6411,-28.0527,-24.7261, -24.3948,-22.0777,-22.613,-18.6523, -18.4834,-15.981,-13.7103,-11.7925, -9.53966,-7.54983,-4.26987,-0.0259415, 2.92664,7.6369,10.9068,15.6517,19.7992, 24.4542,29.9058,33.009,37.3768,40.0399, 43.2933,46.2401,49.3723,52.3067,55.7761 ,58.1771,60.2402,61.7051,63.3548, 64.2214,64.7092,64.431,64.0416,68.3034, 69.7622,72.7359,74.3517,75.0535,77.1131 ,78.2047,81.1865,83.1098,83.1156, 84.1183,81.3278,78.843,75.7888,75.4043, 74.9076,76.3088,76.7736,76.441,75.115, 73.5424,70.3029,67.657,63.3926,61.0227, 57.0364,51.7641,47.3563,44.4467,40.1375 ,34.2577,31.1539,27.0178,23.3545, 18.8767,16.4791,13.7552,9.22685,6.05345 ,2.62298,0.319199,-2.4946,-4.79777, -7.85296,-12.9685,-17.7155,-21.7522, -27.1441,-30.8589,-35.1916,-38.3089, -40.5123)
FOOTPRINT_POINT_LONGITUDE = (175.373,175.474,175.863,178.78,184.198 ,188.202,191.712,193.026,195.694, 195.825,198.335,197.359,201.525,200.53, 203.407,204.199,206.777,208.429,207.129 ,204.887,202.568,200.755,198.122, 195.288,193.603,191.341,190.044,188.522 ,187.529,186.786,186.446,186.534, 187.052,187.655,188.712,190.058,192.005 ,194.465,198.521,202.429,206.97,211.308 ,218.429,224.709,234.08,242.086,249.046 ,248.8,255.059,251.981,263.061,266.591, 258.069,272.307,271.841,287.408,328.911 ,354.253,18.3834,27.6166,31.8754,35.256 ,36.5297,50.7574,68.126,79.4907,94.486, 104.055,115.95,122.268,129.41,132.411, 136.493,140.67,143.471,145.079,147.198, 149.712,150.899,152.384,153.614,155.035 ,155.765,156.576,157.887,158.788, 159.753,160.401,161.195,161.85,162.732, 164.257,165.752,167.107,169.085,170.596 ,172.556,174.129,175.373)
ORBIT_NUMBER = 24927
ORBITAL_ECCENTRICITY = 0.574
ORBITAL_INCLINATION = 87.05
ORBITAL_SEMIMAJOR_AXIS = 8845.18
PERIAPSIS_ALTITUDE = 375.73
PERIAPSIS_ARGUMENT_ANGLE = 10.1
PERIAPSIS_TIME = 2023-09-28T17:04:30.000Z
SPACECRAFT_ORIENTATION = (0.0,1.0,0.0)
^MEX_ORIENTATION_DESC = "MEX_ORIENTATION_DESC.TXT"
SPACECRAFT_POINTING_MODE = FIXED
^MEX_POINTING_DESC = "MEX_POINTING_DESC.TXT"
RIGHT_ASCENSION = -1e+32
DECLINATION = -1e+32
OFFSET_ANGLE = -1e+32
SPACECRAFT_SOLAR_DISTANCE = 2.38981e+08
TARGET_NAME = MARS
/* CAMERA DATA ELEMENTS */
DETECTOR_TEMPERATURE = 17.351
FOCAL_PLANE_TEMPERATURE = 8.9911
INST_CMPRS_NAME = "DISCRETE COSINE TRANSFORMATION (DCT)"
INST_CMPRS_RATIO = 6.63454
INST_CMPRS_QUALITY = 0
INST_CMPRS_QUANTZ_TBL_ID = 0
INSTRUMENT_TEMPERATURE = 11.234
LENS_TEMPERATURE = 8.9911
MACROPIXEL_SIZE = 2
MISSING_FRAMES = 0
PIXEL_SUBSAMPLING_FLAG = N
SIGNAL_CHAIN_ID = 3
/* RADIOMETRIC DATA ELEMENTS */
BANDWIDTH = 81.0
CENTER_FILTER_WAVELENGTH = 955.5
RADIANCE_OFFSET = 0.0
RADIANCE_SCALING_FACTOR = 0.0121286
REFLECTANCE_SCALING_FACTOR = 0.00149426
MEX:REFLECTANCE_OFFSET = 0.0
/* IMAGE OBJECT DEFINITIONS */
OBJECT = IMAGE
  INTERCHANGE_FORMAT = BINARY
  LINES = 7811
  LINE_SAMPLES = 4023
  SAMPLE_TYPE = UNSIGNED_INTEGER
  SAMPLE_BITS = 8
  BANDS = 1
  BAND_STORAGE_TYPE = BAND_SEQUENTIAL
  MAXIMUM = 255
  MEAN = 156.18
  MINIMUM = 50
  STANDARD_DEVIATION = 42.5946
END_OBJECT = IMAGE
/* MAP OBJECT DEFINITIONS */
OBJECT = IMAGE_MAP_PROJECTION
  ^DATA_SET_MAP_PROJECTION_CATALOG= "DSMAP.CAT"
  A_AXIS_RADIUS = 3396.0
  B_AXIS_RADIUS = 3396.0
  C_AXIS_RADIUS = 3396.0
  CENTER_LATITUDE = 28.215
  CENTER_LONGITUDE = 166.634
  COORDINATE_SYSTEM_NAME = PLANETOGRAPHIC
  COORDINATE_SYSTEM_TYPE = "BODY-FIXED ROTATING"
  EASTERNMOST_LONGITUDE = 360.0
  FIRST_STANDARD_PARALLEL = "N/A"
  LINE_FIRST_PIXEL = 1
  LINE_LAST_PIXEL = 7811
  LINE_PROJECTION_OFFSET = 3895.25
  MAP_PROJECTION_ROTATION = 0.0
  MAP_PROJECTION_TYPE = ORTHOGRAPHIC
  MAP_RESOLUTION = 74.08922548333329
  MAP_SCALE = 0.8
  MAXIMUM_LATITUDE = 90.0
  MINIMUM_LATITUDE = -40.7032
  POSITIVE_LONGITUDE_DIRECTION = EAST
  REFERENCE_LATITUDE = "N/A"
  REFERENCE_LONGITUDE = "N/A"
  SAMPLE_FIRST_PIXEL = 1
  SAMPLE_LAST_PIXEL = 4023
  SAMPLE_PROJECTION_OFFSET = 1263.25
  SECOND_STANDARD_PARALLEL = "N/A"
  WESTERNMOST_LONGITUDE = 0.0
END_OBJECT = IMAGE_MAP_PROJECTION
END
