PDS_VERSION_ID = PDS3
/* FILE DATA ELEMENTS */
RECORD_TYPE = UNDEFINED
/* POINTERS TO DATA OBJECTS */
^IMAGE = ("HO927_0000_BL4.TIF")
/* IDENTIFICATION DATA ELEMENTS */
DATA_SET_ID = "MEX-M-HRSC-4-REFDR-MAPPROJECT-EXT9-V4.0"
DATA_SET_NAME = "MARS EXPRESS HRSC MAP PROJECTED REFDR EXTENSION9 V4.0"
DETECTOR_ID = MEX_HRSC_BLUE
EVENT_TYPE = "MARS-TERMINATOR-CALIBRATION-Tc"
INSTRUMENT_HOST_ID = MEX
INSTRUMENT_HOST_NAME = "MARS EXPRESS"
INSTRUMENT_ID = HRSC
INSTRUMENT_NAME = "HIGH RESOLUTION STEREO CAMERA"
MISSION_NAME = "MARS EXPRESS"
MISSION_PHASE_NAME = ME_Phase_47
PROCESSING_LEVEL_ID = 4
PRODUCT_CREATION_TIME = 2024-01-15T14:02:56.000Z
PRODUCT_ID = "HO927_0000_BL4.TIF"
RELEASE_ID = 0007
REVISION_ID = 0000
/* QUALITY DATA ELEMENTS */
DATA_QUALITY_ID = 1
DATA_QUALITY_DESC = "Data calculated based on original SPICE kernels"
/* TIME DATA ELEMENTS */
SPACECRAFT_CLOCK_START_COUNT = "1/0644006565.24937"
SPACECRAFT_CLOCK_STOP_COUNT = "1/0644007050.22991"
START_TIME = 2023-09-28T18:45:39.674Z
STOP_TIME = 2023-09-28T18:49:57.606Z
/* ORBITAL DATA ELEMENTS */
ASCENDING_NODE_LONGITUDE = 111.21
MAXIMUM_RESOLUTION = 0.6217
FOOTPRINT_POINT_LATITUDE = (-42.2761,-42.4943,-42.0191,-39.6545, -38.2595,-35.9714,-34.3711,-32.0645, -30.4932,-28.2076,-29.5263,-26.1119, -25.4669,-21.7655,-18.7445,-18.3071, -14.4158,-12.1673,-9.55997,-7.46733, -4.25788,-0.457485,2.28902,6.71655, 10.2262,15.2513,18.9247,23.1088,26.296, 31.0802,34.3046,38.4005,41.9523,44.7138 ,47.4697,50.4099,53.3158,56.576,58.7534 ,60.969,63.0937,63.967,64.3076,64.1158, 66.3483,69.0633,71.6212,73.037,74.8582, 77.7956,77.924,80.5164,81.2053,84.0503, 84.777,84.3263,81.9569,78.8164,75.5922, 74.7086,73.6193,74.5499,75.2243,75.1981 ,74.6959,73.2647,71.6899,68.6924, 66.5181,63.8242,59.796,57.4395,54.6577, 51.1866,46.0149,42.8419,37.868,33.7767, 29.9348,26.5056,22.1961,18.7018,15.1306 ,12.5469,9.92895,7.50807,1.95946, -2.17435,-6.65773,-10.7383,-13.5301, -16.3445,-21.6998,-24.8988,-28.5966, -32.0401,-34.7246,-39.5115,-42.2761)
FOOTPRINT_POINT_LONGITUDE = (174.024,174.171,174.459,178.409, 181.303,185.107,189.733,191.548,196.483 ,195.118,197.621,197.692,200.927, 201.565,204.351,207.128,207.179,205.093 ,202.316,200.357,197.789,195.213, 193.576,191.36,189.906,188.244,187.327, 186.585,186.236,186.119,186.327,186.991 ,187.997,189.122,190.616,192.732, 195.533,199.899,203.948,209.698,218.663 ,225.647,233.558,239.999,250.021, 252.652,248.515,258.087,250.314,255.105 ,267.709,262.636,284.811,284.639, 311.122,359.788,12.7116,32.9491,39.2552 ,39.1771,38.7806,47.2694,59.4097, 73.3671,82.8155,95.5736,103.947,114.259 ,119.475,124.477,130.111,132.734, 135.388,138.198,141.654,143.459,145.943 ,147.743,149.279,150.55,152.045,153.186 ,154.301,155.081,155.854,156.556, 158.135,159.3,160.571,161.751,162.579, 163.437,165.157,166.258,167.616,168.988 ,170.143,172.444,174.024)
ORBIT_NUMBER = 24927
ORBITAL_ECCENTRICITY = 0.574
ORBITAL_INCLINATION = 87.05
ORBITAL_SEMIMAJOR_AXIS = 8845.18
PERIAPSIS_ALTITUDE = 375.73
PERIAPSIS_ARGUMENT_ANGLE = 10.1
PERIAPSIS_TIME = 2023-09-28T17:04:30.000Z
SPACECRAFT_ORIENTATION = (0.0,1.0,0.0)
^MEX_ORIENTATION_DESC = "MEX_ORIENTATION_DESC.TXT"
SPACECRAFT_POINTING_MODE = FIXED
^MEX_POINTING_DESC = "MEX_POINTING_DESC.TXT"
RIGHT_ASCENSION = -1e+32
DECLINATION = -1e+32
OFFSET_ANGLE = -1e+32
SPACECRAFT_SOLAR_DISTANCE = 2.38981e+08
TARGET_NAME = MARS
/* CAMERA DATA ELEMENTS */
DETECTOR_TEMPERATURE = 18.5744
FOCAL_PLANE_TEMPERATURE = 8.9911
INST_CMPRS_NAME = "DISCRETE COSINE TRANSFORMATION (DCT)"
INST_CMPRS_RATIO = 9.62455
INST_CMPRS_QUALITY = 0
INST_CMPRS_QUANTZ_TBL_ID = 0
INSTRUMENT_TEMPERATURE = 11.234
LENS_TEMPERATURE = 8.9911
MACROPIXEL_SIZE = 2
MISSING_FRAMES = 0
PIXEL_SUBSAMPLING_FLAG = N
SIGNAL_CHAIN_ID = 2
/* RADIOMETRIC DATA ELEMENTS */
BANDWIDTH = 76.0
CENTER_FILTER_WAVELENGTH = 444.0
RADIANCE_OFFSET = 0.0
RADIANCE_SCALING_FACTOR = 0.0128073
REFLECTANCE_SCALING_FACTOR = 0.000751451
MEX:REFLECTANCE_OFFSET = 0.0
/* IMAGE OBJECT DEFINITIONS */
OBJECT = IMAGE
  INTERCHANGE_FORMAT = BINARY
  LINES = 7811
  LINE_SAMPLES = 4023
  SAMPLE_TYPE = UNSIGNED_INTEGER
  SAMPLE_BITS = 8
  BANDS = 1
  BAND_STORAGE_TYPE = BAND_SEQUENTIAL
  MAXIMUM = 255
  MEAN = 82.2348
  MINIMUM = 37
  STANDARD_DEVIATION = 23.8727
END_OBJECT = IMAGE
/* MAP OBJECT DEFINITIONS */
OBJECT = IMAGE_MAP_PROJECTION
  ^DATA_SET_MAP_PROJECTION_CATALOG= "DSMAP.CAT"
  A_AXIS_RADIUS = 3396.0
  B_AXIS_RADIUS = 3396.0
  C_AXIS_RADIUS = 3396.0
  CENTER_LATITUDE = 28.215
  CENTER_LONGITUDE = 166.634
  COORDINATE_SYSTEM_NAME = PLANETOGRAPHIC
  COORDINATE_SYSTEM_TYPE = "BODY-FIXED ROTATING"
  EASTERNMOST_LONGITUDE = 360.0
  FIRST_STANDARD_PARALLEL = "N/A"
  LINE_FIRST_PIXEL = 1
  LINE_LAST_PIXEL = 7811
  LINE_PROJECTION_OFFSET = 3895.25
  MAP_PROJECTION_ROTATION = 0.0
  MAP_PROJECTION_TYPE = ORTHOGRAPHIC
  MAP_RESOLUTION = 74.08922548333329
  MAP_SCALE = 0.8
  MAXIMUM_LATITUDE = 90.0
  MINIMUM_LATITUDE = -42.4943
  POSITIVE_LONGITUDE_DIRECTION = EAST
  REFERENCE_LATITUDE = "N/A"
  REFERENCE_LONGITUDE = "N/A"
  SAMPLE_FIRST_PIXEL = 1
  SAMPLE_LAST_PIXEL = 4023
  SAMPLE_PROJECTION_OFFSET = 1263.25
  SECOND_STANDARD_PARALLEL = "N/A"
  WESTERNMOST_LONGITUDE = 0.0
END_OBJECT = IMAGE_MAP_PROJECTION
END
