PDS_VERSION_ID = PDS3
/* FILE DATA ELEMENTS */
RECORD_TYPE = UNDEFINED
/* POINTERS TO DATA OBJECTS */
^IMAGE = ("HO871_0000_GR4.TIF")
/* IDENTIFICATION DATA ELEMENTS */
DATA_SET_ID = "MEX-M-HRSC-4-REFDR-MAPPROJECT-EXT9-V4.0"
DATA_SET_NAME = "MARS EXPRESS HRSC MAP PROJECTED REFDR EXTENSION9 V4.0"
DETECTOR_ID = MEX_HRSC_GREEN
EVENT_TYPE = "MARS-TERMINATOR-CALIBRATION-Tc"
INSTRUMENT_HOST_ID = MEX
INSTRUMENT_HOST_NAME = "MARS EXPRESS"
INSTRUMENT_ID = HRSC
INSTRUMENT_NAME = "HIGH RESOLUTION STEREO CAMERA"
MISSION_NAME = "MARS EXPRESS"
MISSION_PHASE_NAME = ME_Phase_47
PROCESSING_LEVEL_ID = 4
PRODUCT_CREATION_TIME = 2024-01-15T10:01:10.000Z
PRODUCT_ID = "HO871_0000_GR4.TIF"
RELEASE_ID = 0006
REVISION_ID = 0000
/* QUALITY DATA ELEMENTS */
DATA_QUALITY_ID = 1
DATA_QUALITY_DESC = "Data calculated based on original SPICE kernels"
/* TIME DATA ELEMENTS */
SPACECRAFT_CLOCK_START_COUNT = "1/0642598595.25687"
SPACECRAFT_CLOCK_STOP_COUNT = "1/0642599076.18317"
START_TIME = 2023-09-12T11:38:41.756Z
STOP_TIME = 2023-09-12T11:42:57.719Z
/* ORBITAL DATA ELEMENTS */
ASCENDING_NODE_LONGITUDE = 112.19
MAXIMUM_RESOLUTION = 0.6232
FOOTPRINT_POINT_LATITUDE = (-51.5751,-50.1989,-48.177,-44.9548, -40.1651,-37.3421,-33.2133,-29.4813, -25.0372,-22.2807,-17.6483,-13.7415, -10.6922,-7.11828,-4.09287,-0.204334, 4.44982,7.72366,10.6768,14.6907,19.4863 ,22.6634,25.4818,30.1789,33.2082, 36.5228,41.3957,45.4692,48.1462,50.6059 ,53.3186,54.8023,56.3982,58.1528, 59.3905,59.0773,58.4142,53.0429,49.5935 ,46.7256,44.1164,40.4775,37.9851, 33.9684,32.7773,32.2007,30.584,27.1908, 25.7302,24.195,22.0519,20.7724,17.0846, 16.2459,15.6537,15.7225,15.4652,14.6824 ,13.5261,11.4239,8.65506,6.36951, 4.28075,2.06087,-0.660681,-3.47334, -6.24845,-10.4076,-13.3672,-16.7066, -21.1306,-24.3579,-29.3801,-34.9655, -37.6495,-41.6255,-45.3909,-43.6733, -47.4055,-45.2165,-48.8835,-46.5826, -49.6837,-50.9018,-50.1151,-52.8599, -50.1748,-53.179,-50.2763,-54.0644, -52.3295,-54.5971,-52.556,-53.3801, -53.878,-54.5565,-52.9039,-51.3776, -51.2042,-51.5751)
FOOTPRINT_POINT_LONGITUDE = (136.909,135.745,134.187,131.925, 128.934,127.323,125.125,123.256,121.136 ,119.86,117.762,116.02,114.662,113.067, 111.704,109.925,107.74,106.154,104.673, 102.571,99.8943,97.9935,96.201,92.9318, 90.5857,87.7428,82.8543,77.8326,73.8442 ,69.4761,63.4817,59.3958,53.9452, 45.4761,33.7999,30.2044,31.0834,32.218, 30.2549,30.7446,29.9432,32.0262,33.2604 ,31.2597,34.4335,31.2349,33.718,32.3318 ,35.3818,32.6745,36.1144,32.757,36.6443 ,34.0621,38.1896,41.1605,44.8592, 49.2816,53.1909,57.9489,62.4321,65.295, 67.4694,69.448,71.5023,73.2979,74.7117, 76.4158,77.3222,78.0417,78.5364,78.5583 ,77.9183,76.1061,74.7959,72.0357, 68.7435,71.5075,71.6249,75.0884,74.4936 ,78.2243,78.3155,81.9642,87.4977, 85.7492,88.1413,86.2635,88.758,92.5854, 96.287,99.0591,103.224,108.69,113.933, 119.59,124.076,133.955,135.211,136.909)
ORBIT_NUMBER = 24871
ORBITAL_ECCENTRICITY = 0.573
ORBITAL_INCLINATION = 87.08
ORBITAL_SEMIMAJOR_AXIS = 8834.56
PERIAPSIS_ALTITUDE = 381.24
PERIAPSIS_ARGUMENT_ANGLE = 19.75
PERIAPSIS_TIME = 2023-09-12T09:57:37.000Z
SPACECRAFT_ORIENTATION = (0.0,1.0,0.0)
^MEX_ORIENTATION_DESC = "MEX_ORIENTATION_DESC.TXT"
SPACECRAFT_POINTING_MODE = FIXED
^MEX_POINTING_DESC = "MEX_POINTING_DESC.TXT"
RIGHT_ASCENSION = -1e+32
DECLINATION = -1e+32
OFFSET_ANGLE = -1e+32
SPACECRAFT_SOLAR_DISTANCE = 2.41434e+08
TARGET_NAME = MARS
/* CAMERA DATA ELEMENTS */
DETECTOR_TEMPERATURE = 18.7783
FOCAL_PLANE_TEMPERATURE = 9.6028
INST_CMPRS_NAME = "DISCRETE COSINE TRANSFORMATION (DCT)"
INST_CMPRS_RATIO = 8.8523
INST_CMPRS_QUALITY = 0
INST_CMPRS_QUANTZ_TBL_ID = 0
INSTRUMENT_TEMPERATURE = 11.8457
LENS_TEMPERATURE = 10.0106
MACROPIXEL_SIZE = 2
MISSING_FRAMES = 0
PIXEL_SUBSAMPLING_FLAG = N
SIGNAL_CHAIN_ID = 2
/* RADIOMETRIC DATA ELEMENTS */
BANDWIDTH = 88.0
CENTER_FILTER_WAVELENGTH = 538.0
RADIANCE_OFFSET = 0.0
RADIANCE_SCALING_FACTOR = 0.00732613
REFLECTANCE_SCALING_FACTOR = 0.000367643
MEX:REFLECTANCE_OFFSET = 0.0
/* IMAGE OBJECT DEFINITIONS */
OBJECT = IMAGE
  INTERCHANGE_FORMAT = BINARY
  LINES = 7098
  LINE_SAMPLES = 5461
  SAMPLE_TYPE = UNSIGNED_INTEGER
  SAMPLE_BITS = 8
  BANDS = 1
  BAND_STORAGE_TYPE = BAND_SEQUENTIAL
  MAXIMUM = 255
  MEAN = 141.372
  MINIMUM = 1
  STANDARD_DEVIATION = 81.003
END_OBJECT = IMAGE
/* MAP OBJECT DEFINITIONS */
OBJECT = IMAGE_MAP_PROJECTION
  ^DATA_SET_MAP_PROJECTION_CATALOG= "DSMAP.CAT"
  A_AXIS_RADIUS = 3396.0
  B_AXIS_RADIUS = 3396.0
  C_AXIS_RADIUS = 3396.0
  CENTER_LATITUDE = 5.83273
  CENTER_LONGITUDE = 90.2123
  COORDINATE_SYSTEM_NAME = PLANETOGRAPHIC
  COORDINATE_SYSTEM_TYPE = "BODY-FIXED ROTATING"
  EASTERNMOST_LONGITUDE = 136.909
  FIRST_STANDARD_PARALLEL = "N/A"
  LINE_FIRST_PIXEL = 1
  LINE_LAST_PIXEL = 7098
  LINE_PROJECTION_OFFSET = 3504.25
  MAP_PROJECTION_ROTATION = 0.0
  MAP_PROJECTION_TYPE = ORTHOGRAPHIC
  MAP_RESOLUTION = 74.08922548333329
  MAP_SCALE = 0.8
  MAXIMUM_LATITUDE = 59.3905
  MINIMUM_LATITUDE = -54.5971
  POSITIVE_LONGITUDE_DIRECTION = EAST
  REFERENCE_LATITUDE = "N/A"
  REFERENCE_LONGITUDE = "N/A"
  SAMPLE_FIRST_PIXEL = 1
  SAMPLE_LAST_PIXEL = 5461
  SAMPLE_PROJECTION_OFFSET = 3436.25
  SECOND_STANDARD_PARALLEL = "N/A"
  WESTERNMOST_LONGITUDE = 29.9432
END_OBJECT = IMAGE_MAP_PROJECTION
END
