PDS_VERSION_ID = PDS3
/* FILE DATA ELEMENTS */
RECORD_TYPE = UNDEFINED
/* POINTERS TO DATA OBJECTS */
^IMAGE = ("HO871_0000_BL4.TIF")
/* IDENTIFICATION DATA ELEMENTS */
DATA_SET_ID = "MEX-M-HRSC-4-REFDR-MAPPROJECT-EXT9-V4.0"
DATA_SET_NAME = "MARS EXPRESS HRSC MAP PROJECTED REFDR EXTENSION9 V4.0"
DETECTOR_ID = MEX_HRSC_BLUE
EVENT_TYPE = "MARS-TERMINATOR-CALIBRATION-Tc"
INSTRUMENT_HOST_ID = MEX
INSTRUMENT_HOST_NAME = "MARS EXPRESS"
INSTRUMENT_ID = HRSC
INSTRUMENT_NAME = "HIGH RESOLUTION STEREO CAMERA"
MISSION_NAME = "MARS EXPRESS"
MISSION_PHASE_NAME = ME_Phase_47
PROCESSING_LEVEL_ID = 4
PRODUCT_CREATION_TIME = 2024-01-15T10:01:10.000Z
PRODUCT_ID = "HO871_0000_BL4.TIF"
RELEASE_ID = 0006
REVISION_ID = 0000
/* QUALITY DATA ELEMENTS */
DATA_QUALITY_ID = 1
DATA_QUALITY_DESC = "Data calculated based on original SPICE kernels"
/* TIME DATA ELEMENTS */
SPACECRAFT_CLOCK_START_COUNT = "1/0642598595.25687"
SPACECRAFT_CLOCK_STOP_COUNT = "1/0642599076.18317"
START_TIME = 2023-09-12T11:39:28.687Z
STOP_TIME = 2023-09-12T11:43:43.584Z
/* ORBITAL DATA ELEMENTS */
ASCENDING_NODE_LONGITUDE = 112.19
MAXIMUM_RESOLUTION = 0.6265
FOOTPRINT_POINT_LATITUDE = (-51.8097,-51.0979,-48.6831,-43.4165, -39.4187,-36.4824,-32.3718,-26.8394, -21.4719,-16.8658,-12.1361,-9.43181, -5.26838,-0.847756,2.07132,6.45755, 8.93533,12.1433,16.6918,20.9646,23.5011 ,26.3762,29.7406,32.5841,35.9038, 39.4776,43.3988,45.5356,47.8239,50.3069 ,53.0537,54.5602,56.1897,57.9996, 58.7779,59.0752,58.8779,58.1399,51.912, 49.4284,45.8723,41.8261,40.1032,36.0956 ,33.3408,31.7227,31.1296,27.882,26.2627 ,24.4974,24.7679,23.647,23.9071,22.4748 ,22.7872,19.3872,17.1756,14.9372, 14.7087,14.7466,14.3089,13.1278,11.8993 ,10.7485,7.63639,5.06946,1.38605, -1.54997,-5.75518,-9.36946,-12.8208, -15.2519,-18.3852,-22.7757,-27.3945, -30.2924,-34.298,-36.7978,-40.2408, -42.9041,-45.9807,-44.9518,-46.7922, -49.0667,-46.9134,-49.7698,-48.3018, -51.255,-50.0993,-52.8314,-51.0325, -54.5517,-53.2852,-55.6515,-53.9564, -55.4553,-54.5799,-53.6746,-52.9508, -51.8097)
FOOTPRINT_POINT_LONGITUDE = (135.96,135.34,133.489,129.935,127.565, 125.951,123.836,121.163,118.699,116.64, 114.549,113.353,111.494,109.485,108.131 ,106.038,104.815,103.177,100.731, 98.2613,96.6978,94.8171,92.4394,90.2469 ,87.4211,83.9655,79.5007,76.6637, 73.1978,68.7594,62.6193,58.392,52.6517, 43.2646,36.1349,30.3647,32.2837,30.3674 ,31.7785,30.828,31.435,30.1223,33.0192, 33.3291,31.2804,34.2666,30.9553,31.4587 ,35.2459,32.1811,35.28,32.6603,35.5928, 32.2506,35.3828,33.9441,36.4869,35.0566 ,38.4523,41.2613,45.8686,51.1165, 54.5181,56.9456,61.9849,65.0892,68.5555 ,70.7433,73.2175,74.7985,75.9438, 76.5466,77.0718,77.341,76.9525,76.3288, 74.9698,73.7752,71.5008,69.1628,67.5806 ,72.0127,76.1068,73.9054,77.5632, 77.8615,80.983,80.928,86.1429,84.2878, 89.683,92.3527,98.7968,104.323,108.697, 114.182,120.475,125.558,130.842,135.96)
ORBIT_NUMBER = 24871
ORBITAL_ECCENTRICITY = 0.573
ORBITAL_INCLINATION = 87.08
ORBITAL_SEMIMAJOR_AXIS = 8834.56
PERIAPSIS_ALTITUDE = 381.24
PERIAPSIS_ARGUMENT_ANGLE = 19.75
PERIAPSIS_TIME = 2023-09-12T09:57:37.000Z
SPACECRAFT_ORIENTATION = (0.0,1.0,0.0)
^MEX_ORIENTATION_DESC = "MEX_ORIENTATION_DESC.TXT"
SPACECRAFT_POINTING_MODE = FIXED
^MEX_POINTING_DESC = "MEX_POINTING_DESC.TXT"
RIGHT_ASCENSION = -1e+32
DECLINATION = -1e+32
OFFSET_ANGLE = -1e+32
SPACECRAFT_SOLAR_DISTANCE = 2.41434e+08
TARGET_NAME = MARS
/* CAMERA DATA ELEMENTS */
DETECTOR_TEMPERATURE = 18.7783
FOCAL_PLANE_TEMPERATURE = 9.6028
INST_CMPRS_NAME = "DISCRETE COSINE TRANSFORMATION (DCT)"
INST_CMPRS_RATIO = 8.42054
INST_CMPRS_QUALITY = 0
INST_CMPRS_QUANTZ_TBL_ID = 0
INSTRUMENT_TEMPERATURE = 11.8457
LENS_TEMPERATURE = 10.0106
MACROPIXEL_SIZE = 2
MISSING_FRAMES = 0
PIXEL_SUBSAMPLING_FLAG = N
SIGNAL_CHAIN_ID = 2
/* RADIOMETRIC DATA ELEMENTS */
BANDWIDTH = 76.0
CENTER_FILTER_WAVELENGTH = 444.0
RADIANCE_OFFSET = 0.0
RADIANCE_SCALING_FACTOR = 0.00648636
REFLECTANCE_SCALING_FACTOR = 0.000388436
MEX:REFLECTANCE_OFFSET = 0.0
/* IMAGE OBJECT DEFINITIONS */
OBJECT = IMAGE
  INTERCHANGE_FORMAT = BINARY
  LINES = 7098
  LINE_SAMPLES = 5461
  SAMPLE_TYPE = UNSIGNED_INTEGER
  SAMPLE_BITS = 8
  BANDS = 1
  BAND_STORAGE_TYPE = BAND_SEQUENTIAL
  MAXIMUM = 255
  MEAN = 85.5411
  MINIMUM = 1
  STANDARD_DEVIATION = 46.2439
END_OBJECT = IMAGE
/* MAP OBJECT DEFINITIONS */
OBJECT = IMAGE_MAP_PROJECTION
  ^DATA_SET_MAP_PROJECTION_CATALOG= "DSMAP.CAT"
  A_AXIS_RADIUS = 3396.0
  B_AXIS_RADIUS = 3396.0
  C_AXIS_RADIUS = 3396.0
  CENTER_LATITUDE = 5.83273
  CENTER_LONGITUDE = 90.2123
  COORDINATE_SYSTEM_NAME = PLANETOGRAPHIC
  COORDINATE_SYSTEM_TYPE = "BODY-FIXED ROTATING"
  EASTERNMOST_LONGITUDE = 135.96
  FIRST_STANDARD_PARALLEL = "N/A"
  LINE_FIRST_PIXEL = 1
  LINE_LAST_PIXEL = 7098
  LINE_PROJECTION_OFFSET = 3504.25
  MAP_PROJECTION_ROTATION = 0.0
  MAP_PROJECTION_TYPE = ORTHOGRAPHIC
  MAP_RESOLUTION = 74.08922548333329
  MAP_SCALE = 0.8
  MAXIMUM_LATITUDE = 59.0752
  MINIMUM_LATITUDE = -55.6515
  POSITIVE_LONGITUDE_DIRECTION = EAST
  REFERENCE_LATITUDE = "N/A"
  REFERENCE_LONGITUDE = "N/A"
  SAMPLE_FIRST_PIXEL = 1
  SAMPLE_LAST_PIXEL = 5461
  SAMPLE_PROJECTION_OFFSET = 3436.25
  SECOND_STANDARD_PARALLEL = "N/A"
  WESTERNMOST_LONGITUDE = 30.1223
END_OBJECT = IMAGE_MAP_PROJECTION
END
