PDS_VERSION_ID = PDS3
/* FILE DATA ELEMENTS */
RECORD_TYPE = UNDEFINED
/* POINTERS TO DATA OBJECTS */
^IMAGE = ("HO865_0000_ND4.TIF")
/* IDENTIFICATION DATA ELEMENTS */
DATA_SET_ID = "MEX-M-HRSC-4-REFDR-MAPPROJECT-EXT9-V4.0"
DATA_SET_NAME = "MARS EXPRESS HRSC MAP PROJECTED REFDR EXTENSION9 V4.0"
DETECTOR_ID = MEX_HRSC_NADIR
EVENT_TYPE = "MARS-TERMINATOR-CALIBRATION-Tc"
INSTRUMENT_HOST_ID = MEX
INSTRUMENT_HOST_NAME = "MARS EXPRESS"
INSTRUMENT_ID = HRSC
INSTRUMENT_NAME = "HIGH RESOLUTION STEREO CAMERA"
MISSION_NAME = "MARS EXPRESS"
MISSION_PHASE_NAME = ME_Phase_47
PROCESSING_LEVEL_ID = 4
PRODUCT_CREATION_TIME = 2024-01-15T10:01:10.000Z
PRODUCT_ID = "HO865_0000_ND4.TIF"
RELEASE_ID = 0006
REVISION_ID = 0000
/* QUALITY DATA ELEMENTS */
DATA_QUALITY_ID = 1
DATA_QUALITY_DESC = "Data calculated based on original SPICE kernels"
/* TIME DATA ELEMENTS */
SPACECRAFT_CLOCK_START_COUNT = "1/0642430554.54806"
SPACECRAFT_CLOCK_STOP_COUNT = "1/0642430977.54805"
START_TIME = 2023-09-10T12:58:20.000Z
STOP_TIME = 2023-09-10T13:01:14.923Z
/* ORBITAL DATA ELEMENTS */
ASCENDING_NODE_LONGITUDE = 112.3
MAXIMUM_RESOLUTION = 0.4126
FOOTPRINT_POINT_LATITUDE = (-48.7238,-48.6934,-47.2722,-44.3776, -41.0148,-38.5419,-35.9389,-33.0997, -29.8612,-26.1509,-27.7421,-29.2375, -30.1351,-30.6296,-31.0549,-31.0982, -31.0175,-30.824,-30.4393,-29.5798, -28.939,-28.238,-27.2876,-26.0116, -24.6296,-23.6492,-21.9574,-19.1209, -17.5063,-14.6573,-11.2847,-8.55696, -6.59493,-4.33078,-2.45215,0.534726, 3.49661,5.43567,8.52062,10.4279,13.5891 ,15.575,15.655,15.6622,11.818,9.98938, 6.56579,4.55292,2.16561,0.325958, -2.30583,-3.50485,-4.50468,-6.26921, -7.15368,-7.76323,-7.78222,-7.80042, -11.6514,-14.7408,-17.7887,-21.3547, -24.2043,-26.4044,-28.2415,-30.2171, -32.6203,-35.3717,-37.4357,-39.9023, -42.9961,-44.7817,-46.5399,-49.3531, -51.4365,-53.6881,-56.8678,-59.7763, -63.1025,-65.3694,-67.0312,-68.4427, -70.4319,-72.2592,-73.5946,-74.3754, -74.2741,-73.6374,-72.0263,-70.6996, -67.5172,-64.334,-62.4126,-59.7379, -58.7273,-56.1672,-54.6948,-51.5557, -51.0293,-48.7238)
FOOTPRINT_POINT_LONGITUDE = (174.443,174.506,172.76,170.929,167.633 ,165.945,165.573,162.676,162.034, 160.378,155.875,150.414,145.781,142.148 ,136.323,133.729,130.4,127.552,124.032, 118.958,116.139,113.531,110.504,107.039 ,103.813,101.774,98.6074,94.014,91.7246 ,88.0855,84.2959,81.5737,79.7474, 77.7673,76.2094,73.8789,71.7182,70.3738 ,68.3373,67.1168,65.1898,64.0199, 63.9734,63.9691,61.1797,59.6877,56.546, 54.44,51.6332,49.175,45.0078,42.741, 40.6023,35.9856,32.8494,30.0784,29.9695 ,29.9182,33.3297,35.9716,38.5078, 41.4109,43.713,45.4768,46.9388,48.5454, 50.4787,52.6921,54.4229,56.5511,59.3143 ,60.9787,62.6779,65.5305,67.7969,70.438 ,74.5858,78.9144,84.8664,89.7557, 94.1185,98.4056,106.008,115.764,127.263 ,142.359,156.501,167.359,180.775, 187.869,191.538,190.999,184.538,184.389 ,180.667,180.468,177.845,176.456, 174.935,174.443)
ORBIT_NUMBER = 24865
ORBITAL_ECCENTRICITY = 0.573
ORBITAL_INCLINATION = 87.07
ORBITAL_SEMIMAJOR_AXIS = 8837.23
PERIAPSIS_ALTITUDE = 381.83
PERIAPSIS_ARGUMENT_ANGLE = 20.76
PERIAPSIS_TIME = 2023-09-10T16:03:21.000Z
SPACECRAFT_ORIENTATION = (0.0,1.0,0.0)
^MEX_ORIENTATION_DESC = "MEX_ORIENTATION_DESC.TXT"
SPACECRAFT_POINTING_MODE = FIXED
^MEX_POINTING_DESC = "MEX_POINTING_DESC.TXT"
RIGHT_ASCENSION = -1e+32
DECLINATION = -1e+32
OFFSET_ANGLE = -1e+32
SPACECRAFT_SOLAR_DISTANCE = 2.4168e+08
TARGET_NAME = MARS
/* CAMERA DATA ELEMENTS */
DETECTOR_TEMPERATURE = 0.0
FOCAL_PLANE_TEMPERATURE = 0.0
INST_CMPRS_NAME = "DISCRETE COSINE TRANSFORMATION (DCT)"
INST_CMPRS_RATIO = 7.24174
INST_CMPRS_QUALITY = 0
INST_CMPRS_QUANTZ_TBL_ID = 0
INSTRUMENT_TEMPERATURE = 0.0
LENS_TEMPERATURE = 0.0
MACROPIXEL_SIZE = 1
MISSING_FRAMES = 0
PIXEL_SUBSAMPLING_FLAG = N
SIGNAL_CHAIN_ID = 0
/* RADIOMETRIC DATA ELEMENTS */
BANDWIDTH = 177.0
CENTER_FILTER_WAVELENGTH = 677.5
RADIANCE_OFFSET = 0.0
RADIANCE_SCALING_FACTOR = 0.0263485
REFLECTANCE_SCALING_FACTOR = 0.000817691
MEX:REFLECTANCE_OFFSET = 0.0
/* IMAGE OBJECT DEFINITIONS */
OBJECT = IMAGE
  INTERCHANGE_FORMAT = BINARY
  LINES = 13474
  LINE_SAMPLES = 13800
  SAMPLE_TYPE = UNSIGNED_INTEGER
  SAMPLE_BITS = 8
  BANDS = 1
  BAND_STORAGE_TYPE = BAND_SEQUENTIAL
  MAXIMUM = 255
  MEAN = 104.028
  MINIMUM = 1
  STANDARD_DEVIATION = 55.2059
END_OBJECT = IMAGE
/* MAP OBJECT DEFINITIONS */
OBJECT = IMAGE_MAP_PROJECTION
  ^DATA_SET_MAP_PROJECTION_CATALOG= "DSMAP.CAT"
  A_AXIS_RADIUS = 3396.0
  B_AXIS_RADIUS = 3396.0
  C_AXIS_RADIUS = 3396.0
  CENTER_LATITUDE = -32.1266
  CENTER_LONGITUDE = 78.8463
  COORDINATE_SYSTEM_NAME = PLANETOGRAPHIC
  COORDINATE_SYSTEM_TYPE = "BODY-FIXED ROTATING"
  EASTERNMOST_LONGITUDE = 191.538
  FIRST_STANDARD_PARALLEL = "N/A"
  LINE_FIRST_PIXEL = 1
  LINE_LAST_PIXEL = 13474
  LINE_PROJECTION_OFFSET = 6169.0
  MAP_PROJECTION_ROTATION = 0.0
  MAP_PROJECTION_TYPE = ORTHOGRAPHIC
  MAP_RESOLUTION = 148.178450966667
  MAP_SCALE = 0.4
  MAXIMUM_LATITUDE = 15.6622
  MINIMUM_LATITUDE = -74.3754
  POSITIVE_LONGITUDE_DIRECTION = EAST
  REFERENCE_LATITUDE = "N/A"
  REFERENCE_LONGITUDE = "N/A"
  SAMPLE_FIRST_PIXEL = 1
  SAMPLE_LAST_PIXEL = 13800
  SAMPLE_PROJECTION_OFFSET = 6369.0
  SECOND_STANDARD_PARALLEL = "N/A"
  WESTERNMOST_LONGITUDE = 29.9182
END_OBJECT = IMAGE_MAP_PROJECTION
END
