PDS_VERSION_ID = PDS3
/* FILE DATA ELEMENTS */
RECORD_TYPE = UNDEFINED
/* POINTERS TO DATA OBJECTS */
^IMAGE = ("HO852_0000_BL4.TIF")
/* IDENTIFICATION DATA ELEMENTS */
DATA_SET_ID = "MEX-M-HRSC-4-REFDR-MAPPROJECT-EXT9-V4.0"
DATA_SET_NAME = "MARS EXPRESS HRSC MAP PROJECTED REFDR EXTENSION9 V4.0"
DETECTOR_ID = MEX_HRSC_BLUE
EVENT_TYPE = "MARS-TERMINATOR-CALIBRATION-Tc"
INSTRUMENT_HOST_ID = MEX
INSTRUMENT_HOST_NAME = "MARS EXPRESS"
INSTRUMENT_ID = HRSC
INSTRUMENT_NAME = "HIGH RESOLUTION STEREO CAMERA"
MISSION_NAME = "MARS EXPRESS"
MISSION_PHASE_NAME = ME_Phase_47
PROCESSING_LEVEL_ID = 4
PRODUCT_CREATION_TIME = 2024-01-15T10:01:10.000Z
PRODUCT_ID = "HO852_0000_BL4.TIF"
RELEASE_ID = 0006
REVISION_ID = 0000
/* QUALITY DATA ELEMENTS */
DATA_QUALITY_ID = 1
DATA_QUALITY_DESC = "Data calculated based on original SPICE kernels"
/* TIME DATA ELEMENTS */
SPACECRAFT_CLOCK_START_COUNT = "1/0642104719.25683"
SPACECRAFT_CLOCK_STOP_COUNT = "1/0642105148.26674"
START_TIME = 2023-09-06T18:28:07.607Z
STOP_TIME = 2023-09-06T18:31:36.533Z
/* ORBITAL DATA ELEMENTS */
ASCENDING_NODE_LONGITUDE = 112.53
MAXIMUM_RESOLUTION = 0.8018
FOOTPRINT_POINT_LATITUDE = (-44.1279,-44.104,-42.5777,-40.4658, -38.2338,-35.2587,-32.8943,-29.3565, -24.7117,-25.864,-27.0544,-28.5184, -30.1393,-31.065,-31.797,-32.4646, -32.9345,-33.1578,-33.2357,-33.1352, -32.8494,-32.1269,-30.59,-29.7579, -27.245,-25.1861,-23.6522,-20.292, -16.6328,-14.2543,-10.4876,-6.74945, -3.57245,-1.06333,1.11836,3.36489, 5.64786,8.60828,12.0667,16.3123,18.965, 22.277,25.0259,29.1361,33.3009,31.1153, 29.6022,29.416,27.3364,25.5446,24.5609, 24.0209,21.4494,20.8371,21.126,20.6616, 16.9939,15.3943,12.0377,8.57684,5.89403 ,2.9934,-0.0277066,-3.64756,-7.91152, -11.7274,-14.7608,-17.4442,-19.8845, -22.1438,-25.9071,-30.0465,-32.4802, -36.2609,-39.6817,-42.3223,-46.1622, -48.6386,-52.3413,-54.9784,-57.0067, -59.0104,-62.1247,-65.055,-67.0917, -69.0752,-71.1837,-72.9528,-73.5045, -73.3372,-72.0831,-70.6842,-68.3262, -66.4077,-63.8883,-59.6736,-55.8518, -51.761,-47.8125,-44.1279)
FOOTPRINT_POINT_LONGITUDE = (422.934,422.939,420.374,418.561, 416.126,411.584,409.966,409.231,406.867 ,402.505,399.959,396.416,391.619, 388.251,384.979,381.087,377.064,373.745 ,369.494,366.329,362.576,357.345, 350.516,347.738,341.137,336.882,334.107 ,328.949,324.241,321.572,317.788,314.47 ,311.915,310.036,308.483,306.962, 305.473,303.638,301.594,299.198,297.755 ,295.994,294.562,292.443,290.316, 285.734,283.261,280.251,276.244,274.226 ,272.661,270.74,270.3,267.144,266.612, 266.792,263.218,260.663,259.345,256.154 ,251.616,254.022,257.278,260.932, 264.957,268.333,270.935,273.19,275.213, 277.071,280.162,283.6,285.647,288.857, 291.913,294.362,298.123,300.712,304.961 ,308.408,311.243,314.412,320.056,326.67 ,332.433,339.558,350.142,365.837, 378.423,392.428,408.365,417.78,428.287, 434.484,440.899,441.258,432.93,428.351, 425.997,422.934)
ORBIT_NUMBER = 24852
ORBITAL_ECCENTRICITY = 0.573
ORBITAL_INCLINATION = 87.07
ORBITAL_SEMIMAJOR_AXIS = 8840.02
PERIAPSIS_ALTITUDE = 382.83
PERIAPSIS_ARGUMENT_ANGLE = 22.98
PERIAPSIS_TIME = 2023-09-06T21:15:42.000Z
SPACECRAFT_ORIENTATION = (0.0,1.0,0.0)
^MEX_ORIENTATION_DESC = "MEX_ORIENTATION_DESC.TXT"
SPACECRAFT_POINTING_MODE = FIXED
^MEX_POINTING_DESC = "MEX_POINTING_DESC.TXT"
RIGHT_ASCENSION = -1e+32
DECLINATION = -1e+32
OFFSET_ANGLE = -1e+32
SPACECRAFT_SOLAR_DISTANCE = 2.42203e+08
TARGET_NAME = MARS
/* CAMERA DATA ELEMENTS */
DETECTOR_TEMPERATURE = 18.7783
FOCAL_PLANE_TEMPERATURE = 9.3989
INST_CMPRS_NAME = "DISCRETE COSINE TRANSFORMATION (DCT)"
INST_CMPRS_RATIO = 8.0175
INST_CMPRS_QUALITY = 0
INST_CMPRS_QUANTZ_TBL_ID = 0
INSTRUMENT_TEMPERATURE = 11.4379
LENS_TEMPERATURE = 9.8067
MACROPIXEL_SIZE = 2
MISSING_FRAMES = 0
PIXEL_SUBSAMPLING_FLAG = N
SIGNAL_CHAIN_ID = 2
/* RADIOMETRIC DATA ELEMENTS */
BANDWIDTH = 76.0
CENTER_FILTER_WAVELENGTH = 444.0
RADIANCE_OFFSET = 0.0
RADIANCE_SCALING_FACTOR = 0.00716935
REFLECTANCE_SCALING_FACTOR = 0.000432166
MEX:REFLECTANCE_OFFSET = 0.0
/* IMAGE OBJECT DEFINITIONS */
OBJECT = IMAGE
  INTERCHANGE_FORMAT = BINARY
  LINES = 7387
  LINE_SAMPLES = 7681
  SAMPLE_TYPE = UNSIGNED_INTEGER
  SAMPLE_BITS = 8
  BANDS = 1
  BAND_STORAGE_TYPE = BAND_SEQUENTIAL
  MAXIMUM = 255
  MEAN = 78.1354
  MINIMUM = 1
  STANDARD_DEVIATION = 57.2158
END_OBJECT = IMAGE
/* MAP OBJECT DEFINITIONS */
OBJECT = IMAGE_MAP_PROJECTION
  ^DATA_SET_MAP_PROJECTION_CATALOG= "DSMAP.CAT"
  A_AXIS_RADIUS = 3396.0
  B_AXIS_RADIUS = 3396.0
  C_AXIS_RADIUS = 3396.0
  CENTER_LATITUDE = -35.2774
  CENTER_LONGITUDE = 318.183
  COORDINATE_SYSTEM_NAME = PLANETOGRAPHIC
  COORDINATE_SYSTEM_TYPE = "BODY-FIXED ROTATING"
  EASTERNMOST_LONGITUDE = 81.258
  FIRST_STANDARD_PARALLEL = "N/A"
  LINE_FIRST_PIXEL = 1
  LINE_LAST_PIXEL = 7387
  LINE_PROJECTION_OFFSET = 3697.25
  MAP_PROJECTION_ROTATION = 0.0
  MAP_PROJECTION_TYPE = ORTHOGRAPHIC
  MAP_RESOLUTION = 74.08922548333329
  MAP_SCALE = 0.8
  MAXIMUM_LATITUDE = 33.3009
  MINIMUM_LATITUDE = -73.50449999999999
  POSITIVE_LONGITUDE_DIRECTION = EAST
  REFERENCE_LATITUDE = "N/A"
  REFERENCE_LONGITUDE = "N/A"
  SAMPLE_FIRST_PIXEL = 1
  SAMPLE_LAST_PIXEL = 7681
  SAMPLE_PROJECTION_OFFSET = 3848.25
  SECOND_STANDARD_PARALLEL = "N/A"
  WESTERNMOST_LONGITUDE = -108.384
END_OBJECT = IMAGE_MAP_PROJECTION
END
