PDS_VERSION_ID = PDS3
/* FILE DATA ELEMENTS */
RECORD_TYPE = UNDEFINED
/* POINTERS TO DATA OBJECTS */
^IMAGE = ("HO809_0000_RE4.TIF")
/* IDENTIFICATION DATA ELEMENTS */
DATA_SET_ID = "MEX-M-HRSC-4-REFDR-MAPPROJECT-EXT9-V4.0"
DATA_SET_NAME = "MARS EXPRESS HRSC MAP PROJECTED REFDR EXTENSION9 V4.0"
DETECTOR_ID = MEX_HRSC_RED
EVENT_TYPE = "MARS-TERMINATOR-CALIBRATION-Tc"
INSTRUMENT_HOST_ID = MEX
INSTRUMENT_HOST_NAME = "MARS EXPRESS"
INSTRUMENT_ID = HRSC
INSTRUMENT_NAME = "HIGH RESOLUTION STEREO CAMERA"
MISSION_NAME = "MARS EXPRESS"
MISSION_PHASE_NAME = ME_Phase_47
PROCESSING_LEVEL_ID = 4
PRODUCT_CREATION_TIME = 2024-01-15T10:01:10.000Z
PRODUCT_ID = "HO809_0000_RE4.TIF"
RELEASE_ID = 0006
REVISION_ID = 0000
/* QUALITY DATA ELEMENTS */
DATA_QUALITY_ID = 1
DATA_QUALITY_DESC = "Data calculated based on original SPICE kernels"
/* TIME DATA ELEMENTS */
SPACECRAFT_CLOCK_START_COUNT = "1/0641037137.24916"
SPACECRAFT_CLOCK_STOP_COUNT = "1/0641037592.39916"
START_TIME = 2023-08-25T09:57:28.520Z
STOP_TIME = 2023-08-25T10:00:02.887Z
/* ORBITAL DATA ELEMENTS */
ASCENDING_NODE_LONGITUDE = 113.28
MAXIMUM_RESOLUTION = 0.4049
FOOTPRINT_POINT_LATITUDE = (15.2061,15.4011,15.5309,15.6378, 15.7228,15.7859,15.8276,15.8474,15.8458 ,15.8227,15.7778,15.7108,15.5675, 15.5531,15.5207,16.4726,17.7252,18.9566 ,20.1733,21.3768,22.5711,23.4573, 24.6438,25.8233,27.004,28.1863,29.3732, 30.5668,31.7699,32.9848,34.2144,35.4616 ,36.7294,38.0209,39.3403,40.6916, 42.0792,42.7884,43.5088,44.2407,44.986, 45.7443,46.9098,47.3065,47.4113,47.4547 ,47.485,47.511,47.5375,47.5525,47.5632, 47.5737,47.5721,47.5666,47.5564,47.5434 ,47.5251,47.5029,47.4764,47.4455, 47.4106,47.3706,47.3283,47.2802,47.2281 ,47.1269,47.0615,46.9745,46.9563, 46.9484,46.166,45.3993,44.6464,43.9069, 43.1799,42.4646,41.0655,39.7045,38.377, 37.0785,35.8087,34.864,33.626,32.4045, 31.1963,29.999,28.8098,27.6265,26.4465, 25.2676,24.0872,22.9032,21.7127,20.5136 ,19.3023,18.0769,16.8332,15.5685, 15.2483,15.2061)
FOOTPRINT_POINT_LONGITUDE = (321.655,323.429,324.835,326.232, 327.623,329.012,330.398,331.783,333.169 ,334.559,335.955,337.36,339.491,339.67, 339.745,339.73,339.718,339.716,339.724, 339.742,339.768,339.802,339.841,339.899 ,339.964,340.043,340.133,340.236, 340.354,340.487,340.637,340.807,340.997 ,341.211,341.451,341.722,342.028, 342.196,342.375,342.566,342.77,342.988, 343.346,343.474,343.509,342.124,341.016 ,339.915,338.547,337.458,336.374, 334.487,333.145,332.073,331.002,329.933 ,328.865,327.795,326.726,325.655, 324.584,323.511,322.437,321.361,320.28, 318.379,317.287,315.913,315.637,315.538 ,315.858,316.158,316.441,316.707, 316.959,317.197,317.637,318.035,318.395 ,318.723,319.017,319.232,319.49,319.728 ,319.947,320.149,320.337,320.51,320.669 ,320.817,320.952,321.077,321.191, 321.295,321.389,321.473,321.548,321.613 ,321.627,321.655)
ORBIT_NUMBER = 24809
ORBITAL_ECCENTRICITY = 0.572
ORBITAL_INCLINATION = 87.08
ORBITAL_SEMIMAJOR_AXIS = 8819.89
PERIAPSIS_ALTITUDE = 388.07
PERIAPSIS_ARGUMENT_ANGLE = 30.41
PERIAPSIS_TIME = 2023-08-25T08:56:38.000Z
SPACECRAFT_ORIENTATION = (0.0,1.0,0.0)
^MEX_ORIENTATION_DESC = "MEX_ORIENTATION_DESC.TXT"
SPACECRAFT_POINTING_MODE = FIXED
^MEX_POINTING_DESC = "MEX_POINTING_DESC.TXT"
RIGHT_ASCENSION = -1e+32
DECLINATION = -1e+32
OFFSET_ANGLE = -1e+32
SPACECRAFT_SOLAR_DISTANCE = 2.43812e+08
TARGET_NAME = MARS
/* CAMERA DATA ELEMENTS */
DETECTOR_TEMPERATURE = 18.3705
FOCAL_PLANE_TEMPERATURE = 8.5833
INST_CMPRS_NAME = "DISCRETE COSINE TRANSFORMATION (DCT)"
INST_CMPRS_RATIO = 11.6236
INST_CMPRS_QUALITY = 0
INST_CMPRS_QUANTZ_TBL_ID = 0
INSTRUMENT_TEMPERATURE = 11.6418
LENS_TEMPERATURE = 8.7872
MACROPIXEL_SIZE = 2
MISSING_FRAMES = 0
PIXEL_SUBSAMPLING_FLAG = N
SIGNAL_CHAIN_ID = 1
/* RADIOMETRIC DATA ELEMENTS */
BANDWIDTH = 48.0
CENTER_FILTER_WAVELENGTH = 748.0
RADIANCE_OFFSET = 0.688414
RADIANCE_SCALING_FACTOR = 0.00517435
REFLECTANCE_SCALING_FACTOR = 0.000701901
MEX:REFLECTANCE_OFFSET = 0.0933833
/* IMAGE OBJECT DEFINITIONS */
OBJECT = IMAGE
  INTERCHANGE_FORMAT = BINARY
  LINES = 4532
  LINE_SAMPLES = 2844
  SAMPLE_TYPE = UNSIGNED_INTEGER
  SAMPLE_BITS = 8
  BANDS = 1
  BAND_STORAGE_TYPE = BAND_SEQUENTIAL
  MAXIMUM = 255
  MEAN = 101.499
  MINIMUM = 1
  STANDARD_DEVIATION = 32.7429
END_OBJECT = IMAGE
/* MAP OBJECT DEFINITIONS */
OBJECT = IMAGE_MAP_PROJECTION
  ^DATA_SET_MAP_PROJECTION_CATALOG= "DSMAP.CAT"
  A_AXIS_RADIUS = 3396.0
  B_AXIS_RADIUS = 3396.0
  C_AXIS_RADIUS = 3396.0
  CENTER_LATITUDE = 30.8492
  CENTER_LONGITUDE = 330.448
  COORDINATE_SYSTEM_NAME = PLANETOGRAPHIC
  COORDINATE_SYSTEM_TYPE = "BODY-FIXED ROTATING"
  EASTERNMOST_LONGITUDE = 343.509
  FIRST_STANDARD_PARALLEL = "N/A"
  LINE_FIRST_PIXEL = 1
  LINE_LAST_PIXEL = 4532
  LINE_PROJECTION_OFFSET = 2348.0
  MAP_PROJECTION_ROTATION = 0.0
  MAP_PROJECTION_TYPE = ORTHOGRAPHIC
  MAP_RESOLUTION = 148.178450966667
  MAP_SCALE = 0.4
  MAXIMUM_LATITUDE = 47.5737
  MINIMUM_LATITUDE = 15.2061
  POSITIVE_LONGITUDE_DIRECTION = EAST
  REFERENCE_LATITUDE = "N/A"
  REFERENCE_LONGITUDE = "N/A"
  SAMPLE_FIRST_PIXEL = 1
  SAMPLE_LAST_PIXEL = 2844
  SAMPLE_PROJECTION_OFFSET = 1459.0
  SECOND_STANDARD_PARALLEL = "N/A"
  WESTERNMOST_LONGITUDE = 315.538
END_OBJECT = IMAGE_MAP_PROJECTION
END
