PDS_VERSION_ID = PDS3
/* FILE DATA ELEMENTS */
RECORD_TYPE = UNDEFINED
/* POINTERS TO DATA OBJECTS */
^IMAGE = ("HO809_0000_P24.TIF")
/* IDENTIFICATION DATA ELEMENTS */
DATA_SET_ID = "MEX-M-HRSC-4-REFDR-MAPPROJECT-EXT9-V4.0"
DATA_SET_NAME = "MARS EXPRESS HRSC MAP PROJECTED REFDR EXTENSION9 V4.0"
DETECTOR_ID = MEX_HRSC_P2
EVENT_TYPE = "MARS-TERMINATOR-CALIBRATION-Tc"
INSTRUMENT_HOST_ID = MEX
INSTRUMENT_HOST_NAME = "MARS EXPRESS"
INSTRUMENT_ID = HRSC
INSTRUMENT_NAME = "HIGH RESOLUTION STEREO CAMERA"
MISSION_NAME = "MARS EXPRESS"
MISSION_PHASE_NAME = ME_Phase_47
PROCESSING_LEVEL_ID = 4
PRODUCT_CREATION_TIME = 2024-01-15T10:01:10.000Z
PRODUCT_ID = "HO809_0000_P24.TIF"
RELEASE_ID = 0006
REVISION_ID = 0000
/* QUALITY DATA ELEMENTS */
DATA_QUALITY_ID = 1
DATA_QUALITY_DESC = "Data calculated based on original SPICE kernels"
/* TIME DATA ELEMENTS */
SPACECRAFT_CLOCK_START_COUNT = "1/0641037137.24916"
SPACECRAFT_CLOCK_STOP_COUNT = "1/0641037592.39916"
START_TIME = 2023-08-25T09:57:04.560Z
STOP_TIME = 2023-08-25T09:59:38.885Z
/* ORBITAL DATA ELEMENTS */
ASCENDING_NODE_LONGITUDE = 113.28
MAXIMUM_RESOLUTION = 0.8054
FOOTPRINT_POINT_LATITUDE = (15.394,15.5343,15.6732,15.7902,15.8859 ,15.9606,16.0149,16.0486,16.0618, 16.0545,16.0269,15.9784,15.909,15.7777, 15.7637,15.732,16.679,17.9239,19.1481, 20.3557,21.2533,22.442,23.9119,25.0883, 26.2584,27.43,28.6039,29.7824,30.9678, 32.1629,33.3701,34.5921,35.8319,37.0924 ,38.3753,39.6887,41.0325,42.4131, 43.1185,43.8352,44.5639,45.3049,46.0599 ,46.8293,47.2198,47.3109,47.3537, 47.3836,47.4106,47.4353,47.4527,47.4645 ,47.4754,47.4757,47.4654,47.4396, 47.3914,47.3308,47.2949,47.2541,47.2101 ,47.1613,47.1091,47.0519,46.9905, 46.9253,46.8549,46.8366,46.8283,46.0581 ,45.303,44.5611,43.8318,43.1148,42.4092 ,41.7135,41.0278,39.6836,38.3715, 37.0873,35.83,34.8958,33.6699,32.4599, 31.2627,30.0757,28.8965,27.7227,26.5519 ,25.3818,24.2099,23.0341,21.8515,20.66, 19.4564,18.2382,17.0016,15.7438,15.4255 ,15.394)
FOOTPRINT_POINT_LONGITUDE = (321.619,322.826,324.194,325.552, 326.903,328.25,329.595,330.938,332.281, 333.626,334.974,336.33,337.694,339.587, 339.76,339.821,339.806,339.793,339.791, 339.8,339.812,339.835,339.885,339.927, 339.988,340.056,340.136,340.227,340.332 ,340.452,340.588,340.741,340.913, 341.106,341.32,341.565,341.84,342.149, 342.319,342.5,342.694,342.9,343.121, 343.358,343.483,343.513,342.192,341.124 ,340.064,338.743,337.693,336.646, 334.824,333.787,331.719,329.656,327.336 ,325.272,324.239,323.205,322.168, 321.128,320.086,319.04,317.99,316.933, 315.871,315.605,315.517,315.833,316.13, 316.411,316.676,316.926,317.162,317.387 ,317.6,317.996,318.355,318.682,318.977, 319.19,319.449,319.687,319.906,320.109, 320.297,320.47,320.63,320.778,320.913, 321.039,321.153,321.257,321.352,321.436 ,321.511,321.576,321.591,321.619)
ORBIT_NUMBER = 24809
ORBITAL_ECCENTRICITY = 0.572
ORBITAL_INCLINATION = 87.08
ORBITAL_SEMIMAJOR_AXIS = 8819.89
PERIAPSIS_ALTITUDE = 388.07
PERIAPSIS_ARGUMENT_ANGLE = 30.41
PERIAPSIS_TIME = 2023-08-25T08:56:38.000Z
SPACECRAFT_ORIENTATION = (0.0,1.0,0.0)
^MEX_ORIENTATION_DESC = "MEX_ORIENTATION_DESC.TXT"
SPACECRAFT_POINTING_MODE = FIXED
^MEX_POINTING_DESC = "MEX_POINTING_DESC.TXT"
RIGHT_ASCENSION = -1e+32
DECLINATION = -1e+32
OFFSET_ANGLE = -1e+32
SPACECRAFT_SOLAR_DISTANCE = 2.43812e+08
TARGET_NAME = MARS
/* CAMERA DATA ELEMENTS */
DETECTOR_TEMPERATURE = 18.3705
FOCAL_PLANE_TEMPERATURE = 8.5833
INST_CMPRS_NAME = "DISCRETE COSINE TRANSFORMATION (DCT)"
INST_CMPRS_RATIO = 15.0977
INST_CMPRS_QUALITY = 0
INST_CMPRS_QUANTZ_TBL_ID = 0
INSTRUMENT_TEMPERATURE = 11.6418
LENS_TEMPERATURE = 8.7872
MACROPIXEL_SIZE = 4
MISSING_FRAMES = 0
PIXEL_SUBSAMPLING_FLAG = N
SIGNAL_CHAIN_ID = 3
/* RADIOMETRIC DATA ELEMENTS */
BANDWIDTH = 177.0
CENTER_FILTER_WAVELENGTH = 676.5
RADIANCE_OFFSET = 2.66191
RADIANCE_SCALING_FACTOR = 0.0180308
REFLECTANCE_SCALING_FACTOR = 0.000568286
MEX:REFLECTANCE_OFFSET = 0.0838969
/* IMAGE OBJECT DEFINITIONS */
OBJECT = IMAGE
  INTERCHANGE_FORMAT = BINARY
  LINES = 2266
  LINE_SAMPLES = 1422
  SAMPLE_TYPE = UNSIGNED_INTEGER
  SAMPLE_BITS = 8
  BANDS = 1
  BAND_STORAGE_TYPE = BAND_SEQUENTIAL
  MAXIMUM = 255
  MEAN = 107.744
  MINIMUM = 3
  STANDARD_DEVIATION = 34.1184
END_OBJECT = IMAGE
/* MAP OBJECT DEFINITIONS */
OBJECT = IMAGE_MAP_PROJECTION
  ^DATA_SET_MAP_PROJECTION_CATALOG= "DSMAP.CAT"
  A_AXIS_RADIUS = 3396.0
  B_AXIS_RADIUS = 3396.0
  C_AXIS_RADIUS = 3396.0
  CENTER_LATITUDE = 30.8492
  CENTER_LONGITUDE = 330.448
  COORDINATE_SYSTEM_NAME = PLANETOGRAPHIC
  COORDINATE_SYSTEM_TYPE = "BODY-FIXED ROTATING"
  EASTERNMOST_LONGITUDE = 343.513
  FIRST_STANDARD_PARALLEL = "N/A"
  LINE_FIRST_PIXEL = 1
  LINE_LAST_PIXEL = 2266
  LINE_PROJECTION_OFFSET = 1173.75
  MAP_PROJECTION_ROTATION = 0.0
  MAP_PROJECTION_TYPE = ORTHOGRAPHIC
  MAP_RESOLUTION = 74.08922548333329
  MAP_SCALE = 0.8
  MAXIMUM_LATITUDE = 47.4757
  MINIMUM_LATITUDE = 15.394
  POSITIVE_LONGITUDE_DIRECTION = EAST
  REFERENCE_LATITUDE = "N/A"
  REFERENCE_LONGITUDE = "N/A"
  SAMPLE_FIRST_PIXEL = 1
  SAMPLE_LAST_PIXEL = 1422
  SAMPLE_PROJECTION_OFFSET = 729.25
  SECOND_STANDARD_PARALLEL = "N/A"
  WESTERNMOST_LONGITUDE = 315.517
END_OBJECT = IMAGE_MAP_PROJECTION
END
