PDS_VERSION_ID = PDS3
/* FILE DATA ELEMENTS */
RECORD_TYPE = UNDEFINED
/* POINTERS TO DATA OBJECTS */
^IMAGE = ("HO806_0000_S14.TIF")
/* IDENTIFICATION DATA ELEMENTS */
DATA_SET_ID = "MEX-M-HRSC-4-REFDR-MAPPROJECT-EXT9-V4.0"
DATA_SET_NAME = "MARS EXPRESS HRSC MAP PROJECTED REFDR EXTENSION9 V4.0"
DETECTOR_ID = MEX_HRSC_S1
EVENT_TYPE = "MARS-TERMINATOR-CALIBRATION-Tc"
INSTRUMENT_HOST_ID = MEX
INSTRUMENT_HOST_NAME = "MARS EXPRESS"
INSTRUMENT_ID = HRSC
INSTRUMENT_NAME = "HIGH RESOLUTION STEREO CAMERA"
MISSION_NAME = "MARS EXPRESS"
MISSION_PHASE_NAME = ME_Phase_47
PROCESSING_LEVEL_ID = 4
PRODUCT_CREATION_TIME = 2024-01-15T10:01:10.000Z
PRODUCT_ID = "HO806_0000_S14.TIF"
RELEASE_ID = 0006
REVISION_ID = 0000
/* QUALITY DATA ELEMENTS */
DATA_QUALITY_ID = 1
DATA_QUALITY_DESC = "Data calculated based on original SPICE kernels"
/* TIME DATA ELEMENTS */
SPACECRAFT_CLOCK_START_COUNT = "1/0640963664.25026"
SPACECRAFT_CLOCK_STOP_COUNT = "1/0640963999.30669"
START_TIME = 2023-08-24T13:28:20.576Z
STOP_TIME = 2023-08-24T13:29:23.820Z
/* ORBITAL DATA ELEMENTS */
ASCENDING_NODE_LONGITUDE = 113.33
MAXIMUM_RESOLUTION = 1.1132
FOOTPRINT_POINT_LATITUDE = (-0.82425,0.00893462,0.551411,1.08443, 1.60848,2.12408,2.63165,3.13204,3.62579 ,4.11309,4.59443,5.07007,5.54049, 6.00561,6.46548,6.92059,7.37138,7.81812 ,8.26111,8.70073,9.13721,9.57064, 10.0008,10.428,10.8526,11.2746,11.6944, 11.799,11.8277,13.0275,14.2313,15.4409, 16.6586,17.8868,19.1284,20.3871,21.0219 ,21.6628,22.309,22.9609,23.6192,24.6196 ,25.297,25.966,26.851,27.5564,27.7343, 27.7693,27.3011,26.821,26.3434,25.8672, 25.1534,24.6755,24.1963,23.7136,23.233, 22.7536,22.2685,21.783,21.2966,20.8065, 20.3138,19.8175,19.3179,18.8141,18.3061 ,17.7932,17.2752,16.7509,16.2198, 15.6809,15.1342,14.5791,14.4387,14.3888 ,13.76,13.1359,12.5159,11.8994,11.2862, 10.6758,10.0681,9.46258,8.85898,8.25714 ,7.65661,7.05721,6.45841,5.86042, 5.26288,4.66697,4.06785,3.47676,2.8863, 1.84102,1.23367,-0.59916,-0.752031, -0.82425)
FOOTPRINT_POINT_LONGITUDE = (251.036,252.387,253.266,254.13,254.981 ,255.819,256.645,257.462,258.269, 259.067,259.858,260.642,261.419,262.191 ,262.957,263.719,264.476,265.23,265.982 ,266.732,267.481,268.229,268.976, 269.723,270.47,271.218,271.968,272.155, 272.2,271.41,270.612,269.805,268.985, 268.151,267.298,266.424,265.978,265.525 ,265.065,264.597,264.121,263.388, 262.886,262.384,261.715,261.174,261.036 ,261.009,260.182,259.341,258.499, 257.657,256.39,255.545,254.699,253.854, 253.001,252.139,251.279,250.409,249.527 ,248.637,247.736,246.825,245.901, 244.964,244.011,243.043,242.054,241.044 ,240.012,238.959,237.876,236.751, 236.464,236.372,237.2,237.991,238.747, 239.477,240.184,240.867,241.53,242.173, 242.797,243.406,243.997,244.575,245.137 ,245.688,246.227,246.76,247.272,247.799 ,248.316,249.171,249.629,250.973, 251.084,251.036)
ORBIT_NUMBER = 24806
ORBITAL_ECCENTRICITY = 0.572
ORBITAL_INCLINATION = 87.06
ORBITAL_SEMIMAJOR_AXIS = 8829.02
PERIAPSIS_ALTITUDE = 388.27
PERIAPSIS_ARGUMENT_ANGLE = 30.9
PERIAPSIS_TIME = 2023-08-24T11:59:28.000Z
SPACECRAFT_ORIENTATION = (0.0,1.0,0.0)
^MEX_ORIENTATION_DESC = "MEX_ORIENTATION_DESC.TXT"
SPACECRAFT_POINTING_MODE = FIXED
^MEX_POINTING_DESC = "MEX_POINTING_DESC.TXT"
RIGHT_ASCENSION = -1e+32
DECLINATION = -1e+32
OFFSET_ANGLE = -1e+32
SPACECRAFT_SOLAR_DISTANCE = 2.43918e+08
TARGET_NAME = MARS
/* CAMERA DATA ELEMENTS */
DETECTOR_TEMPERATURE = 17.5549
FOCAL_PLANE_TEMPERATURE = 8.9911
INST_CMPRS_NAME = "DISCRETE COSINE TRANSFORMATION (DCT)"
INST_CMPRS_RATIO = 15.4362
INST_CMPRS_QUALITY = 0
INST_CMPRS_QUANTZ_TBL_ID = 0
INSTRUMENT_TEMPERATURE = 11.6418
LENS_TEMPERATURE = 8.7872
MACROPIXEL_SIZE = 4
MISSING_FRAMES = 0
PIXEL_SUBSAMPLING_FLAG = N
SIGNAL_CHAIN_ID = 3
/* RADIOMETRIC DATA ELEMENTS */
BANDWIDTH = 180.0
CENTER_FILTER_WAVELENGTH = 677.0
RADIANCE_OFFSET = 3.83644
RADIANCE_SCALING_FACTOR = 0.0274503
REFLECTANCE_SCALING_FACTOR = 0.000852017
MEX:REFLECTANCE_OFFSET = 0.119078
/* IMAGE OBJECT DEFINITIONS */
OBJECT = IMAGE
  INTERCHANGE_FORMAT = BINARY
  LINES = 2215
  LINE_SAMPLES = 2782
  SAMPLE_TYPE = UNSIGNED_INTEGER
  SAMPLE_BITS = 8
  BANDS = 1
  BAND_STORAGE_TYPE = BAND_SEQUENTIAL
  MAXIMUM = 255
  MEAN = 149.846
  MINIMUM = 1
  STANDARD_DEVIATION = 34.4923
END_OBJECT = IMAGE
/* MAP OBJECT DEFINITIONS */
OBJECT = IMAGE_MAP_PROJECTION
  ^DATA_SET_MAP_PROJECTION_CATALOG= "DSMAP.CAT"
  A_AXIS_RADIUS = 3396.0
  B_AXIS_RADIUS = 3396.0
  C_AXIS_RADIUS = 3396.0
  CENTER_LATITUDE = 12.0888
  CENTER_LONGITUDE = 254.809
  COORDINATE_SYSTEM_NAME = PLANETOGRAPHIC
  COORDINATE_SYSTEM_TYPE = "BODY-FIXED ROTATING"
  EASTERNMOST_LONGITUDE = 272.2
  FIRST_STANDARD_PARALLEL = "N/A"
  LINE_FIRST_PIXEL = 1
  LINE_LAST_PIXEL = 2215
  LINE_PROJECTION_OFFSET = 1110.25
  MAP_PROJECTION_ROTATION = 0.0
  MAP_PROJECTION_TYPE = ORTHOGRAPHIC
  MAP_RESOLUTION = 74.08922548333329
  MAP_SCALE = 0.8
  MAXIMUM_LATITUDE = 27.7693
  MINIMUM_LATITUDE = -0.82425
  POSITIVE_LONGITUDE_DIRECTION = EAST
  REFERENCE_LATITUDE = "N/A"
  REFERENCE_LONGITUDE = "N/A"
  SAMPLE_FIRST_PIXEL = 1
  SAMPLE_LAST_PIXEL = 2782
  SAMPLE_PROJECTION_OFFSET = 1598.25
  SECOND_STANDARD_PARALLEL = "N/A"
  WESTERNMOST_LONGITUDE = 236.372
END_OBJECT = IMAGE_MAP_PROJECTION
END
